BEGIN:VCALENDAR
VERSION:2.0
PRODID:-//The Athenaeum Liverpool - ECPv6.7.1//NONSGML v1.0//EN
CALSCALE:GREGORIAN
METHOD:PUBLISH
X-WR-CALNAME:The Athenaeum Liverpool
X-ORIGINAL-URL:https://theathenaeum.org.uk
X-WR-CALDESC:Events for The Athenaeum Liverpool
REFRESH-INTERVAL;VALUE=DURATION:PT1H
X-Robots-Tag:noindex
X-PUBLISHED-TTL:PT1H
BEGIN:VTIMEZONE
TZID:Europe/London
BEGIN:DAYLIGHT
TZOFFSETFROM:+0000
TZOFFSETTO:+0100
TZNAME:BST
DTSTART:20220327T010000
END:DAYLIGHT
BEGIN:STANDARD
TZOFFSETFROM:+0100
TZOFFSETTO:+0000
TZNAME:GMT
DTSTART:20221030T010000
END:STANDARD
END:VTIMEZONE
BEGIN:VEVENT
DTSTART;TZID=Europe/London:20220528T120000
DTEND;TZID=Europe/London:20220528T170000
DTSTAMP:20260422T005029
CREATED:20220520T145732Z
LAST-MODIFIED:20220520T145753Z
UID:10000999-1653739200-1653757200@theathenaeum.org.uk
SUMMARY:The Platinum Jubilee Lunch
DESCRIPTION:In association with the Alexandrian’s of Merseyside\, we are delighted to extend a warm invitation to you and your guests to a lunch on Saturday 28th May to celebrate The Queen’s Platinum Jubilee. President of the Alexandrians\, Dame Lorna Muirhead will be principal guest and speaker at this special occasion. \n  \nTimings – arrive 1200hrs  –  Lunch 12.300hrs. (reception drink) \nDress – Lounge suit \nCost – £35 per person for a 3 course lunch with tea/coffee.  Wine will not be served with the meal but can be pre-ordered in the newsroom or purchased at the table if you wish. \n  \nThe Newsroom Bar will be open after lunch. \n  \nBookings are open via the Members’ Area or through reception\, and we recommend guests book early to guarantee your place. \n  \nWe look forward to seeing you on 28th May in support of the Alexandrians’ Service Charities. \n  \nKind regards\, \n  \nJack Birley \nClub Secretary
URL:https://theathenaeum.org.uk/event/the-platinum-jubilee-lunch/
LOCATION:The Athenaeum Liverpool\, Church Alley\, Liverpool\, L1 3DD\, United Kingdom
CATEGORIES:Members & Guests
END:VEVENT
END:VCALENDAR