BEGIN:VCALENDAR
VERSION:2.0
PRODID:-//The Athenaeum Liverpool - ECPv6.7.1//NONSGML v1.0//EN
CALSCALE:GREGORIAN
METHOD:PUBLISH
X-ORIGINAL-URL:https://theathenaeum.org.uk
X-WR-CALDESC:Events for The Athenaeum Liverpool
REFRESH-INTERVAL;VALUE=DURATION:PT1H
X-Robots-Tag:noindex
X-PUBLISHED-TTL:PT1H
BEGIN:VTIMEZONE
TZID:Europe/London
BEGIN:DAYLIGHT
TZOFFSETFROM:+0000
TZOFFSETTO:+0100
TZNAME:BST
DTSTART:20220327T010000
END:DAYLIGHT
BEGIN:STANDARD
TZOFFSETFROM:+0100
TZOFFSETTO:+0000
TZNAME:GMT
DTSTART:20221030T010000
END:STANDARD
END:VTIMEZONE
BEGIN:VEVENT
DTSTART;TZID=Europe/London:20220613T113000
DTEND;TZID=Europe/London:20220613T123000
DTSTAMP:20260421T230407
CREATED:20220520T162622Z
LAST-MODIFIED:20220520T163838Z
UID:10001007-1655119800-1655123400@theathenaeum.org.uk
SUMMARY:The History of Art Group
DESCRIPTION:The History of Art Group meets on the 2nd Monday in the month at 11:30am in the Wine Servery. All Members and guests are welcome and there is no need to book\, simply turn up and enjoy! \n  \n‘Raphael at 500 with his FAITH-ful Madonnas’ \n  \nA presentation by Helen Lyus. \n  \n 
URL:https://theathenaeum.org.uk/event/the-history-of-art-group/
LOCATION:The Athenaeum Liverpool\, Church Alley\, Liverpool\, L1 3DD\, United Kingdom
CATEGORIES:Members & Guests
END:VEVENT
END:VCALENDAR