BEGIN:VCALENDAR
VERSION:2.0
PRODID:-//The Athenaeum Liverpool - ECPv6.7.1//NONSGML v1.0//EN
CALSCALE:GREGORIAN
METHOD:PUBLISH
X-ORIGINAL-URL:https://theathenaeum.org.uk
X-WR-CALDESC:Events for The Athenaeum Liverpool
REFRESH-INTERVAL;VALUE=DURATION:PT1H
X-Robots-Tag:noindex
X-PUBLISHED-TTL:PT1H
BEGIN:VTIMEZONE
TZID:Europe/London
BEGIN:DAYLIGHT
TZOFFSETFROM:+0000
TZOFFSETTO:+0100
TZNAME:BST
DTSTART:20220327T010000
END:DAYLIGHT
BEGIN:STANDARD
TZOFFSETFROM:+0100
TZOFFSETTO:+0000
TZNAME:GMT
DTSTART:20221030T010000
END:STANDARD
END:VTIMEZONE
BEGIN:VEVENT
DTSTART;TZID=Europe/London:20220621T190000
DTEND;TZID=Europe/London:20220621T223000
DTSTAMP:20260421T211701
CREATED:20220520T170043Z
LAST-MODIFIED:20220520T170043Z
UID:10001169-1655838000-1655850600@theathenaeum.org.uk
SUMMARY:Wine Tasting Evening - 1 of 2
DESCRIPTION:Join us on Tuesday 21st June 2022 for the first of two wine tasting evenings to showcase wines from the Club’s new wine list. \nRoger Barlow of our Wine Merchants\, Gerrard Seel\, will host a swift tasting at 7:00pm in the Newsroom giving an overview of the three wines which will accompany each course with Dinner which will be served in the Dining Room at 7:30pm. \nThe wines being showcased this evening are:- \nGros Manseng/Sauvignon Blanc – Domaine Horgelus\, France (12.5%) – Served with starter\nAthenaeum Claret – Ronan by Client\, France (14%) – Served with Main\nCava Brut – Paco Molina\, Spain (11.5%) – Served with Dessert \nLook out for the publication of the accompanying meal which will follow shortly! \nThis is the first of two tastings showcasing wines from the wine list with the second schedule for Wednesday 6th July 2022. \n  \n 
URL:https://theathenaeum.org.uk/event/wine-tasting-evening-1-of-2/
LOCATION:The Athenaeum Liverpool\, Church Alley\, Liverpool\, L1 3DD\, United Kingdom
CATEGORIES:Members & Guests
END:VEVENT
END:VCALENDAR