BEGIN:VCALENDAR
VERSION:2.0
PRODID:-//The Athenaeum Liverpool - ECPv6.7.1//NONSGML v1.0//EN
CALSCALE:GREGORIAN
METHOD:PUBLISH
X-ORIGINAL-URL:https://theathenaeum.org.uk
X-WR-CALDESC:Events for The Athenaeum Liverpool
REFRESH-INTERVAL;VALUE=DURATION:PT1H
X-Robots-Tag:noindex
X-PUBLISHED-TTL:PT1H
BEGIN:VTIMEZONE
TZID:Europe/London
BEGIN:DAYLIGHT
TZOFFSETFROM:+0000
TZOFFSETTO:+0100
TZNAME:BST
DTSTART:20220327T010000
END:DAYLIGHT
BEGIN:STANDARD
TZOFFSETFROM:+0100
TZOFFSETTO:+0000
TZNAME:GMT
DTSTART:20221030T010000
END:STANDARD
END:VTIMEZONE
BEGIN:VEVENT
DTSTART;TZID=Europe/London:20220712T180000
DTEND;TZID=Europe/London:20220712T193000
DTSTAMP:20260421T174728
CREATED:20220616T115656Z
LAST-MODIFIED:20220616T115708Z
UID:10001181-1657648800-1657654200@theathenaeum.org.uk
SUMMARY:Annual General Meeting 2022
DESCRIPTION:The Annual General Meeting of the Proprietors of The Athenaeum will take place on Tuesday 12th July at 6:00pm in the Newsroom. \nThe Dining Room will be open from 12:30pm until 8:00pm for Members to dine before or after the meeting\, and advance booking is recommended. \n  \nThe business of the meeting will be circulated internally to all Proprietors in advance of the meeting.
URL:https://theathenaeum.org.uk/event/annual-general-meeting-2022/
LOCATION:The Athenaeum Liverpool\, Church Alley\, Liverpool\, L1 3DD\, United Kingdom
CATEGORIES:Members & Guests
END:VEVENT
END:VCALENDAR