BEGIN:VCALENDAR
VERSION:2.0
PRODID:-//The Athenaeum Liverpool - ECPv6.7.1//NONSGML v1.0//EN
CALSCALE:GREGORIAN
METHOD:PUBLISH
X-WR-CALNAME:The Athenaeum Liverpool
X-ORIGINAL-URL:https://theathenaeum.org.uk
X-WR-CALDESC:Events for The Athenaeum Liverpool
REFRESH-INTERVAL;VALUE=DURATION:PT1H
X-Robots-Tag:noindex
X-PUBLISHED-TTL:PT1H
BEGIN:VTIMEZONE
TZID:Europe/London
BEGIN:DAYLIGHT
TZOFFSETFROM:+0000
TZOFFSETTO:+0100
TZNAME:BST
DTSTART:20220327T010000
END:DAYLIGHT
BEGIN:STANDARD
TZOFFSETFROM:+0100
TZOFFSETTO:+0000
TZNAME:GMT
DTSTART:20221030T010000
END:STANDARD
END:VTIMEZONE
BEGIN:VEVENT
DTSTART;TZID=Europe/London:20220909T190000
DTEND;TZID=Europe/London:20220909T203000
DTSTAMP:20260421T110851
CREATED:20220830T141347Z
LAST-MODIFIED:20220907T194746Z
UID:10001190-1662750000-1662755400@theathenaeum.org.uk
SUMMARY:The Exchange: In conversation with Brian Groom
DESCRIPTION:As part of our Thought Leadership campaign\, we are proud to welcome Proprietors to The Exchange: In Conversation with Brian Groom\, author of Northerners: A History. \nWe’ll be exploring the people and history of the north\, its impact on European culture and the global economy\, and what being a Northerner means today. \nSigned books will be available on the evening\, and pre-bookings will be accepted for dinner following the sessions.
URL:https://theathenaeum.org.uk/event/the-exchange-in-conversation-with-brian-groom/
LOCATION:The Athenaeum Liverpool\, Church Alley\, Liverpool\, L1 3DD\, United Kingdom
END:VEVENT
END:VCALENDAR