BEGIN:VCALENDAR
VERSION:2.0
PRODID:-//The Athenaeum Liverpool - ECPv6.7.1//NONSGML v1.0//EN
CALSCALE:GREGORIAN
METHOD:PUBLISH
X-ORIGINAL-URL:https://theathenaeum.org.uk
X-WR-CALDESC:Events for The Athenaeum Liverpool
REFRESH-INTERVAL;VALUE=DURATION:PT1H
X-Robots-Tag:noindex
X-PUBLISHED-TTL:PT1H
BEGIN:VTIMEZONE
TZID:Europe/London
BEGIN:DAYLIGHT
TZOFFSETFROM:+0000
TZOFFSETTO:+0100
TZNAME:BST
DTSTART:20240331T010000
END:DAYLIGHT
BEGIN:STANDARD
TZOFFSETFROM:+0100
TZOFFSETTO:+0000
TZNAME:GMT
DTSTART:20241027T010000
END:STANDARD
END:VTIMEZONE
BEGIN:VEVENT
DTSTART;TZID=Europe/London:20240227T143000
DTEND;TZID=Europe/London:20240227T163000
DTSTAMP:20260421T110920
CREATED:20240109T134643Z
LAST-MODIFIED:20240119T094357Z
UID:10001352-1709044200-1709051400@theathenaeum.org.uk
SUMMARY:History Group - An Introduction to Environmental History with Dr D. Chester
DESCRIPTION:An Introduction to Environmental History with Dr D. Chester  \n2:30pm in the Reading Room\, 27th February 2024 \n“Although having some precursors in the nineteenth and early twentieth centuries\, environmental history essentially grew out of the conservation movement of the 1960s. It seeks to examine the historic impact of people on the planet and uses not only conventional archival source materials but also information from archaeology and from so-called sedimentary archives\, with information being extracted using techniques that include pollen analysis\, chemical markers\, magnetic signatures and radiometric dating techniques. \nIn this lecture\, the scope of environmental history will be illustrated using three examples: the use and abuse of the Earth during the Holocene (i.e. the last 10\,000 years)\, human impact on the landscape of southern Europe and the environmental disaster which is represented by the history of Easter Island.” \nBook now via the Member’s Area or through the Concierge.
URL:https://theathenaeum.org.uk/event/history-group-an-introduction-to-environmental-history-with-dr-d-chester/
LOCATION:The Athenaeum Liverpool\, Church Alley\, Liverpool\, L1 3DD\, United Kingdom
END:VEVENT
END:VCALENDAR