BEGIN:VCALENDAR
VERSION:2.0
PRODID:-//The Athenaeum Liverpool - ECPv6.7.1//NONSGML v1.0//EN
CALSCALE:GREGORIAN
METHOD:PUBLISH
X-WR-CALNAME:The Athenaeum Liverpool
X-ORIGINAL-URL:https://theathenaeum.org.uk
X-WR-CALDESC:Events for The Athenaeum Liverpool
REFRESH-INTERVAL;VALUE=DURATION:PT1H
X-Robots-Tag:noindex
X-PUBLISHED-TTL:PT1H
BEGIN:VTIMEZONE
TZID:Europe/London
BEGIN:DAYLIGHT
TZOFFSETFROM:+0000
TZOFFSETTO:+0100
TZNAME:BST
DTSTART:20240331T010000
END:DAYLIGHT
BEGIN:STANDARD
TZOFFSETFROM:+0100
TZOFFSETTO:+0000
TZNAME:GMT
DTSTART:20241027T010000
END:STANDARD
END:VTIMEZONE
BEGIN:VEVENT
DTSTART;TZID=Europe/London:20240402T140000
DTEND;TZID=Europe/London:20240402T160000
DTSTAMP:20260421T124947
CREATED:20240118T114412Z
LAST-MODIFIED:20240328T125944Z
UID:10001358-1712066400-1712073600@theathenaeum.org.uk
SUMMARY:Literature Group: Redfern by Herman Melville
DESCRIPTION:Our Immediate Past President Dr Rob Huxley will be talking about this semi-autobiographical novel by the author of Moby Dick. The story of a young American on his first sea voyage\, the novel is notable for its vivid and enlightening description of Victorian Liverpool. \n 
URL:https://theathenaeum.org.uk/event/literature-group-redfern-by-herman-melville/
LOCATION:The Athenaeum Liverpool\, Church Alley\, Liverpool\, L1 3DD\, United Kingdom
CATEGORIES:Members & Guests
END:VEVENT
END:VCALENDAR