BEGIN:VCALENDAR
VERSION:2.0
PRODID:-//The Athenaeum Liverpool - ECPv6.7.1//NONSGML v1.0//EN
CALSCALE:GREGORIAN
METHOD:PUBLISH
X-ORIGINAL-URL:https://theathenaeum.org.uk
X-WR-CALDESC:Events for The Athenaeum Liverpool
REFRESH-INTERVAL;VALUE=DURATION:PT1H
X-Robots-Tag:noindex
X-PUBLISHED-TTL:PT1H
BEGIN:VTIMEZONE
TZID:Europe/London
BEGIN:DAYLIGHT
TZOFFSETFROM:+0000
TZOFFSETTO:+0100
TZNAME:BST
DTSTART:20240331T010000
END:DAYLIGHT
BEGIN:STANDARD
TZOFFSETFROM:+0100
TZOFFSETTO:+0000
TZNAME:GMT
DTSTART:20241027T010000
END:STANDARD
END:VTIMEZONE
BEGIN:VEVENT
DTSTART;TZID=Europe/London:20240419T183000
DTEND;TZID=Europe/London:20240419T230000
DTSTAMP:20260421T125042
CREATED:20231201T125325Z
LAST-MODIFIED:20240410T154016Z
UID:10001349-1713551400-1713567600@theathenaeum.org.uk
SUMMARY:An Evening with Sally Wainwright
DESCRIPTION:An Evening with Sally Wainwright \nApril 19\, 2024 @ 6:30 pm – 11:00 pm \nTickets: £35 \nOn Friday 19th April we welcome BAFTA-winning television writer\, director and producer Sally Wainwright to the Athenaeum. \nFrom her early days at the University of York and the Leeds Playhouse\, through The Archers\, Coronation Street and At Home with the Braithwaites to her popular and critically acclaimed dramas Gentleman Jack and Happy Valley\, Sally has established herself as one of Britain’s leading television writers. In recent years she has turned her hand to directing and now produces her own work. From detective shows to comedy to costume drama\, her work attracts millions of viewers and her many fans at the Athenaeum will not want to miss the opportunity to meet her. \nI am delighted that Sally has offered to take a break from her busy schedule to pop over from Yorkshire for a night at our club. Sally will be ‘in conversation’ with our Chair the esteemed broadcaster Roger Phillips.  We will then enjoy a three course dinner in the Dining Room\, after which we can relax in the Newsroom until closing time. \nDo not miss the chance to meet one of the most successful (and nicest!) writers of her generation. Book early via the members’ website or at reception. \n6.30 – Arrivals and welcome \n7.00 – Sally Wainwright in conversation with Roger Phillips \n8.00 – Dinner (menu tbc) \n10.30 – Last orders
URL:https://theathenaeum.org.uk/event/an-evening-with-sally-wainwright/
LOCATION:The Athenaeum Liverpool\, Church Alley\, Liverpool\, L1 3DD\, United Kingdom
CATEGORIES:Members & Guests
END:VEVENT
END:VCALENDAR