BEGIN:VCALENDAR
VERSION:2.0
PRODID:-//The Athenaeum Liverpool - ECPv6.7.1//NONSGML v1.0//EN
CALSCALE:GREGORIAN
METHOD:PUBLISH
X-ORIGINAL-URL:https://theathenaeum.org.uk
X-WR-CALDESC:Events for The Athenaeum Liverpool
REFRESH-INTERVAL;VALUE=DURATION:PT1H
X-Robots-Tag:noindex
X-PUBLISHED-TTL:PT1H
BEGIN:VTIMEZONE
TZID:Europe/London
BEGIN:DAYLIGHT
TZOFFSETFROM:+0000
TZOFFSETTO:+0100
TZNAME:BST
DTSTART:20240331T010000
END:DAYLIGHT
BEGIN:STANDARD
TZOFFSETFROM:+0100
TZOFFSETTO:+0000
TZNAME:GMT
DTSTART:20241027T010000
END:STANDARD
END:VTIMEZONE
BEGIN:VEVENT
DTSTART;TZID=Europe/London:20240613T180000
DTEND;TZID=Europe/London:20240613T200000
DTSTAMP:20260421T192008
CREATED:20240510T091338Z
LAST-MODIFIED:20240510T104441Z
UID:10001388-1718301600-1718308800@theathenaeum.org.uk
SUMMARY:Wine Tasting Evening: An Introduction to The Athenaeum Wine List
DESCRIPTION:Join representatives of the Club’s wine merchant\, Tanners\, for a complimentary wine tasting event in the Newsroom on Thursday 13th June between 6:00pm-8:00pm. Stop by each of the three experts on hand and learn about the wines on the Club’s wine list\, whilst of course sampling the various drops available to you. A selection of complimentary nibbles will be available to guests on the evening in addition to the Newsroom menu. \nThis is a free event though booking is required\, register your interest now via the Members’ Area or the Concierge desk and your place will be confirmed as soon as possible. As per the subscription renewal notice priority will be given to those who settled their subscription early or via direct debit. \nWe anticipate a full house for this evening\, in the first instance bookings are limited to a maximum of two\, i.e a member and a guest. \n 
URL:https://theathenaeum.org.uk/event/wine-tasting-evening-an-introduction-to-the-athenaeum-wine-list/
LOCATION:The Athenaeum Liverpool\, Church Alley\, Liverpool\, L1 3DD\, United Kingdom
END:VEVENT
END:VCALENDAR