BEGIN:VCALENDAR
VERSION:2.0
PRODID:-//The Athenaeum Liverpool - ECPv6.7.1//NONSGML v1.0//EN
CALSCALE:GREGORIAN
METHOD:PUBLISH
X-WR-CALNAME:The Athenaeum Liverpool
X-ORIGINAL-URL:https://theathenaeum.org.uk
X-WR-CALDESC:Events for The Athenaeum Liverpool
REFRESH-INTERVAL;VALUE=DURATION:PT1H
X-Robots-Tag:noindex
X-PUBLISHED-TTL:PT1H
BEGIN:VTIMEZONE
TZID:Europe/London
BEGIN:DAYLIGHT
TZOFFSETFROM:+0000
TZOFFSETTO:+0100
TZNAME:BST
DTSTART:20240331T010000
END:DAYLIGHT
BEGIN:STANDARD
TZOFFSETFROM:+0100
TZOFFSETTO:+0000
TZNAME:GMT
DTSTART:20241027T010000
END:STANDARD
END:VTIMEZONE
BEGIN:VEVENT
DTSTART;TZID=Europe/London:20240615T123000
DTEND;TZID=Europe/London:20240615T140000
DTSTAMP:20260421T191236
CREATED:20240408T111451Z
LAST-MODIFIED:20240508T092509Z
UID:10001367-1718454600-1718460000@theathenaeum.org.uk
SUMMARY:(Almost) Father's Day Lunch
DESCRIPTION:Treat your old man to a luxurious meal at the Athenaeum for Father’s day. \nNormal lunch service will run from 12:30pm to 2pm on Saturday 15th June 2024\, to give you the opportunity to introduce your fathers to the Club whilst indulging in our expectational cuisine. \nBook now through the website or with the Concierge. \nTickets £28 \n 
URL:https://theathenaeum.org.uk/event/almost-fathers-day-lunch/
LOCATION:The Athenaeum Liverpool\, Church Alley\, Liverpool\, L1 3DD\, United Kingdom
END:VEVENT
END:VCALENDAR