BEGIN:VCALENDAR
VERSION:2.0
PRODID:-//The Athenaeum Liverpool - ECPv6.7.1//NONSGML v1.0//EN
CALSCALE:GREGORIAN
METHOD:PUBLISH
X-ORIGINAL-URL:https://theathenaeum.org.uk
X-WR-CALDESC:Events for The Athenaeum Liverpool
REFRESH-INTERVAL;VALUE=DURATION:PT1H
X-Robots-Tag:noindex
X-PUBLISHED-TTL:PT1H
BEGIN:VTIMEZONE
TZID:Europe/London
BEGIN:DAYLIGHT
TZOFFSETFROM:+0000
TZOFFSETTO:+0100
TZNAME:BST
DTSTART:20230326T010000
END:DAYLIGHT
BEGIN:STANDARD
TZOFFSETFROM:+0100
TZOFFSETTO:+0000
TZNAME:GMT
DTSTART:20231029T010000
END:STANDARD
END:VTIMEZONE
BEGIN:VEVENT
DTSTART;TZID=Europe/London:20231128T143000
DTEND;TZID=Europe/London:20231128T163000
DTSTAMP:20260421T114613
CREATED:20230720T100538Z
LAST-MODIFIED:20230918T140056Z
UID:10001276-1701181800-1701189000@theathenaeum.org.uk
SUMMARY:History Group
DESCRIPTION:The President\, Dr Paul Burns will be the guest speaker at November’s History Group Meeting: Topic to be finalised. \n  \nAttendance of the talk is free for Members are guests. \nTalk: 2:30pm in the Library Reading Room \n 
URL:https://theathenaeum.org.uk/event/history-group-8/
LOCATION:The Athenaeum Liverpool\, Church Alley\, Liverpool\, L1 3DD\, United Kingdom
CATEGORIES:Members & Guests
END:VEVENT
END:VCALENDAR