BEGIN:VCALENDAR
VERSION:2.0
PRODID:-//The Athenaeum Liverpool - ECPv6.7.1//NONSGML v1.0//EN
CALSCALE:GREGORIAN
METHOD:PUBLISH
X-ORIGINAL-URL:https://theathenaeum.org.uk
X-WR-CALDESC:Events for The Athenaeum Liverpool
REFRESH-INTERVAL;VALUE=DURATION:PT1H
X-Robots-Tag:noindex
X-PUBLISHED-TTL:PT1H
BEGIN:VTIMEZONE
TZID:Europe/London
BEGIN:DAYLIGHT
TZOFFSETFROM:+0000
TZOFFSETTO:+0100
TZNAME:BST
DTSTART:20230326T010000
END:DAYLIGHT
BEGIN:STANDARD
TZOFFSETFROM:+0100
TZOFFSETTO:+0000
TZNAME:GMT
DTSTART:20231029T010000
END:STANDARD
END:VTIMEZONE
BEGIN:VEVENT
DTSTART;TZID=Europe/London:20231205T183000
DTEND;TZID=Europe/London:20231205T203000
DTSTAMP:20260421T111928
CREATED:20230918T140655Z
LAST-MODIFIED:20230918T140655Z
UID:10001318-1701801000-1701808200@theathenaeum.org.uk
SUMMARY:Sketching Club
DESCRIPTION:The Sketching Club meet on the 1st Tuesday of the month at 6:30pm to sketch portraits. Past models have included those in Tudor\, English Civil War and Edwardian costume. It adopts the approach of the well-established Liver Sketching Club where individuals learn through practice rather than instruction. This is an informal club for sketchers of all abilities and experience levels. \nClasses are free of charge\, and it is hoped members will model on a rota basis\, but this is not essential. Members should bring their own pad\, charcoal\, pastels\, pens and pencils. Beside the Athenaeum is Cass Art\, should you need to purchase any of these items. \nThere is no need to book for this interest group meeting\, simply turn up and enjoy.
URL:https://theathenaeum.org.uk/event/sketching-club-2/
LOCATION:The Athenaeum Liverpool\, Church Alley\, Liverpool\, L1 3DD\, United Kingdom
CATEGORIES:Members & Guests
END:VEVENT
END:VCALENDAR