BEGIN:VCALENDAR
VERSION:2.0
PRODID:-//The Athenaeum Liverpool - ECPv6.7.1//NONSGML v1.0//EN
CALSCALE:GREGORIAN
METHOD:PUBLISH
X-WR-CALNAME:The Athenaeum Liverpool
X-ORIGINAL-URL:https://theathenaeum.org.uk
X-WR-CALDESC:Events for The Athenaeum Liverpool
REFRESH-INTERVAL;VALUE=DURATION:PT1H
X-Robots-Tag:noindex
X-PUBLISHED-TTL:PT1H
BEGIN:VTIMEZONE
TZID:Europe/London
BEGIN:DAYLIGHT
TZOFFSETFROM:+0000
TZOFFSETTO:+0100
TZNAME:BST
DTSTART:20180325T010000
END:DAYLIGHT
BEGIN:STANDARD
TZOFFSETFROM:+0100
TZOFFSETTO:+0000
TZNAME:GMT
DTSTART:20181028T010000
END:STANDARD
BEGIN:DAYLIGHT
TZOFFSETFROM:+0000
TZOFFSETTO:+0100
TZNAME:BST
DTSTART:20190331T010000
END:DAYLIGHT
BEGIN:STANDARD
TZOFFSETFROM:+0100
TZOFFSETTO:+0000
TZNAME:GMT
DTSTART:20191027T010000
END:STANDARD
END:VTIMEZONE
BEGIN:VEVENT
DTSTART;TZID=Europe/London:20190214T113000
DTEND;TZID=Europe/London:20190214T140000
DTSTAMP:20260421T061438
CREATED:20181003T134336Z
LAST-MODIFIED:20190131T151048Z
UID:10001005-1550143800-1550152800@theathenaeum.org.uk
SUMMARY:Library and Archives Group Lunch
DESCRIPTION:11.30 am in the Library \n12.30 pm informal lunch (reservation required ) \nProprietor Jutta Hesketh: ‘Greek Myths: \nThe Very beginnings\, Chaos to Zeus\, seen through Literature and Art”. \n(Based on works in the Library) \n 
URL:https://theathenaeum.org.uk/event/library-and-archives-group-lunch/
LOCATION:The Athenaeum Liverpool\, Church Alley\, Liverpool\, L1 3DD\, United Kingdom
CATEGORIES:Members Only Event
END:VEVENT
BEGIN:VEVENT
DTSTART;TZID=Europe/London:20190213T140000
DTEND;TZID=Europe/London:20190213T160000
DTSTAMP:20260421T061438
CREATED:20180803T105555Z
LAST-MODIFIED:20180803T105555Z
UID:10000976-1550066400-1550073600@theathenaeum.org.uk
SUMMARY:The Film Group
DESCRIPTION:13th February\, 2019 Gaslight (1944). This is the second version of a mystery-thriller about a wife whose husband slowly manipulates her into believing that she is becoming insane to distract her from his criminal activities. This version is directed by George Cukor and stars Ingrid Bergman\, Charles Boyer and Jospeh Cotton. (See if you can identify the 18-year old maid.) \nThe film won a Best Actress Oscar for Bergman and was nominated for Best Picture. It received seven nominations in all. \n(Running time 114 mins)
URL:https://theathenaeum.org.uk/event/the-film-group-18/
LOCATION:The Athenaeum Liverpool\, Church Alley\, Liverpool\, L1 3DD\, United Kingdom
CATEGORIES:Members Only Event
END:VEVENT
BEGIN:VEVENT
DTSTART;TZID=Europe/London:20190208T183000
DTEND;TZID=Europe/London:20190208T230000
DTSTAMP:20260421T061438
CREATED:20181003T133921Z
LAST-MODIFIED:20190131T110448Z
UID:10001002-1549650600-1549666800@theathenaeum.org.uk
SUMMARY:New Members Informal Dining
DESCRIPTION:Friday 8 February\, service between 6.30pm & 7.00pm—£25.00pp \nThis Informal Dining Evening is open to both New and current members alike. There are no speakers – just good food\, company and wine. You may wish to bring along family and friends with you or join one of our larger club tables; please specify this upon booking. Spaces on these larger tables are subject to availability. Informal Dining Evenings that are titled under the banner ‘New Member’s’ are also an opportunity for those to sign the historic 1801 Share Register for those who have not yet had the chance to do so. The signing ceremony following dinner is a special event and an important part of the process of becoming a Proprietor. \nAn a la carte menu will be available for  guests to choose at the dinner. \nSchedule \nDrinks in the Newsroom from 18.00 to 18.30 \nService in the Dining Room from 18.30 to 20.00 \nNewsroom Bar Open Through out from 18.30 to 23.00 \nLast Orders From 22.45 to 23.00 \nBuilding Closes at 23.30
URL:https://theathenaeum.org.uk/event/new-members-informal-dining-11/
LOCATION:The Athenaeum Liverpool\, Church Alley\, Liverpool\, L1 3DD\, United Kingdom
CATEGORIES:Members Only Event
END:VEVENT
BEGIN:VEVENT
DTSTART;TZID=Europe/London:20190207T181500
DTEND;TZID=Europe/London:20190207T220000
DTSTAMP:20260421T061438
CREATED:20180918T140438Z
LAST-MODIFIED:20180918T140438Z
UID:10000837-1549563300-1549576800@theathenaeum.org.uk
SUMMARY:The Athenaeum Film Nights - The Pickwick Papers
DESCRIPTION:The Pickwick Papers (1952) \nThe Pickwick Club sends Mr. Pickwick and a group of friends to travel across England and to report back on the interesting things they find. In the course of their travels\, they repeatedly encounter the friendly but disreputable Mr. Jingle\, who becomes a continual source of trouble for all who know him. Pickwick himself is the victim of a number of misunderstandings that bring him both embarrassment and problems with the law. \nWe begin about 6.45pm with a one course supper and go into the ‘cinema’ by about quarter to eight. All our films have a suitable intermission and we empty out no later than ten o’clock. \n1 Course Supper Menu TBC\nTea\, coffee & mints \nSweeties During Film
URL:https://theathenaeum.org.uk/event/the-athenaeum-film-nights-the-pickwick-papers/
LOCATION:The Athenaeum Liverpool\, Church Alley\, Liverpool\, L1 3DD\, United Kingdom
CATEGORIES:Members Only Event
END:VEVENT
BEGIN:VEVENT
DTSTART;TZID=Europe/London:20190206T140000
DTEND;TZID=Europe/London:20190206T153000
DTSTAMP:20260421T061438
CREATED:20181003T133446Z
LAST-MODIFIED:20190131T150035Z
UID:10001001-1549461600-1549467000@theathenaeum.org.uk
SUMMARY:Literature Group Meeting
DESCRIPTION:Of Human Bondage’: Diana Lane on Somerset Maugham’s semi-autobiographical novel. When ‘Of Human Bondage’ was       published in 1915\, Somerset Maugham was at the height of his popularity and fame as a writer of plays\, short stories and novels. Since then he has rather fallen out of fashion. Diana’s talk will give us an insight into the writer and his work\, reminding some of an old favourite and introducing    others to him for the first time. \n 
URL:https://theathenaeum.org.uk/event/literature-group-meeting-7/
LOCATION:The Athenaeum Liverpool\, Church Alley\, Liverpool\, L1 3DD\, United Kingdom
CATEGORIES:Members Only Event
END:VEVENT
BEGIN:VEVENT
DTSTART;TZID=Europe/London:20190130T140000
DTEND;TZID=Europe/London:20190130T153000
DTSTAMP:20260421T061438
CREATED:20181003T132322Z
LAST-MODIFIED:20181003T132322Z
UID:10000998-1548856800-1548862200@theathenaeum.org.uk
SUMMARY:History Group Meeting
DESCRIPTION:Details TBC
URL:https://theathenaeum.org.uk/event/history-group-meeting-10/
LOCATION:The Athenaeum Liverpool\, Church Alley\, Liverpool\, L1 3DD\, United Kingdom
CATEGORIES:Members Only Event
END:VEVENT
BEGIN:VEVENT
DTSTART;TZID=Europe/London:20190125T190000
DTEND;TZID=Europe/London:20190125T220000
DTSTAMP:20260421T061438
CREATED:20181003T131845Z
LAST-MODIFIED:20181003T131845Z
UID:10000997-1548442800-1548453600@theathenaeum.org.uk
SUMMARY:Burns Night
DESCRIPTION:Details TBC
URL:https://theathenaeum.org.uk/event/burns-night/
LOCATION:The Athenaeum Liverpool\, Church Alley\, Liverpool\, L1 3DD\, United Kingdom
CATEGORIES:Members Only Event
END:VEVENT
BEGIN:VEVENT
DTSTART;TZID=Europe/London:20190118T183000
DTEND;TZID=Europe/London:20190118T230000
DTSTAMP:20260421T061438
CREATED:20181003T131450Z
LAST-MODIFIED:20190114T143708Z
UID:10000994-1547836200-1547852400@theathenaeum.org.uk
SUMMARY:Music Evening
DESCRIPTION:Details TBC
URL:https://theathenaeum.org.uk/event/music-concert/
LOCATION:The Athenaeum Liverpool\, Church Alley\, Liverpool\, L1 3DD\, United Kingdom
CATEGORIES:Members Only Event
END:VEVENT
BEGIN:VEVENT
DTSTART;TZID=Europe/London:20190111T190000
DTEND;TZID=Europe/London:20190111T220000
DTSTAMP:20260421T061438
CREATED:20181030T134359Z
LAST-MODIFIED:20190109T143804Z
UID:10001027-1547233200-1547244000@theathenaeum.org.uk
SUMMARY:Restaurant Dining Evening
DESCRIPTION:Restaurant Dining Evening \nFriday 11th January\, service between 7:00 & 8:30pm\, please specify your desired time to sit down for dinner\, time slots will be filled on a first come first serve basis. \nOur next ‘Restaurant’ evening of fine dining will be held on Friday 11th January. There will be options at every course\, priced individually in a la carte style. As well as our standard wine list\, there will be specially selected fine wines on offer\, at least one white and one red\, priced in line with the Club’s competitive rate. Why not bring a guest or two to sample the delights of the Athenaeum? \nThe dress code for the evening will be smart casual. \n 
URL:https://theathenaeum.org.uk/event/restaurant-dining-evening-3/
LOCATION:The Athenaeum Liverpool\, Church Alley\, Liverpool\, L1 3DD\, United Kingdom
CATEGORIES:Members Only Event
END:VEVENT
BEGIN:VEVENT
DTSTART;TZID=Europe/London:20190110T181500
DTEND;TZID=Europe/London:20190110T220000
DTSTAMP:20260421T061438
CREATED:20180918T140122Z
LAST-MODIFIED:20180918T140122Z
UID:10000985-1547144100-1547157600@theathenaeum.org.uk
SUMMARY:The Athenaeum Film Night -The Count of Monte Cristo
DESCRIPTION:The Count of Monte Cristo (2002) \nA young man\, falsely imprisoned by his jealous “friend”\, escapes and uses a hidden treasure to exact his revenge. \nWe begin about 6.45pm with a one course supper and go into the ‘cinema’ by about quarter to eight. All our films have a suitable intermission and we empty out no later than ten o’clock. \n1 Course Supper Menu TBC\nTea\, coffee & mints \nSweeties During Film
URL:https://theathenaeum.org.uk/event/the-athenaeum-film-night-the-count-of-monte-cristo/
LOCATION:The Athenaeum Liverpool\, Church Alley\, Liverpool\, L1 3DD\, United Kingdom
CATEGORIES:Members Only Event
END:VEVENT
BEGIN:VEVENT
DTSTART;TZID=Europe/London:20190109T140000
DTEND;TZID=Europe/London:20190109T160000
DTSTAMP:20260421T061438
CREATED:20180803T104335Z
LAST-MODIFIED:20180803T104335Z
UID:10000975-1547042400-1547049600@theathenaeum.org.uk
SUMMARY:The Film Group
DESCRIPTION:9th January\, 2019 Song of Summer (1968) This is a joint presentation with the Music Club (and we hope that it will not be the last.) \nWritten and directed by Ken Russell for BBC’s Omnibus\, this black and white TV film covers the last six years of the life of composer Frederick Delius\, when he had become blind and paralysed. Based on the memoir “Delius As I Knew Him” by Eric Fenby\, it describes Fenby’s life with the composer and his wife\, transcribing music from the composer’s dictation. Russell said that this was the best film he ever made and that he would not have done a single shot differently. \nDelius is played by Max Adrian\, Fenby by Christopher Gable and Jelka by Maureen Pryor. \n(Running time: 72 mins)
URL:https://theathenaeum.org.uk/event/the-film-group-17/
LOCATION:The Athenaeum Liverpool\, Church Alley\, Liverpool\, L1 3DD\, United Kingdom
CATEGORIES:Members Only Event
END:VEVENT
BEGIN:VEVENT
DTSTART;TZID=Europe/London:20181220T190000
DTEND;TZID=Europe/London:20181220T220000
DTSTAMP:20260421T061438
CREATED:20181003T131111Z
LAST-MODIFIED:20181030T121951Z
UID:10000993-1545332400-1545343200@theathenaeum.org.uk
SUMMARY:Christmas Informal Dining
DESCRIPTION:We finish 2018 in relaxing fashion with an ever popular informal dining     occasion. There are no speakers – just good food\, company and wine. You may wish to bring along family and friends with you or join one of our larger club tables. Please specify this on booking. \n 
URL:https://theathenaeum.org.uk/event/christmas-informal-dining-4/
LOCATION:The Athenaeum Liverpool\, Church Alley\, Liverpool\, L1 3DD\, United Kingdom
CATEGORIES:Members Only Event
END:VEVENT
BEGIN:VEVENT
DTSTART;TZID=Europe/London:20181213T183000
DTEND;TZID=Europe/London:20181213T220000
DTSTAMP:20260421T061438
CREATED:20181003T130420Z
LAST-MODIFIED:20181030T121817Z
UID:10000990-1544725800-1544738400@theathenaeum.org.uk
SUMMARY:Christmas Carol Concert
DESCRIPTION:Our Annual Carol Concert this year will feature the Formby Silver Band who will be performing some festive hits following a supper in the dining room. Mince pies and mulled wine will be available during the evening.   \nFurther details to follow. \n 
URL:https://theathenaeum.org.uk/event/christmas-carol-concert/
LOCATION:The Athenaeum Liverpool\, Church Alley\, Liverpool\, L1 3DD\, United Kingdom
CATEGORIES:Members Only Event
END:VEVENT
BEGIN:VEVENT
DTSTART;TZID=Europe/London:20181212T181500
DTEND;TZID=Europe/London:20181212T220000
DTSTAMP:20260421T061438
CREATED:20180918T135357Z
LAST-MODIFIED:20180918T135357Z
UID:10000984-1544638500-1544652000@theathenaeum.org.uk
SUMMARY:The Athenaeum Film Nights - Meet Me in St Louis
DESCRIPTION:Meet Me in St Louis (1944) \nIn the year leading up to the 1904 St. Louis World’s Fair\, the four Smith daughters learn lessons of life and love\, even as they prepare for a reluctant move to New York. \nWe begin about 6.45pm with a one course supper and go into the ‘cinema’ by about quarter to eight. All our films have a suitable intermission and we empty out no later than ten o’clock. \n1 Course Supper Menu TBC\nTea\, coffee & mints \nSweeties During Film
URL:https://theathenaeum.org.uk/event/the-athenaeum-film-nights-meet-me-in-st-louis/
LOCATION:The Athenaeum Liverpool\, Church Alley\, Liverpool\, L1 3DD\, United Kingdom
END:VEVENT
BEGIN:VEVENT
DTSTART;TZID=Europe/London:20181211T140000
DTEND;TZID=Europe/London:20181211T153000
DTSTAMP:20260421T061438
CREATED:20181003T115155Z
LAST-MODIFIED:20181003T115731Z
UID:10000989-1544536800-1544542200@theathenaeum.org.uk
SUMMARY:The Film Group
DESCRIPTION:11th December\, 2018: Gold Diggers of 1933 (1933) A musical which could only be on film\, it was directed by Mervyn LeRoy and choreographed by Busby Berkley. The gold diggers in question are four aspiring actresses: Polly (Ruby Keeler)\, Carol\, an ingenue (Joan Blondel)\, Trixie\, a torch singer (Aline MacMahon) and a glamour puss\, (Ginger Rogers). Made during the Great Depression\, the film is about a production which is ready to be shown\, but is closed for non-ppayment of bills. The producer Barney Hopkins (Ned Sparks) despairs\, because he has everything except the money to put on the show\, but Plly’s boyfriend\, Brad\, (Dick Powell) comes to his rescue. \nThe film was selected in 2003 by the Library of Congress for preservation in the US National Film Registry as being “culturally\, historically or aesthetically significant”. \n(Running time: 96 mins)
URL:https://theathenaeum.org.uk/event/the-film-group-23/
LOCATION:The Athenaeum Liverpool\, Church Alley\, Liverpool\, L1 3DD\, United Kingdom
CATEGORIES:Members Only Event
END:VEVENT
BEGIN:VEVENT
DTSTART;TZID=Europe/London:20181208T100000
DTEND;TZID=Europe/London:20181208T170000
DTSTAMP:20260421T061438
CREATED:20181030T115011Z
LAST-MODIFIED:20181031T193439Z
UID:10001026-1544263200-1544288400@theathenaeum.org.uk
SUMMARY:Christmas Saturday Openings
DESCRIPTION:The first two Saturday’s in December the Club will be open for Members to enjoy. The Newsroom will be opening and fully serviced with last orders for food taken at 5:00pm. \nNo dress code will be in enforced during these two special openings\, ideal for having lunch in between Christmas shopping! \n  \n 
URL:https://theathenaeum.org.uk/event/christmas-saturday-openings-2/
LOCATION:The Athenaeum Liverpool\, Church Alley\, Liverpool\, L1 3DD\, United Kingdom
CATEGORIES:Members Only Event
END:VEVENT
BEGIN:VEVENT
DTSTART;TZID=Europe/London:20181205T140000
DTEND;TZID=Europe/London:20181205T153000
DTSTAMP:20260421T061438
CREATED:20181009T134703Z
LAST-MODIFIED:20181010T111907Z
UID:10001021-1544018400-1544023800@theathenaeum.org.uk
SUMMARY:The Literature Group
DESCRIPTION:Euripides by Brian Gill. \nTHE BACCHAE:  \nAn Ancient Play With Timely Warnings For Today. \nThe Ancient Greeks had an astonishing understanding of human psychology. Their literature was frequently tasked with demonstrating the disastrous consequences of pursuing our ‘blind’ and unconscious motives in the service of egoic ambition \nTaking the plays\, The Bacchae and Oedipus Rex as a starting point we can use them to assess the formidable extent of their psychological understanding and gain invaluable insight into the potential disaster that awaits us today\, both collectively and individually\, should we continue to act in ignorance of basic human psychology. Our flagrant disregard for a wisdom and foresight that became the foundation of western civilization cannot continue with impunity. \nShould anyone feel drawn to read these plays\, perhaps it would be better to wait until after this presentation.
URL:https://theathenaeum.org.uk/event/the-literature-group-12/
LOCATION:The Athenaeum Liverpool\, Church Alley\, Liverpool\, L1 3DD\, United Kingdom
END:VEVENT
BEGIN:VEVENT
DTSTART;TZID=Europe/London:20181203T123000
DTEND;TZID=Europe/London:20181203T140000
DTSTAMP:20260421T061438
CREATED:20181005T101956Z
LAST-MODIFIED:20181030T121408Z
UID:10001020-1543840200-1543845600@theathenaeum.org.uk
SUMMARY:Athenaeum Christmas Lunch
DESCRIPTION:We begin the festive period early in December with our Annual Christmas Lunch\, always a popular addition to the calendar. Please book early to avoid disappointment. \n 
URL:https://theathenaeum.org.uk/event/athenaeum-christmas-lunch-4/
LOCATION:The Athenaeum Liverpool\, Church Alley\, Liverpool\, L1 3DD\, United Kingdom
CATEGORIES:Members Only Event
END:VEVENT
BEGIN:VEVENT
DTSTART;TZID=Europe/London:20181201T100000
DTEND;TZID=Europe/London:20181201T170000
DTSTAMP:20260421T061438
CREATED:20181030T114807Z
LAST-MODIFIED:20181031T193307Z
UID:10001025-1543658400-1543683600@theathenaeum.org.uk
SUMMARY:Christmas Saturday Openings
DESCRIPTION:The first two Saturday’s in December the Club will be open for Members to enjoy. The Newsroom will be opening and fully serviced with last orders for food taken at 5:00pm. \nNo dress code will be in enforced during these two special openings\, ideal for having lunch in between Christmas shopping! \n 
URL:https://theathenaeum.org.uk/event/christmas-saturday-openings/
LOCATION:The Athenaeum Liverpool\, Church Alley\, Liverpool\, L1 3DD\, United Kingdom
CATEGORIES:Members Only Event
END:VEVENT
BEGIN:VEVENT
DTSTART;TZID=Europe/London:20181128T140000
DTEND;TZID=Europe/London:20181128T153000
DTSTAMP:20260421T061438
CREATED:20181012T113106Z
LAST-MODIFIED:20181101T115732Z
UID:10001022-1543413600-1543419000@theathenaeum.org.uk
SUMMARY:Arts Group
DESCRIPTION:Jutta Hesketh NDD ceramics\, Oxford School of Arts\, will be talking about Diego de Velasquez\, Court Painter to Philip IV of Spain in the C17th. \nThe presentation will concentrate on Velasquez’s clear and undistorted depiction of court life in his painting ‘Las Meninas’ and its influence on C20th artist Pablo Picasso.
URL:https://theathenaeum.org.uk/event/arts-group-9/
LOCATION:The Athenaeum Liverpool\, Church Alley\, Liverpool\, L1 3DD\, United Kingdom
CATEGORIES:Members Only Event
END:VEVENT
BEGIN:VEVENT
DTSTART;TZID=Europe/London:20181123T113000
DTEND;TZID=Europe/London:20181123T143000
DTSTAMP:20260421T061438
CREATED:20180406T094350Z
LAST-MODIFIED:20181113T142002Z
UID:10000954-1542972600-1542983400@theathenaeum.org.uk
SUMMARY:Library And Archive Group
DESCRIPTION:“Maps\, and how to interpret them”. 11:30am in the Library. \nThe intention is to examine where the many maps in the Athenaeum collection are stored and how to find what is here. Illustrative examples will be available to view. \nAt 12.30 pm following the talk an informal lunch will be available (£12.50 per person -reservation required)
URL:https://theathenaeum.org.uk/event/library-archive-group-3/
LOCATION:The Athenaeum Liverpool\, Church Alley\, Liverpool\, L1 3DD\, United Kingdom
CATEGORIES:Members Only Event
END:VEVENT
BEGIN:VEVENT
DTSTART;TZID=Europe/London:20181122T183000
DTEND;TZID=Europe/London:20181122T220000
DTSTAMP:20260421T061438
CREATED:20181030T112532Z
LAST-MODIFIED:20181031T185647Z
UID:10001023-1542911400-1542924000@theathenaeum.org.uk
SUMMARY:'Suffrage'\, Dinner with Janet Dugdale
DESCRIPTION:In November we will be taking part in Liverpool City Council’s Vote 100 week\, which will celebrate the centenary of votes for women and the first female MPs. During that week there will be a Presidential  dinner during that week with Janet Dugdale\, Director of National  Museums Liverpool\, speaking to us about the history of female suffrage in Liverpool. Janet is an expert on this topic\, and this talk promises to be an interesting event. \n  \nEvent Schedule \nArrivals: 6:30 for 7:00pm \nTalk in the Newsroom: 7:00 for 7:30pm \nDinner served: 7:45-21:30pm \nNewsroom bar open following dinner\, last orders between 10:15 and 10:30pm. \nClub Closed: 11:00pm \n  \nDress Code: Lounge Suits
URL:https://theathenaeum.org.uk/event/suffrage-dinner-with-janet-dugdale/
LOCATION:The Athenaeum Liverpool\, Church Alley\, Liverpool\, L1 3DD\, United Kingdom
CATEGORIES:Members Only Event
END:VEVENT
BEGIN:VEVENT
DTSTART;TZID=Europe/London:20181121T173000
DTEND;TZID=Europe/London:20181121T183000
DTSTAMP:20260421T061438
CREATED:20180925T225702Z
LAST-MODIFIED:20181031T185248Z
UID:10000847-1542821400-1542825000@theathenaeum.org.uk
SUMMARY:Music Group: 'Love Songs: English\, French & Russian'
DESCRIPTION:Russian Singer Irina Ektova in the Newsroom \n21 November 2018 at 5.30 p.m. \n I am delighted to announce a short concert in the Newsroom on Wednesday\, 21 November 2018 at 5.30 p.m. The event will feature my friend Irina Ektova\, who will sing a selection of love songs in English\, French and her native Russian\, with myself on piano. Between 2005 and 2010 Irina and I were colleagues at the British International School Moscow\, where Irina taught French and I taught Music. Songs in English will include classics by Gershwin\, Cole Porter and Rodgers and Hart; in French ‘Les feuilles mortes’ (better known to English audiences as ‘Autumn leaves’) and ‘Champs Elysees’; and in Russian some celebrated romances\, including ‘Yah vass lyubill’ (‘I loved you’) – words by Alexander Pushkin. The concert will be very informal\, with the bar open and food and drink available as normal. \n  \nGlyn Williams \nCo-Music Group Facilitator
URL:https://theathenaeum.org.uk/event/music-group-love-songs-english-french-russian/
LOCATION:The Athenaeum Liverpool\, Church Alley\, Liverpool\, L1 3DD\, United Kingdom
CATEGORIES:Members Only Event
END:VEVENT
BEGIN:VEVENT
DTSTART;TZID=Europe/London:20181120T140000
DTEND;TZID=Europe/London:20181120T160000
DTSTAMP:20260421T061438
CREATED:20180803T104123Z
LAST-MODIFIED:20181030T102416Z
UID:10000974-1542722400-1542729600@theathenaeum.org.uk
SUMMARY:The Film Group
DESCRIPTION:Tuesday 20th November\, 2018: Libel (1959) This British Film was directed by Anthony Asquith and stars Olivia de Havilland\, Dirk Bogarde\, Paul Massie\, Wilfred Hyde-White and Robert Morley. A Canadian World War II pilot (Massie) in London sees Sir Mark Lodden (Bogarde) on TV giving a tour of his ancestral home. The pilot recalls that he was in a POW camp with a Major Lodden and believes that the baronet is actually an actor called  Wellney (also played by Bogarde)\, who shared their POW hut. De Havilland plays the baronet’s wife and the pilot’s belief results in a libel trial. \nThe film is recognised by the American Film Institute as one of its top 10 court films. \n(Running time: 100 mins) \n  \n(Originally scheduled for 21 November)
URL:https://theathenaeum.org.uk/event/the-film-group-15/
LOCATION:The Athenaeum Liverpool\, Church Alley\, Liverpool\, L1 3DD\, United Kingdom
END:VEVENT
BEGIN:VEVENT
DTSTART;TZID=Europe/London:20181119T123000
DTEND;TZID=Europe/London:20181119T160000
DTSTAMP:20260421T061438
CREATED:20181031T191829Z
LAST-MODIFIED:20181031T192858Z
UID:10001029-1542630600-1542643200@theathenaeum.org.uk
SUMMARY:Vincent Roper - Retirement Lunch
DESCRIPTION:Join us on Monday 19 November for a special lunch to both celebrate Vincent Roper’s 87th birthday and commemorate his retirement as Librarian of the Athenaeum. \nFurther details on the event will follow\, however as this will likely be a very popular lunch with many Proprietors wishing to thank ‘Vin’ for all the work he has put into the Club over the years\, booking early is strongly recommended. \nEvent Schedule \nReception Drink in the Newsroom: 12:30-1:00pm \nLunch Served: 1:00-2:30pm \nThe Newsroom will be serving until 4:00pm on this day\, with the Club closing at 4:30pm.
URL:https://theathenaeum.org.uk/event/vincent-roper-retirement-lunch/
LOCATION:The Athenaeum Liverpool\, Church Alley\, Liverpool\, L1 3DD\, United Kingdom
CATEGORIES:Members Only Event
END:VEVENT
BEGIN:VEVENT
DTSTART;TZID=Europe/London:20181117T190000
DTEND;TZID=Europe/London:20181118T010000
DTSTAMP:20260421T061438
CREATED:20181031T185945Z
LAST-MODIFIED:20181031T185945Z
UID:10001028-1542481200-1542502800@theathenaeum.org.uk
SUMMARY:Younger Members' Quarterly Dinner
DESCRIPTION:
URL:https://theathenaeum.org.uk/event/younger-members-quarterly-dinner/
LOCATION:The Athenaeum Liverpool\, Church Alley\, Liverpool\, L1 3DD\, United Kingdom
CATEGORIES:Members Only Event
END:VEVENT
BEGIN:VEVENT
DTSTART;TZID=Europe/London:20181116T183000
DTEND;TZID=Europe/London:20181116T220000
DTSTAMP:20260421T061438
CREATED:20181003T113547Z
LAST-MODIFIED:20181031T185110Z
UID:10000986-1542393000-1542405600@theathenaeum.org.uk
SUMMARY:'Climbing Kili'\, Supper with Jack Birley
DESCRIPTION:Our Club Secretary successfully ascended Mt Kilimanjaro in early this year in August\, raising over £4\,600.00 in the process. Join us in November and hear about Jack’s adventure to the roof of Africa\, as he presents an illustrated talk of  “the most difficult challenge he has ever face”. \n 
URL:https://theathenaeum.org.uk/event/kilimanjaro-jack-birley/
LOCATION:The Athenaeum Liverpool\, Church Alley\, Liverpool\, L1 3DD\, United Kingdom
CATEGORIES:Members Only Event
END:VEVENT
BEGIN:VEVENT
DTSTART;TZID=Europe/London:20181115T184500
DTEND;TZID=Europe/London:20181115T210000
DTSTAMP:20260421T061438
CREATED:20180730T132615Z
LAST-MODIFIED:20181031T184834Z
UID:10000971-1542307500-1542315600@theathenaeum.org.uk
SUMMARY:Athenaeum Debates
DESCRIPTION:‘Is Free Speech Alive in Universities?’ \nWith the Cambridge Society of Liverpool \n  \nThe Athenaeum debating society and Cambridge Society of Liverpool are holding a debate on the evening of Thursday 15th November in the Athenaeum Library. We are searching for two lively and well informed speakers from the Athenaeum membership to speak against the motion and argue that free speech is no longer alive in Universities. Speakers generally put their argument to the audience in no longer than ten minutes. \nThe usual format for Athenaeum debates is: \n” Speakers both for and against 7 minutes each.\n” 25 minutes open to the floor.\n” Summary from Proposer and Opposer 5 minutes each.\n” Summary from Judges and declaration of winner. \n  \nTickets cost £10.00 and include canapes and a welcome drink. \nBooking for this event is now open to Athenaeum members and Cambridge alumni\, please contact the Club directly on 0151 709 7770 to book a place. Non-Members are asked to pay their ticket fee in advance to confirm their booking. \nIf you would like to volunteer on behalf of the Athenaeum debating society to argue that free speech in universities is no longer alive\, please contact Paul McCarthy: pauldmccarthy@outlook.com \n  \nIf you are an alumnus of the University of Cambridge and would like to volunteer to speak for the motion\, please contact Georgina Ritson: camsocliverpool@gmail.com \nWith our thanks and best wishes \nPaul and Georgina \n  \nEvent Schedule; \n6:45-7:45pm reception in the Newsroom \n7:45-8:45 Debates in the Library
URL:https://theathenaeum.org.uk/event/athenaeum-debates-2/
LOCATION:The Athenaeum Liverpool\, Church Alley\, Liverpool\, L1 3DD\, United Kingdom
END:VEVENT
BEGIN:VEVENT
DTSTART;TZID=Europe/London:20181114T181500
DTEND;TZID=Europe/London:20181114T220000
DTSTAMP:20260421T061438
CREATED:20180918T134324Z
LAST-MODIFIED:20180918T134607Z
UID:10000983-1542219300-1542232800@theathenaeum.org.uk
SUMMARY:The Athenaeum Film Nights - The Dam Busters
DESCRIPTION:The Dam Buster (1955) \nThe story of how the British attacked German dams in WWII by using an ingenious technique to drop bombs where they would be most effective. \nWe begin about 6.45pm with a one course supper and go into the ‘cinema’ by about quarter to eight. All our films have a suitable intermission and we empty out no later than ten o’clock. \n1 Course Supper Menu TBC\nTea\, coffee & mints \nSweeties During Film
URL:https://theathenaeum.org.uk/event/the-athenaeum-film-nights-the-dam-busters/
LOCATION:The Athenaeum Liverpool\, Church Alley\, Liverpool\, L1 3DD\, United Kingdom
CATEGORIES:Members Only Event
END:VEVENT
BEGIN:VEVENT
DTSTART;TZID=Europe/London:20181114T140000
DTEND;TZID=Europe/London:20181114T153000
DTSTAMP:20260421T061438
CREATED:20180430T131229Z
LAST-MODIFIED:20181031T190144Z
UID:10000963-1542204000-1542209400@theathenaeum.org.uk
SUMMARY:The History Group
DESCRIPTION:‘A Burden upon the Public or Fighters for Liberty: the reception of Hungarian and Polish Refugees in Liverpool in 1851’. by John Pinfold. \n2:00pm in the Wine Servery
URL:https://theathenaeum.org.uk/event/the-history-group-5/
LOCATION:The Athenaeum Liverpool\, Church Alley\, Liverpool\, L1 3DD\, United Kingdom
CATEGORIES:Members Only Event
END:VEVENT
END:VCALENDAR