BEGIN:VCALENDAR
VERSION:2.0
PRODID:-//The Athenaeum Liverpool - ECPv6.7.1//NONSGML v1.0//EN
CALSCALE:GREGORIAN
METHOD:PUBLISH
X-WR-CALNAME:The Athenaeum Liverpool
X-ORIGINAL-URL:https://theathenaeum.org.uk
X-WR-CALDESC:Events for The Athenaeum Liverpool
REFRESH-INTERVAL;VALUE=DURATION:PT1H
X-Robots-Tag:noindex
X-PUBLISHED-TTL:PT1H
BEGIN:VTIMEZONE
TZID:Europe/London
BEGIN:DAYLIGHT
TZOFFSETFROM:+0000
TZOFFSETTO:+0100
TZNAME:BST
DTSTART:20170326T010000
END:DAYLIGHT
BEGIN:STANDARD
TZOFFSETFROM:+0100
TZOFFSETTO:+0000
TZNAME:GMT
DTSTART:20171029T010000
END:STANDARD
END:VTIMEZONE
BEGIN:VEVENT
DTSTART;TZID=Europe/London:20171026T180000
DTEND;TZID=Europe/London:20171026T200000
DTSTAMP:20260421T190905
CREATED:20170926T094916Z
LAST-MODIFIED:20170926T095045Z
UID:10000911-1509040800-1509048000@theathenaeum.org.uk
SUMMARY:Athenaeum Debates: 26/10/17
DESCRIPTION:We are entering an new epoch\, a time where technology\, automation and machine intelligence has the potential to supplant human labour in all its forms. Not just physical labour and manufacturing\, but also white collar industries such as banking and insurance\, medicine\, teaching\, legal and professional services and even the creative arts. What is to become of all this “left behind” human capital? Does capitalism have the power to realign society or should the state intervene via a form of ‘Universal Basic Income’ for all citizens\, freeing mankind to focus on life’s higher pursuits? \n  \nThis is the subject of our next Athenaeum debate taking place on the 26th October 2017 at 6pm in the Newsroom. \n  \nIf you would like to attend\, please reserve your place via the Athenaeum booking system or contact Jack or Katie on reception. Please feel free to bring guests\, just let us know how many will be attending. \n  \nWe look forward to seeing you on the 26th October. \n  \nAthenaeum Debates Interest Group
URL:https://theathenaeum.org.uk/event/athenaeum-debates-261017/
LOCATION:The Athenaeum Liverpool\, Church Alley\, Liverpool\, L1 3DD\, United Kingdom
CATEGORIES:Members Only Event
END:VEVENT
BEGIN:VEVENT
DTSTART;TZID=Europe/London:20171018T140000
DTEND;TZID=Europe/London:20171018T160000
DTSTAMP:20260421T190905
CREATED:20170706T132831Z
LAST-MODIFIED:20170925T143114Z
UID:10000766-1508335200-1508342400@theathenaeum.org.uk
SUMMARY:The Film Group
DESCRIPTION:I’M ALL RIGHT JACK (GB 1959)  \nDir. by John Boulting. \nAfter being demobbed the hero (Ian Carmichael) decides to go into Industry\, little knowing that most of the workforce are strike-happy layabouts\, and that the management are as bent as hair-pins.   This wickedly cynical film marks Peter Sellers’ first great role as a bone-headed shop steward.
URL:https://theathenaeum.org.uk/event/the-film-group-8/
LOCATION:The Athenaeum Liverpool\, Church Alley\, Liverpool\, L1 3DD\, United Kingdom
CATEGORIES:Members Only Event
END:VEVENT
BEGIN:VEVENT
DTSTART;TZID=Europe/London:20171013T183000
DTEND;TZID=Europe/London:20171013T220000
DTSTAMP:20260421T190905
CREATED:20170706T090752Z
LAST-MODIFIED:20170925T120155Z
UID:10000876-1507919400-1507932000@theathenaeum.org.uk
SUMMARY:'Little Boy Blue'
DESCRIPTION:‘Little Boy Blue’\, Dinner with His Honour Judge Neil Flewitt Q.C. & Dr Paul Johnson. \nFriday\, 13th October at 6:30-7:00pm. £25.00 per person. \n  \nMany of you will have seen the recent highly-rated ITV series ‘Little Boy Blue’ about the terrible murder of the Croxteth youngster Rhys Jones. The leading prosecution barrister in the case was Neil Flewitt Q.C.\, now a Circuit Judge\, and the consultant pathologist who gave significant evidence in the case was Dr. Paul Johnson. Neil and Paul will be joining us for dinner on Friday\, 13th October and will be giving a joint presentation about the case. \n  \nStarter \nTerrine de Hiver \nPressed game terrine with Duck\, Pidgeon and Chicken livers \nServed with Pistachio sponge and orange gel  \n  \nMain Course \nRoast Sirloin of Casterbridge beef\, horseradish mash Yorkshire pudding \nServed with roast potatoes and seasonal vegetables\, red wine gravy \n  \nDessert \nLemon Posset with Shortbread  \n  \nTea\, Coffee & Mints
URL:https://theathenaeum.org.uk/event/little-boy-blue-dinner-honour-judge-neil-flewitt-q-c-dr-paul-johnson/
LOCATION:The Athenaeum Liverpool\, Church Alley\, Liverpool\, L1 3DD\, United Kingdom
CATEGORIES:Members Only Event
END:VEVENT
BEGIN:VEVENT
DTSTART;TZID=Europe/London:20171005T181500
DTEND;TZID=Europe/London:20171005T220000
DTSTAMP:20260421T190905
CREATED:20170707T142902Z
LAST-MODIFIED:20170925T115349Z
UID:10000774-1507227300-1507240800@theathenaeum.org.uk
SUMMARY:Athenaeum Film Nights - The Lady Killers
DESCRIPTION:‘The Lady Killers’ \nA customary Ealing comedy to start the season \n‘Five diverse oddball criminal types planning a bank robbery rent rooms on a cul-de-sac from an octogenarian widow under the pretext that they are classical musicians’. \nWe begin about 6.45pm with a one course supper and go into the ‘cinema’ by about quarter to eight. All our films have a suitable intermission and we empty out no later than ten o’clock.
URL:https://theathenaeum.org.uk/event/athenaeum-film-nights/
LOCATION:The Athenaeum Liverpool\, Church Alley\, Liverpool\, L1 3DD\, United Kingdom
CATEGORIES:Members Only Event
END:VEVENT
BEGIN:VEVENT
DTSTART;TZID=Europe/London:20171004T140000
DTEND;TZID=Europe/London:20171004T153000
DTSTAMP:20260421T190905
CREATED:20170706T123457Z
LAST-MODIFIED:20170925T130858Z
UID:10000886-1507125600-1507131000@theathenaeum.org.uk
SUMMARY:The Literature Group
DESCRIPTION:  \n‘‘Evelyn Waugh: Put Out More Flags’ by John Morgan’
URL:https://theathenaeum.org.uk/event/the-literature-group-4/
LOCATION:The Athenaeum Liverpool\, Church Alley\, Liverpool\, L1 3DD\, United Kingdom
CATEGORIES:Members Only Event
END:VEVENT
BEGIN:VEVENT
DTSTART;TZID=Europe/London:20170926T133000
DTEND;TZID=Europe/London:20170926T170000
DTSTAMP:20260421T190905
CREATED:20170713T143836Z
LAST-MODIFIED:20170713T143836Z
UID:10000908-1506432600-1506445200@theathenaeum.org.uk
SUMMARY:‘Artists’ Talks—Jessica Briggs’
DESCRIPTION:Joint Afternoon Tea with the Bluecoat Display Centre. \nTuesday\, 26th September\, at 1:00 for 1:30pm. £12.50 per person. \nJessica creates a stunning range of wearable jewellery including cuffs\, rings\, earrings\, men’s jewellery\, neckpieces & brooches. She works primarily in silver\, while also using gold leaf to bring colour\, contrast and life to her collection. All designs\, whatever the inspiration are translated into pieces with subtle textures or more complex and layered finishes. There is always an inherent simplicity of both form and function.
URL:https://theathenaeum.org.uk/event/artists-talks-jessica-briggs/
LOCATION:The Athenaeum Liverpool\, Church Alley\, Liverpool\, L1 3DD\, United Kingdom
CATEGORIES:Members Only Event
END:VEVENT
BEGIN:VEVENT
DTSTART;TZID=Europe/London:20170922T183000
DTEND;TZID=Europe/London:20170922T223000
DTSTAMP:20260421T190905
CREATED:20170706T090409Z
LAST-MODIFIED:20170908T132409Z
UID:10000875-1506105000-1506119400@theathenaeum.org.uk
SUMMARY:Dinner with Times Journalist Carol Midgley
DESCRIPTION:Dinner with Times Journalist Carol Midgley.                                \nFriday\, 22nd September at 6:30 for 7:00pm. \n  \nOn Friday\, 22nd September\, the Times journalist\,  feature-writer and sometimes TV critic Carol Midgley will be joining us for dinner and instead of giving a formal talk afterwards she will be ‘in conversation’ with the President\, Sir David Maddison. \n  \nShe is a witty\, forthright writer. One of her recent Times features had as its headlines ‘I love the heat\, so stop moaning and let me perspire’\, ‘Curse of the killer handbag’ and ‘Treat your car like Mariah’. The evening should be great fun. \n  \nThis is a full vegetarian menu\, at Sir David’s request (guest speaker is vegetarian) \n  \nStarter \nGateaux of Provençale vegetables\, goats cheese mousse\, tapenade \n  \nMain Course \nRoasted stuffed pepper with Moroccan couscous \nMedjool date and tomato sauce\, pickled lemons and toasted almonds \n  \nDessert \nChocolate fudge Brownie\, Kirsch soaked cherries\, whipped Chantilly cream \n  \nTea\, Coffee & Mints
URL:https://theathenaeum.org.uk/event/dinner-times-journalist-carol-midgley/
LOCATION:The Athenaeum Liverpool\, Church Alley\, Liverpool\, L1 3DD\, United Kingdom
CATEGORIES:Members Only Event
END:VEVENT
BEGIN:VEVENT
DTSTART;TZID=Europe/London:20170918T140000
DTEND;TZID=Europe/London:20170918T170000
DTSTAMP:20260421T190905
CREATED:20170706T125604Z
LAST-MODIFIED:20170706T125632Z
UID:10000893-1505743200-1505754000@theathenaeum.org.uk
SUMMARY:The Film Group
DESCRIPTION:Film List to Follow…
URL:https://theathenaeum.org.uk/event/the-film-group-3/
LOCATION:The Athenaeum Liverpool\, Church Alley\, Liverpool\, L1 3DD\, United Kingdom
CATEGORIES:Members Only Event
END:VEVENT
BEGIN:VEVENT
DTSTART;TZID=Europe/London:20170914T140000
DTEND;TZID=Europe/London:20170914T200000
DTSTAMP:20260421T190905
CREATED:20170811T105742Z
LAST-MODIFIED:20170908T113348Z
UID:10000910-1505397600-1505419200@theathenaeum.org.uk
SUMMARY:The History Group
DESCRIPTION:The History Group\, Thursday 14th September 2017\, at 2.0 p.m. \nJUDGE   JEFFREYS’   JAUNT \nEveryone knows that in 1685\, following the failed Monmouth Rebellion\, Judge Jeffries\, at the so-called Bloody Assizes\, sentenced a number of persons connected with it in the most savage manner.  Cruelty is the picture that people have of him.  But there was a great deal more to him – hard drinking\, for a start.  Dick Hamilton describes his visit to the Northern Circuit in 1684 – York\, Newcastle and Carlisle – when he was welcomed with a 16-gun salute. It shows a fuller picture of his  character. \nAll welcome.
URL:https://theathenaeum.org.uk/event/history-group-talk/
LOCATION:The Athenaeum Liverpool\, Church Alley\, Liverpool\, L1 3DD\, United Kingdom
CATEGORIES:Members Only Event
END:VEVENT
BEGIN:VEVENT
DTSTART;TZID=Europe/London:20170913T140000
DTEND;TZID=Europe/London:20170913T170000
DTSTAMP:20260421T190905
CREATED:20170706T124231Z
LAST-MODIFIED:20170908T113158Z
UID:10000890-1505311200-1505322000@theathenaeum.org.uk
SUMMARY:The Film Group
DESCRIPTION:LA RONDE (France 1950\, directed by Max Ophuls) \nA. is in love with B.\, who is in love with C.\, who is in love with D.\, etc etc.\, in love with A.  This  roundabout\, presided over by the knowing  and cynical Anton Walbrook\, makes for the wittiest and most romantic film in the French cinema\, starring Gerard Philipe and Jean-Louis Barrault\, to name but a few. \nAll welcome.
URL:https://theathenaeum.org.uk/event/the-film-group-2/
LOCATION:The Athenaeum Liverpool\, Church Alley\, Liverpool\, L1 3DD\, United Kingdom
CATEGORIES:Members Only Event
END:VEVENT
BEGIN:VEVENT
DTSTART;TZID=Europe/London:20170909T103000
DTEND;TZID=Europe/London:20170909T153000
DTSTAMP:20260421T190905
CREATED:20170807T101249Z
LAST-MODIFIED:20170905T183741Z
UID:10000909-1504953000-1504971000@theathenaeum.org.uk
SUMMARY:Heritage Open Day - 9th September 2017
DESCRIPTION:‘Step inside Church Alley’s discrete doorway and enter part of Liverpool’s History’. \n  \nFounded in 1797 by prominent Liverpool figures\, the Athenaeum is one of the oldest private members clubs in the UK. Entry into the enigmatic doorway located on Church Alley is restricted only to its Members -or Proprietors as they are known as they each own one equal share- or attendees of functions help at the premises\, however… \n  \nOn Saturday September 9th 2017 the Athenaeum opens its doors to the public as part of Heritage Open Day. In addition to viewing the magnificent rooms within\, including the Newsroom and the spectacular Library\, these special tours will offer an insight into the history of the Club\, its past members\, and the treasures kept within. \n  \nTours of the Club will be commencing at 10:30am\, and will run every 30 minutes until 3:00pm. Tours last approximately 30 minutes\, and booking is essential. \n  \nTo book your place\, please email Katie Hodson ( katie@theathenaeum.org.uk ) stipulating your name\, the amount of tickets required\, and your preferred timeslot\, alternatively you can call our reception on 0151 709 7770. Don’t delay your booking as we predict demand will outweigh our maximum allocations. \n  \n 
URL:https://theathenaeum.org.uk/event/heritage-open-day-9th-september-2017/
LOCATION:The Athenaeum Liverpool\, Church Alley\, Liverpool\, L1 3DD\, United Kingdom
CATEGORIES:Public Event
END:VEVENT
BEGIN:VEVENT
DTSTART;TZID=Europe/London:20170908T190000
DTEND;TZID=Europe/London:20170908T223000
DTSTAMP:20260421T190905
CREATED:20170706T090025Z
LAST-MODIFIED:20170706T090025Z
UID:10000874-1504897200-1504909800@theathenaeum.org.uk
SUMMARY:Roscoe Fine Dining Evening
DESCRIPTION:Roscoe Fine Dining Evening. \nFriday\, 8th September\, time slots to be allocated per table. \n  \nOn Friday\, 8th September we will be presenting a Roscoe Fine Dining Restaurant Night\, with individually priced dishes. This will be limited to 40 people\, with a maximum of 6 at each table\, so book early to avoid disappointment. The not dissimilar gourmet dining evening to be held on July 8th sold out quickly\, and the Roscoe event is likely to do the same. \n  \nPlease be aware that time slots will be allocated to each table.
URL:https://theathenaeum.org.uk/event/roscoe-fine-dining-evening-2/
LOCATION:The Athenaeum Liverpool\, Church Alley\, Liverpool\, L1 3DD\, United Kingdom
CATEGORIES:Members Only Event
END:VEVENT
BEGIN:VEVENT
DTSTART;TZID=Europe/London:20170906T140000
DTEND;TZID=Europe/London:20170906T153000
DTSTAMP:20260421T190905
CREATED:20170706T122944Z
LAST-MODIFIED:20170925T114650Z
UID:10000885-1504706400-1504711800@theathenaeum.org.uk
SUMMARY:The Literature Group
DESCRIPTION:Members Tom & Linda Iley will be giving a talk to the Literature Group about ‘Carmina Burana’. \nAll members and their guests are welcome for what is sure to be a fascinating event.
URL:https://theathenaeum.org.uk/event/the-literature-group-3/
LOCATION:The Athenaeum Liverpool\, Church Alley\, Liverpool\, L1 3DD\, United Kingdom
CATEGORIES:Members Only Event
END:VEVENT
BEGIN:VEVENT
DTSTART;TZID=Europe/London:20170725T150000
DTEND;TZID=Europe/London:20170725T170000
DTSTAMP:20260421T190905
CREATED:20170706T121916Z
LAST-MODIFIED:20170717T142526Z
UID:10000884-1500994800-1501002000@theathenaeum.org.uk
SUMMARY:The History Group
DESCRIPTION:A tour of the Egyptian collection at the Liverpool Museum\, William Brown St\, led by the collector of Antiquities\, Dr Ashley Cooke. Dr Cooke will act as guide to the tour which is open to all Proprietors. There is a fee of £10 per person which goes to the Museum. You can book your place on the tour via our website or through reception. \nTo meet at 3pm at the entrance to the Ancient Egypt gallery on the 3rd Floor.
URL:https://theathenaeum.org.uk/event/the-history-group-2/
LOCATION:The Athenaeum Liverpool\, Church Alley\, Liverpool\, L1 3DD\, United Kingdom
CATEGORIES:Members Only Event
END:VEVENT
BEGIN:VEVENT
DTSTART;TZID=Europe/London:20170721T183000
DTEND;TZID=Europe/London:20170721T223000
DTSTAMP:20260421T190905
CREATED:20170627T125728Z
LAST-MODIFIED:20170628T081443Z
UID:10000873-1500661800-1500676200@theathenaeum.org.uk
SUMMARY:Mostly Madrigals
DESCRIPTION:‘Mostly Madrigals’ are a choral group based in South Liverpool\, and sing\, er\, …. They also sing  a variety of traditional and folk songs. They are coming to the Athenaeum to entertain us after supper on 21st July. We are lucky to have them. Formed some 25 years ago\, they have performed at such venues as St. George’s Hall in support of the Roy Castle Charity\, the Palm House in Sefton Park\, Speke Hall and St. Faith’s Church in Crosby. They are multiple winners of the Stanley Kennet Shield at the annual Liverpool Music Festival. Their members include Maggie Willett\, Mark Bishop\, Andy Collier\, Sue Grainger\, Diana Crew and Sandy Harley\, some or all of whom will be known to many of you. \nThe evening will begin with welcome drinks (Prosecco\, or Pimms if you prefer)\, followed by a delicious two-course supper with a summery menu\, namely roast loin of cod with all the trimmings\, and lemon posset with shortbread. \nAll this for a mere £14.00. Yes\, really. \nFor those coming straight from work\, please note that the Newsroom bar is open all day on Fridays and that sandwiches and light snacks can be ordered if anyone wishes to bridge the gap before supper. \nDon’t miss what promises to be a happy and enjoyable evening. I hope to see you there.
URL:https://theathenaeum.org.uk/event/mostly-madrigals/
LOCATION:The Athenaeum Liverpool\, Church Alley\, Liverpool\, L1 3DD\, United Kingdom
CATEGORIES:Members Only Event
END:VEVENT
BEGIN:VEVENT
DTSTART;TZID=Europe/London:20170718T140000
DTEND;TZID=Europe/London:20170718T170000
DTSTAMP:20260421T190905
CREATED:20170706T131720Z
LAST-MODIFIED:20170706T131852Z
UID:10000902-1500386400-1500397200@theathenaeum.org.uk
SUMMARY:The Arts' Group
DESCRIPTION:Stephen Hitchin – Sculptor. \nStephen has worded with a ranger of materials including metal\, stained glass\, ceramics and bronze. \nStone with its reductive process affords him the opportunity to have a close sensitive relationship with the material. \nStephen\, who is also a Proprietor\, will give a presentation of his work. \nAll Proprietors and guests are welcome.
URL:https://theathenaeum.org.uk/event/the-arts-group-5/
LOCATION:The Athenaeum Liverpool\, Church Alley\, Liverpool\, L1 3DD\, United Kingdom
CATEGORIES:Members Only Event
END:VEVENT
BEGIN:VEVENT
DTSTART;TZID=Europe/London:20170707T190000
DTEND;TZID=Europe/London:20170707T223000
DTSTAMP:20260421T190905
CREATED:20170201T143007Z
LAST-MODIFIED:20170201T143007Z
UID:10000846-1499454000-1499466600@theathenaeum.org.uk
SUMMARY:Gourmet Dinner
DESCRIPTION:Last July’s Gala Gourmet Dinner was a showcase of the culinary expertise we are so lucky to be offered at the Athenaeum\, as fifty guests were treated to a magnificent eight course menu. Book early for this year’s Gourmet Dinner. By the time the menu is released\, tickets may have been snapped up. \n 
URL:https://theathenaeum.org.uk/event/gourmet-dinner/
LOCATION:The Athenaeum Liverpool\, Church Alley\, Liverpool\, L1 3DD\, United Kingdom
CATEGORIES:Members Only Event
END:VEVENT
BEGIN:VEVENT
DTSTART;TZID=Europe/London:20170707T181500
DTEND;TZID=Europe/London:20170707T220000
DTSTAMP:20260421T190905
CREATED:20170707T145212Z
LAST-MODIFIED:20170925T115503Z
UID:10000780-1499451300-1499464800@theathenaeum.org.uk
SUMMARY:Athenaeum Film Nights
DESCRIPTION:Details of film listings to follow…. \nWe begin about 6.45pm with a one course supper and go into the ‘cinema’ by about quarter to eight. All our films have a suitable intermission and we empty out no later than ten o’clock.
URL:https://theathenaeum.org.uk/event/athenaeum-film-nights-4/
LOCATION:The Athenaeum Liverpool\, Church Alley\, Liverpool\, L1 3DD\, United Kingdom
CATEGORIES:Members Only Event
END:VEVENT
BEGIN:VEVENT
DTSTART;TZID=Europe/London:20170706T120000
DTEND;TZID=Europe/London:20170706T133000
DTSTAMP:20260421T190905
CREATED:20170419T100307Z
LAST-MODIFIED:20170419T100307Z
UID:10000871-1499342400-1499347800@theathenaeum.org.uk
SUMMARY:Annual General Meeting
DESCRIPTION:
URL:https://theathenaeum.org.uk/event/annual-general-meeting/
LOCATION:The Athenaeum Liverpool\, Church Alley\, Liverpool\, L1 3DD\, United Kingdom
CATEGORIES:Members Only Event
END:VEVENT
BEGIN:VEVENT
DTSTART;TZID=Europe/London:20170626T120000
DTEND;TZID=Europe/London:20170626T150000
DTSTAMP:20260421T190905
CREATED:20170317T144217Z
LAST-MODIFIED:20170426T122707Z
UID:10000854-1498478400-1498489200@theathenaeum.org.uk
SUMMARY:Chelsea Pensioners Lunch
DESCRIPTION:Armed Forces Day Lunch—£25.00 per person (includes reception drink on arrival and a £5.00 donation to SSAFA)\nWe commemorate Armed Forces Day (formerly Veterans Day) with a belated lunch on Monday 26 June. A number of Chelsea Pensioners will be in attendance at the lunch as guests of the Institution.
URL:https://theathenaeum.org.uk/event/chelsea-pensioners-lunch/
LOCATION:The Athenaeum Liverpool\, Church Alley\, Liverpool\, L1 3DD\, United Kingdom
END:VEVENT
BEGIN:VEVENT
DTSTART;TZID=Europe/London:20170621T140000
DTEND;TZID=Europe/London:20170621T150000
DTSTAMP:20260421T190905
CREATED:20170407T111715Z
LAST-MODIFIED:20170420T122717Z
UID:10000861-1498053600-1498057200@theathenaeum.org.uk
SUMMARY:The History Group
DESCRIPTION:“James Allanson Picton:one of the most remarkable and useful men Liverpool has ever produced.” The speaker is Roger Hull.
URL:https://theathenaeum.org.uk/event/the-history-group/
LOCATION:The Athenaeum Liverpool\, Church Alley\, Liverpool\, L1 3DD\, United Kingdom
CATEGORIES:Members Only Event
END:VEVENT
BEGIN:VEVENT
DTSTART;TZID=Europe/London:20170620T110000
DTEND;TZID=Europe/London:20170620T120000
DTSTAMP:20260421T190905
CREATED:20170407T112604Z
LAST-MODIFIED:20170407T112604Z
UID:10000865-1497956400-1497960000@theathenaeum.org.uk
SUMMARY:The Arts Group
DESCRIPTION:Visit to Lady Lever Art Gallery. \nEdo Japanese Woodcuts followed by lunch across the road. \nMeet at 11am in the museum Foyer.
URL:https://theathenaeum.org.uk/event/the-arts-group-3/
LOCATION:The Tate\, Liverpool\, United Kingdom
CATEGORIES:Members Only Event
GEO:53.4083714;-2.9915726
END:VEVENT
BEGIN:VEVENT
DTSTART;TZID=Europe/London:20170614T190000
DTEND;TZID=Europe/London:20170614T223000
DTSTAMP:20260421T190905
CREATED:20170419T094906Z
LAST-MODIFIED:20170419T094906Z
UID:10000870-1497466800-1497479400@theathenaeum.org.uk
SUMMARY:An Evening with Dame Lorna
DESCRIPTION:An Evening with Dame Lorna—Price to be finalised\nLord Lieutenant of Merseyside\, Dame Lorna Muirhead (DCVO DBE) joins us in conversation with Roger Phillip for what promises to be a special evening. Demand for tickets is expected to be high for this function\, please book early to avoid disappointment.
URL:https://theathenaeum.org.uk/event/evening-dame-lorna/
LOCATION:The Athenaeum Liverpool\, Church Alley\, Liverpool\, L1 3DD\, United Kingdom
CATEGORIES:Members Only Event
END:VEVENT
BEGIN:VEVENT
DTSTART;TZID=Europe/London:20170614T140000
DTEND;TZID=Europe/London:20170614T150000
DTSTAMP:20260421T190905
CREATED:20170407T113101Z
LAST-MODIFIED:20170609T144944Z
UID:10000866-1497448800-1497452400@theathenaeum.org.uk
SUMMARY:The Film Group
DESCRIPTION:“Shadow of a Doubt” \nWednesday 14th June; at 2.00 p.m. in the Wine Servery\nA SHADOW OF A DOUBT – (USA 1948)\nCharlie (Joseph Cotton) eludes a police cordon\, and takes refuge with his country cousins\, Their Daughter (Teresa Wright) takes quite a shine to him until she discovers his appalling scent. Not a healthy thing to do.\nThis was Alfred Hitchcock’s favourite film.\nALL WELCOME!
URL:https://theathenaeum.org.uk/event/the-film-group/
LOCATION:The Athenaeum Liverpool\, Church Alley\, Liverpool\, L1 3DD\, United Kingdom
CATEGORIES:Members Only Event
END:VEVENT
BEGIN:VEVENT
DTSTART;TZID=Europe/London:20170608T190000
DTEND;TZID=Europe/London:20170608T220000
DTSTAMP:20260421T190905
CREATED:20170201T142137Z
LAST-MODIFIED:20170426T122455Z
UID:10000844-1496948400-1496959200@theathenaeum.org.uk
SUMMARY:New Members Informal Dining
DESCRIPTION:New Members Informal Dining £25.00\nNew Member’s Informal Dining evenings are what they say—Informal! A perfect opportunity to sign the share register. There are no speakers—just good food\, company and wine. You may wish to bring along family and friends with you or join one of our larger club tables; please specify this upon booking. Spaces on these larger tables are subject to availability.
URL:https://theathenaeum.org.uk/event/new-members-informal-dining-10/
LOCATION:The Athenaeum Liverpool\, Church Alley\, Liverpool\, L1 3DD\, United Kingdom
END:VEVENT
BEGIN:VEVENT
DTSTART;TZID=Europe/London:20170607T140000
DTEND;TZID=Europe/London:20170607T153000
DTSTAMP:20260421T190905
CREATED:20170407T112012Z
LAST-MODIFIED:20170925T114740Z
UID:10000862-1496844000-1496849400@theathenaeum.org.uk
SUMMARY:The Literature Group
DESCRIPTION:‘Put Out More Flags’ – By Evelyn Waugh \nJohn Morgan
URL:https://theathenaeum.org.uk/event/the-literature-group-2/
LOCATION:The Athenaeum Liverpool\, Church Alley\, Liverpool\, L1 3DD\, United Kingdom
CATEGORIES:Members Only Event
END:VEVENT
BEGIN:VEVENT
DTSTART;TZID=Europe/London:20170531T173000
DTEND;TZID=Europe/London:20170531T210000
DTSTAMP:20260421T190905
CREATED:20170419T094442Z
LAST-MODIFIED:20170523T100922Z
UID:10000869-1496251800-1496264400@theathenaeum.org.uk
SUMMARY:Library Talk & High Tea
DESCRIPTION:Library Talk & High Tea. £15.00 per person\n(price includes a £3.00 donation to the Library)\nThe treasures of the Athenaeum Library\, contained within the Committee Room / Strong Room\, have been frequently used for tours and publicity purposes. However\, the library’s main collection\, features significant resources covering a wide selection of topics. Presented by Dr Andrew Caine\, this talk illustrates the Athenaeum’s holdings on one of the key events of the twentieth century\, the Russian Revolution of 1917. The centenary of this epochal moment in world history\, which saw the overthrown of Tsar Nicholas II and the Romanov dynasty\, and the eventual rise to power in October 1917 of the revolutionary Bolshevik party\, headed by Vladimir Ilych Lenin\, provides an opportunity for the library staff at the Athenaeum\, to demonstrate the institution’s holdings on the subject. \nStarter \nQuiche \nSalads \nMain \nGrilled chicken\, with new potatoes \nDessert \nSticky Toffee\nTea & Coffee \n 
URL:https://theathenaeum.org.uk/event/library-talk-high-tea/
LOCATION:The Athenaeum Liverpool\, Church Alley\, Liverpool\, L1 3DD\, United Kingdom
CATEGORIES:Members Only Event
END:VEVENT
BEGIN:VEVENT
DTSTART;TZID=Europe/London:20170524T180000
DTEND;TZID=Europe/London:20170524T210000
DTSTAMP:20260421T190905
CREATED:20170406T124222Z
LAST-MODIFIED:20170515T135122Z
UID:10000860-1495648800-1495659600@theathenaeum.org.uk
SUMMARY:Dinner & Talk With RIBA
DESCRIPTION:Dinner with Suzy Jones. 25.00 per person\nSuzy Jones\, Director of RIBA North West will share with us the ambitious plans her organisation has for its newly established headquarters at the Pierhead. \n  \nSTARTER\nPressed Ham & cheddar terrine with apple chutney & capers\nMAIN\nSatimbocca (chicken Breast) with fresh sage\, parma ham\, and stuffed with mozzarella\, sauce vierge \nThyme roasted new potatoes and tender stem broccolli\nDESSERT\nWarm Pear Sponge with ice cream\, toffee sauce & honeycomb \nTea\, coffee & Mints \n  \n  \n  \n 
URL:https://theathenaeum.org.uk/event/dinner-talk-riba/
LOCATION:The Athenaeum Liverpool\, Church Alley\, Liverpool\, L1 3DD\, United Kingdom
CATEGORIES:Members Only Event
END:VEVENT
BEGIN:VEVENT
DTSTART;TZID=Europe/London:20170524T053000
DTEND;TZID=Europe/London:20170524T183000
DTSTAMP:20260421T190905
CREATED:20170523T102252Z
LAST-MODIFIED:20170523T102252Z
UID:10000872-1495603800-1495650600@theathenaeum.org.uk
SUMMARY:Architecture Group Meeting
DESCRIPTION:Architecture Group meeting: Wednesday 24 May\, 5:30pm in the Library.  \nThe revamp of the Athenaeum Architectural Group comes at a most interesting moment. After decades of decline and neglect\, followed by our culture-led renaissance\, the city region is now seeing major investment and fundamental change in its built-environment. From the new container port to the Mersey Gateway Bridge\, to the redefinition of our raison d’etre and growth in the visitor economy\, change is in the air. “Architecture” in our city is no longer just looking back to past glories! There are exciting times ahead! \nThe Athenaeum was founded 220 years ago as a sanctuary for men of affairs to consider contemporary challenges in changing times – “plus ça change\, plus c’est la même chose” – albeit for our gender plurality! \n  \nSo\, don’t miss the opening event at which we intend to determine future activities followed by dinner with a keynote address by Suzy Jones Director of the Royal Institute of British Architecture (RIBA) North West. \n  \nIf you’re not there\, you might get talked about! \n 
URL:https://theathenaeum.org.uk/event/architecture-group-meeting/
LOCATION:The Athenaeum Liverpool\, Church Alley\, Liverpool\, L1 3DD\, United Kingdom
CATEGORIES:Members Only Event
END:VEVENT
BEGIN:VEVENT
DTSTART;TZID=Europe/London:20170523T140000
DTEND;TZID=Europe/London:20170523T150000
DTSTAMP:20260421T190905
CREATED:20170407T112401Z
LAST-MODIFIED:20170516T093143Z
UID:10000864-1495548000-1495551600@theathenaeum.org.uk
SUMMARY:The Arts Group
DESCRIPTION:Bernadette Hamilton will be presenting an artist much admired. \nIris Origo \nHistorian\, inspired gardener and art collector. \nAll Proprietors and Guests are welcome.
URL:https://theathenaeum.org.uk/event/the-arts-group-2/
LOCATION:The Athenaeum Liverpool\, Church Alley\, Liverpool\, L1 3DD\, United Kingdom
CATEGORIES:Members Only Event
END:VEVENT
END:VCALENDAR