BEGIN:VCALENDAR
VERSION:2.0
PRODID:-//The Athenaeum Liverpool - ECPv6.7.1//NONSGML v1.0//EN
CALSCALE:GREGORIAN
METHOD:PUBLISH
X-WR-CALNAME:The Athenaeum Liverpool
X-ORIGINAL-URL:https://theathenaeum.org.uk
X-WR-CALDESC:Events for The Athenaeum Liverpool
REFRESH-INTERVAL;VALUE=DURATION:PT1H
X-Robots-Tag:noindex
X-PUBLISHED-TTL:PT1H
BEGIN:VTIMEZONE
TZID:Europe/London
BEGIN:DAYLIGHT
TZOFFSETFROM:+0000
TZOFFSETTO:+0100
TZNAME:BST
DTSTART:20150329T010000
END:DAYLIGHT
BEGIN:STANDARD
TZOFFSETFROM:+0100
TZOFFSETTO:+0000
TZNAME:GMT
DTSTART:20151025T010000
END:STANDARD
BEGIN:DAYLIGHT
TZOFFSETFROM:+0000
TZOFFSETTO:+0100
TZNAME:BST
DTSTART:20160327T010000
END:DAYLIGHT
BEGIN:STANDARD
TZOFFSETFROM:+0100
TZOFFSETTO:+0000
TZNAME:GMT
DTSTART:20161030T010000
END:STANDARD
END:VTIMEZONE
BEGIN:VEVENT
DTSTART;TZID=Europe/London:20160512T183000
DTEND;TZID=Europe/London:20160512T190000
DTSTAMP:20260422T120620
CREATED:20160215T194755Z
LAST-MODIFIED:20160215T194755Z
UID:10000764-1463077800-1463079600@theathenaeum.org.uk
SUMMARY:'Bolton To Butch'\, Supper with Tom & Linda Iley
DESCRIPTION:‘Bolton to Butch’ \nThursday 12th May 6:30-7:00pm \n£20.00 per person \n Proprietors Tom & Linda Iley tell how they retraced the amazing journey from respectable trade in Bolton via Liverpool to one of the most violent legends of the West at its Wildest! Expect the unexpected\, facts and food! \n 
URL:https://theathenaeum.org.uk/event/bolton-to-butch-supper-with-tom-linda-iley/
LOCATION:The Athenaeum Liverpool\, Church Alley\, Liverpool\, L1 3DD\, United Kingdom
CATEGORIES:Members Only Event
END:VEVENT
BEGIN:VEVENT
DTSTART;TZID=Europe/London:20160504T123000
DTEND;TZID=Europe/London:20160504T130000
DTSTAMP:20260422T120620
CREATED:20160215T194630Z
LAST-MODIFIED:20160414T135522Z
UID:10000673-1462365000-1462366800@theathenaeum.org.uk
SUMMARY:‘The Unorthodox Jesus’ - Lunch with Dr Ian Poole
DESCRIPTION: ‘The Unorthodox Jesus’ – Lunch with Dr Ian Poole \nWednesday 4th May 12:30-1:00pm \n£16.00 per person \nProprietor and author of ‘The Unorthodox Jesus’ Dr Ian Poole\, joins us for lunch where he will be sharing his different perspective on the life of Christ. \nMain\nSalmon en croute with spinach\nparisienne potatoes & salad \nDessert\nStrawberry tart \nTea & coffee
URL:https://theathenaeum.org.uk/event/the-unorthodox-jesus-lunch-with-dr-ian-poole/
LOCATION:The Athenaeum Liverpool\, Church Alley\, Liverpool\, L1 3DD\, United Kingdom
CATEGORIES:Members Only Event
END:VEVENT
BEGIN:VEVENT
DTSTART;TZID=Europe/London:20160421T123000
DTEND;TZID=Europe/London:20160421T130000
DTSTAMP:20260422T120620
CREATED:20160215T194442Z
LAST-MODIFIED:20160215T194442Z
UID:10000672-1461241800-1461243600@theathenaeum.org.uk
SUMMARY:HM Queen Elizabeth II's 90th Birthday Celebration Lunch
DESCRIPTION:Athenaeum & SSAFA Joint Lunch  \nIn celebration of Her Majesty Queen Elizabeth II’s 90th Birthday \nThursday 21st April 12:30-1:00pm \nFull details are to follow. \n 
URL:https://theathenaeum.org.uk/event/hm-queen-elizabeth-iis-90th-birthday-celebration-lunch/
LOCATION:The Athenaeum Liverpool\, Church Alley\, Liverpool\, L1 3DD\, United Kingdom
CATEGORIES:Members Only Event
END:VEVENT
BEGIN:VEVENT
DTSTART;TZID=Europe/London:20160420T140000
DTEND;TZID=Europe/London:20160420T153000
DTSTAMP:20260422T120620
CREATED:20160412T144631Z
LAST-MODIFIED:20160412T144631Z
UID:10000773-1461160800-1461166200@theathenaeum.org.uk
SUMMARY:Double Indemnity - Film Group
DESCRIPTION:Double Indemnity (USA 1994) by Billy Wilder \nOne of the most famous of all the American film noirs. A decent insurance agent (Fred Macmurray) is inveigled by a ‘femme fatal’ (Barbara Swanwick) into murdering her husband. It is the perfect murder\, except that a shrewd collegue (Edward G. Robinson) has doubts about the whole affair. \n  \n 
URL:https://theathenaeum.org.uk/event/double-indemnity-film-group/
LOCATION:The Athenaeum Liverpool\, Church Alley\, Liverpool\, L1 3DD\, United Kingdom
CATEGORIES:Members Only Event
END:VEVENT
BEGIN:VEVENT
DTSTART;TZID=Europe/London:20160414T180000
DTEND;TZID=Europe/London:20160414T183000
DTSTAMP:20260422T120620
CREATED:20160215T194256Z
LAST-MODIFIED:20160215T194256Z
UID:10000671-1460656800-1460658600@theathenaeum.org.uk
SUMMARY:Supper at the LMI - 'Behind the Scenes in the BBC'
DESCRIPTION:Joint Supper with The Liverpool Medical Institution \nThursday 14th April— 6:00pm Welcome Drinks \n£25.00 per person \n  \nHeld at the Liverpool Medical Institution \nMr Rob Bayly\, Retired BBC Producer & Director \n‘Behind the Scenes in the BBC’ \n6:00pm Welcome Drinks // 6:30pm Lecture followed by supper \n 
URL:https://theathenaeum.org.uk/event/supper-at-the-lmi-behind-the-scenes-in-the-bbc/
LOCATION:The Athenaeum Liverpool\, Church Alley\, Liverpool\, L1 3DD\, United Kingdom
CATEGORIES:Members Only Event
END:VEVENT
BEGIN:VEVENT
DTSTART;TZID=Europe/London:20160413T140000
DTEND;TZID=Europe/London:20160413T150000
DTSTAMP:20260422T120620
CREATED:20160322T152132Z
LAST-MODIFIED:20160406T124217Z
UID:10000767-1460556000-1460559600@theathenaeum.org.uk
SUMMARY:'An Unfinished Life'\, by Marian McCarthy.
DESCRIPTION:This interest group meeting will no longer be accompanied by a lunch\, if you wish to dine with the speaker prior to the event please contact reception to be added to the Interest group table. \n‘An Unfinished Life’ ‘ \nThomas Burke 5th June 1906 – 15th July 1945 \n by Marian McCarthy. \n2pm Library \n \nAn illustrated talk about Liverpool-born artist Thomas Burke\, who showed early promise as a portrait and landscape painter\, but whose career and life were cut short by the 2nd World War. This talk provides biographical detail of his life\, including his time as a POW\, and explores what is known today of his work.
URL:https://theathenaeum.org.uk/event/5469/
LOCATION:The Athenaeum Liverpool\, Church Alley\, Liverpool\, L1 3DD\, United Kingdom
CATEGORIES:Members Only Event
END:VEVENT
BEGIN:VEVENT
DTSTART;TZID=Europe/London:20160408T183000
DTEND;TZID=Europe/London:20160408T190000
DTSTAMP:20260422T120620
CREATED:20160215T194112Z
LAST-MODIFIED:20160406T124711Z
UID:10000670-1460140200-1460142000@theathenaeum.org.uk
SUMMARY:'Ghosts In The American Dream'
DESCRIPTION:‘Ghosts in the American Dream’ – David Charters \nFriday 8th April 6:30-7:00pm  \n£20.00 Per Person \nNotable Proprietor\, David Charters\, features on Friday 8th April in “Ghosts of the American Dream” the haunting history of the tribes of the plains. \nAppalachian Mountain Bean Stew & Pork\, served with Buttermilk Cornbread \n~~ \nApple Stack Cake served with Honey Comb Ice Cream. \n 
URL:https://theathenaeum.org.uk/event/ghosts-in-the-american-dream/
CATEGORIES:Members Only Event
END:VEVENT
BEGIN:VEVENT
DTSTART;TZID=Europe/London:20160323T183000
DTEND;TZID=Europe/London:20160323T190000
DTSTAMP:20260422T120620
CREATED:20160215T191607Z
LAST-MODIFIED:20160215T191607Z
UID:10000669-1458757800-1458759600@theathenaeum.org.uk
SUMMARY:Cheap & Cheerful Supper
DESCRIPTION:Cheap ‘n’ Cheerful Supper \nWednesday 23rd March  6:30-7:00pm \n£10.00 per person \nAn Institution in its own right… Great food and company at an unbeatable price. Special wine offers will be available on the evening. \n  \nCottage Pie & Pickled Red Cabbage Served with Farmhouse Bread \n~~ \nLemon Drizzled Roulade \n 
URL:https://theathenaeum.org.uk/event/cheap-cheerful-supper-7/
LOCATION:The Athenaeum Liverpool\, Church Alley\, Liverpool\, L1 3DD\, United Kingdom
CATEGORIES:Members Only Event
END:VEVENT
BEGIN:VEVENT
DTSTART;TZID=Europe/London:20160318T190000
DTEND;TZID=Europe/London:20160318T193000
DTSTAMP:20260422T120620
CREATED:20160215T191347Z
LAST-MODIFIED:20160215T191347Z
UID:10000668-1458327600-1458329400@theathenaeum.org.uk
SUMMARY:The Annual Dinner
DESCRIPTION:The Annual Dinner (Black Tie) \nFriday 18th March 7:00-7:30pm \n£40.00 Per Person \nThe biggest event in the Athenaeum calendar\, book early to avoid disappointment. Guest speakers this year will be the Honorary Recorder of Liverpool  H.H Clement Goldstone\,  and H.H Richard McCullagh. \n  \nWater cress soup with mozzarella pearl \n~~ \nTerrine Fruit de Mer\, cabiar dressing\, smoked sea salt \n~~ \nBreast of Corn Fed Chicken\, cep mousse\, peas & smoked pancetta\nserved with broccoli and dauphinoise potatoes \n~~ \nPistachio Creme Brulee\, Ginger biscuit\n~~\nSelection of Cheeses \n 
URL:https://theathenaeum.org.uk/event/the-annual-dinner/
LOCATION:The Athenaeum Liverpool\, Church Alley\, Liverpool\, L1 3DD\, United Kingdom
CATEGORIES:Members Only Event
END:VEVENT
BEGIN:VEVENT
DTSTART;TZID=Europe/London:20160316T180000
DTEND;TZID=Europe/London:20160316T183000
DTSTAMP:20260422T120620
CREATED:20160215T190450Z
LAST-MODIFIED:20160215T190450Z
UID:10000667-1458151200-1458153000@theathenaeum.org.uk
SUMMARY:Athenaeum Film Nights Present - 'Irish Night'
DESCRIPTION:Athenaeum Film Nights Presents \n‘Irish Film Night’ \nWednesday 16th March 6:00-6:30pm \n£10.00 per person \nIncluding one course supper and refreshments \n  \nWe honour St Paddy a day early this year with our Annual Irish Film Night. There will be a selection of films with an Irish theme available for the audience to select.  \n 
URL:https://theathenaeum.org.uk/event/athenaeum-film-nights-present-irish-night/
LOCATION:The Athenaeum Liverpool\, Church Alley\, Liverpool\, L1 3DD\, United Kingdom
END:VEVENT
BEGIN:VEVENT
DTSTART;TZID=Europe/London:20160309T190000
DTEND;TZID=Europe/London:20160309T193000
DTSTAMP:20260422T120620
CREATED:20160215T185921Z
LAST-MODIFIED:20160215T185921Z
UID:10000666-1457550000-1457551800@theathenaeum.org.uk
SUMMARY:New Members Informal Dining
DESCRIPTION:New Members Informal Dining \n‘An Opportunity to Sign the Share Register’ \nWednesday 9th March \nService between 7pm-8pm  \n£25.00 per person \nInformal Dining evenings are what they say – Informal! There are no speakers – just good food\, company and wine. You may wish to bring along family and friends with you or join one of our larger Club tables. \n 
URL:https://theathenaeum.org.uk/event/new-members-informal-dining-6/
LOCATION:The Athenaeum Liverpool\, Church Alley\, Liverpool\, L1 3DD\, United Kingdom
CATEGORIES:Members Only Event
END:VEVENT
BEGIN:VEVENT
DTSTART;TZID=Europe/London:20160304T190000
DTEND;TZID=Europe/London:20160304T193000
DTSTAMP:20260422T120620
CREATED:20160215T185658Z
LAST-MODIFIED:20160215T185658Z
UID:10000665-1457118000-1457119800@theathenaeum.org.uk
SUMMARY:Cathedral In The City
DESCRIPTION:‘Cathedral in the City’ – Dinner with Dean Pete Wilcox \nFriday 4th March 7:00-7:30pm \n£25.00 per person \nDean Pete Wilcox will tell us about the ways in which “The Cathedral in the City” has become integral to the life of Liverpool. \n  \nLeak & Potato Soup with Chopped Egg & Chive \n~~\nLemon Sole with Langostine & Salmon Mousse \n~~ \nLemon Tart \n 
URL:https://theathenaeum.org.uk/event/cathedral-in-the-city/
LOCATION:The Athenaeum Liverpool\, Church Alley\, Liverpool\, L1 3DD\, United Kingdom
CATEGORIES:Members Only Event
END:VEVENT
BEGIN:VEVENT
DTSTART;TZID=Europe/London:20160225T190000
DTEND;TZID=Europe/London:20160225T193000
DTSTAMP:20260422T120620
CREATED:20160215T185047Z
LAST-MODIFIED:20160215T185047Z
UID:10000664-1456426800-1456428600@theathenaeum.org.uk
SUMMARY:The Library Dinner - 'Drunks\, Thieves & Patriots'
DESCRIPTION:The Library Dinner (Black Tie) \nThursday 25th February 7:00-7:30pm \n£25.00 per person \n  \nOur Annual event showcasing the treasure that is our Library.  \n‘Drunks\,  Thieves and Patriots’ \n By Library Chairman David Brazendale \n  \n Pumpkin & Butternut Squash Soup with Cumin\, Warm Bread Roll\n~~\nRoast Leg of lamb served with Bacon & Broad Beans\,\nRoasted Parsnip\, Chantenay Carrots and Roasted New Potatoes\n~~\nTreacle Tart served with Custard \n 
URL:https://theathenaeum.org.uk/event/the-library-dinner-drunks-thieves-patriots/
LOCATION:The Athenaeum Liverpool\, Church Alley\, Liverpool\, L1 3DD\, United Kingdom
CATEGORIES:Members Only Event
END:VEVENT
BEGIN:VEVENT
DTSTART;TZID=Europe/London:20160223T130000
DTEND;TZID=Europe/London:20160223T133000
DTSTAMP:20260422T120620
CREATED:20160215T184825Z
LAST-MODIFIED:20160215T184825Z
UID:10000763-1456232400-1456234200@theathenaeum.org.uk
SUMMARY:Bluecoat Artist Talk - Ceramics with Alan Whittaker
DESCRIPTION:Bluecoat Afternoon Tea—Artist Talk \nCeramics with Alan Whittaker \nTuesday 23rd February 1:00-1:30pm \n£12.50 per person \n As part of Bluecoat Display Centre’s ongoing programme of exciting artist’s talks\, the next event will feature ceramic artist Alan Whittaker. Alan will speak about his career in ceramics and education. (Alan is Associate Professor of Design at Liverpool Hope University.) \nAlan creates unique and elegant Bone China vessels. Drawing is fundamental to his ceramic practice. Alan aims to draw with light through the use of translucency and perforations in Bone China. Alan uses sand-blasting techniques and pierced relief decoration onto the translucent surfaces of Bone China. \n 
URL:https://theathenaeum.org.uk/event/bluecoat-artist-talk-ceramics-with-alan-whittaker/
LOCATION:The Athenaeum Liverpool\, Church Alley\, Liverpool\, L1 3DD\, United Kingdom
END:VEVENT
BEGIN:VEVENT
DTSTART;TZID=Europe/London:20160218T180000
DTEND;TZID=Europe/London:20160218T183000
DTSTAMP:20260422T120620
CREATED:20160215T184508Z
LAST-MODIFIED:20160215T184508Z
UID:10000762-1455818400-1455820200@theathenaeum.org.uk
SUMMARY:Athenaeum Film Nights Presents - The Third Man
DESCRIPTION:Athenaeum Film Nights Presents \n‘The Third Man’ \nThursday 18th February 6:00-6:30pm \n£10.00 per person \nIncluding one course supper and refreshments \n  \nSet in postwar Vienna\, Austria\, “The Third Man” stars   Joseph Cotten as Holly Martins\, a writer of pulp Westerns\, who arrives penniless as a guest of his childhood chum Harry Lime (Orson Welles)\, only to find him dead.  Martins develops a conspiracy theory after learning of a “third man” present at the time of Harry’s death\, running into interference from British officer Maj. Calloway (Trevor Howard) and falling head-over-heels for Harry’s  grief-stricken lover\, Anna (Alida Valli). \n 
URL:https://theathenaeum.org.uk/event/athenaeum-film-nights-presents-the-third-man/
LOCATION:The Athenaeum Liverpool\, Church Alley\, Liverpool\, L1 3DD\, United Kingdom
CATEGORIES:Members Only Event
END:VEVENT
BEGIN:VEVENT
DTSTART;TZID=Europe/London:20160217T120000
DTEND;TZID=Europe/London:20160217T123000
DTSTAMP:20260422T120620
CREATED:20160215T184039Z
LAST-MODIFIED:20160215T184039Z
UID:10000761-1455710400-1455712200@theathenaeum.org.uk
SUMMARY:'Strands' By Jean Sprackland
DESCRIPTION:‘Strands’ by Jean Sprackland  \nWednesday 17th February  12:00-12:30pm  \n£15.00 per person \nAuthor Jean Sprackland joins us for a reading of her book ‘Strands\, a Year of Discoveries on the Beach’.   Signed copies will be available after the lunch. \n  \nPaupiette of Plaice with Salmon Mousse White Wine Sauce\, Peas & Potato Croquette \n~~ \nVanilla Panna Cotta with a Tropical Fruit Salad \n 
URL:https://theathenaeum.org.uk/event/strands-by-jean-sprackland/
LOCATION:The Athenaeum Liverpool\, Church Alley\, Liverpool\, L1 3DD\, United Kingdom
CATEGORIES:Members Only Event
END:VEVENT
BEGIN:VEVENT
DTSTART;TZID=Europe/London:20151216T140000
DTEND;TZID=Europe/London:20151216T153000
DTSTAMP:20260422T120620
CREATED:20150910T092252Z
LAST-MODIFIED:20150910T093822Z
UID:10000758-1450274400-1450279800@theathenaeum.org.uk
SUMMARY:History Group
DESCRIPTION:Wednesday 16th December— 2pm Wine Servery \nDavid Brazendale \n“Early Days at the Athenaeum” \n  \n 
URL:https://theathenaeum.org.uk/event/history-group-5/
LOCATION:The Athenaeum Liverpool\, Church Alley\, Liverpool\, L1 3DD\, United Kingdom
CATEGORIES:Members Only Event
END:VEVENT
BEGIN:VEVENT
DTSTART;TZID=Europe/London:20151209T140000
DTEND;TZID=Europe/London:20151209T153000
DTSTAMP:20260422T120620
CREATED:20150910T091437Z
LAST-MODIFIED:20150910T091437Z
UID:10000755-1449669600-1449675000@theathenaeum.org.uk
SUMMARY:Literature Group
DESCRIPTION:Wednesday 9th December — 2pm Committee Room \nAlan Andrews \n“Ghost Story” \n 
URL:https://theathenaeum.org.uk/event/literature-group-7/
LOCATION:The Athenaeum Liverpool\, Church Alley\, Liverpool\, L1 3DD\, United Kingdom
CATEGORIES:Members Only Event
END:VEVENT
BEGIN:VEVENT
DTSTART;TZID=Europe/London:20151202T140000
DTEND;TZID=Europe/London:20151202T153000
DTSTAMP:20260422T120620
CREATED:20150910T091359Z
LAST-MODIFIED:20150910T091359Z
UID:10000754-1449064800-1449070200@theathenaeum.org.uk
SUMMARY:Literature Group
DESCRIPTION:Wednesday 2nd December — 2pm Library \nDiana Lane \n“Waverley” by Sir Walter Scott \n 
URL:https://theathenaeum.org.uk/event/literature-group-6/
LOCATION:The Athenaeum Liverpool\, Church Alley\, Liverpool\, L1 3DD\, United Kingdom
CATEGORIES:Members Only Event
END:VEVENT
BEGIN:VEVENT
DTSTART;TZID=Europe/London:20151126T140000
DTEND;TZID=Europe/London:20151126T153000
DTSTAMP:20260422T120620
CREATED:20150910T090931Z
LAST-MODIFIED:20150910T090931Z
UID:10000661-1448546400-1448551800@theathenaeum.org.uk
SUMMARY:Architecture Group
DESCRIPTION:THE HISTORY & DEVELOPMENTS OF THE CENTRAL DOCKS \nMr Peter de Figueiredo will explain the background of the Princes to Bramley Moore docks\, our contribution to the heroic age of Dock building. \nPeter is a heritage consultant to the Peel Group\, whose plans will be explained. \n(A spring visit is planned !) \nTHURSDAY 26TH NOVEMBER— THE LIBRARY 2PM \n 
URL:https://theathenaeum.org.uk/event/architecture-group-12/
LOCATION:The Athenaeum Liverpool\, Church Alley\, Liverpool\, L1 3DD\, United Kingdom
CATEGORIES:Members Only Event
END:VEVENT
BEGIN:VEVENT
DTSTART;TZID=Europe/London:20151125T120000
DTEND;TZID=Europe/London:20151125T150000
DTSTAMP:20260422T120620
CREATED:20150708T151629Z
LAST-MODIFIED:20150910T090008Z
UID:10000657-1448452800-1448463600@theathenaeum.org.uk
SUMMARY:ESU & The Athenaeum Joint lunch - in conjunction with the Interest Groups
DESCRIPTION:ESU & The Athenaeum Joint lunch \n‘From the Mersey to the Middle East: Words and  Images 1939-1945.’ \nIn conjunction with the History\, Arts and Literature Interest Groups \nWednesday 25th November \n12:00-12:30pm \n£17.50 \n  \nProfessor Rhiannon Evans \nwill draw upon the recently published war journal of Sister Joyce Ffoulkes Parry\, ‘Joyce’s War’\, and the paintings of Alfred Richards to illustrate two very different eyewitness     accounts of the war. \n  \nBreast of Guinea Fowl\, Peas a la Francaise\, New Potatoes and Baton Carrots \n~~ \nVanilla Panna Cotta & Berry Compote \n 
URL:https://theathenaeum.org.uk/event/from-the-mersey-to-the-middle-east-words-and-images-1939-1945/
LOCATION:The Athenaeum Liverpool\, Church Alley\, Liverpool\, L1 3DD\, United Kingdom
CATEGORIES:Members Only Event
END:VEVENT
BEGIN:VEVENT
DTSTART;TZID=Europe/London:20151120T184500
DTEND;TZID=Europe/London:20151120T230000
DTSTAMP:20260422T120620
CREATED:20150708T151455Z
LAST-MODIFIED:20150708T151514Z
UID:10000656-1448045100-1448060400@theathenaeum.org.uk
SUMMARY:'Athenaeum Questions' with Roger Phillips
DESCRIPTION:‘Athenaeum Questions’ with Roger Phillips \nFriday 20th November \n6:45-7:15pm \n  \nBy 20th November the Conservative government should have bedded in so it is time for “Athenaeum Questions” based on BBC’s “Any Questions” with our own Roger Phillips in the chair. Will it be a government of all the talents or just the usual suspects? So far Professor Phil Redmond\, Lord Mike Storey and Maria Eagle MP have agreed to be quizzed. Nearer the date you can send in your questions to Roger C/O the Athenaeum. \n  \nBeef and Red Wine Pot Pie\, Seasonal Vegetables and  Potatoes \n~~ \nOrange steamed pudding and   custard. \n 
URL:https://theathenaeum.org.uk/event/5251/
LOCATION:The Athenaeum Liverpool\, Church Alley\, Liverpool\, L1 3DD\, United Kingdom
CATEGORIES:Members Only Event
END:VEVENT
BEGIN:VEVENT
DTSTART;TZID=Europe/London:20151112T114500
DTEND;TZID=Europe/London:20151112T143000
DTSTAMP:20260422T120620
CREATED:20150708T151322Z
LAST-MODIFIED:20150708T151350Z
UID:10000655-1447328700-1447338600@theathenaeum.org.uk
SUMMARY:Lunch Honouring Vasily Petrenko
DESCRIPTION:Lunch Honouring Vasily Petrenko \nThursday 12th November \n11:45-12:12pm \n£20.00 per person \n  \nThe Committee\, on your behalf\, offered Vasily Petrenko Honorary  Membership of the Club which he kindly accepted. The Maestro will receive his  membership at an early lunch on 12th November to fit in with his busy world schedule. \nPork & Armagnac Pate\, Spiced Pear Chutney\, Calvados Soaked Sultanas\, Herb Salad & Crostini \n~~ \nFillet of Salmon\, Wild Mushroom Mezzaluna with a Lemon Butter Sauce\, Accompaniments TBC \n 
URL:https://theathenaeum.org.uk/event/lunch-honouring-vasily-petrenko/
LOCATION:The Athenaeum Liverpool\, Church Alley\, Liverpool\, L1 3DD\, United Kingdom
CATEGORIES:Members Only Event
END:VEVENT
BEGIN:VEVENT
DTSTART;TZID=Europe/London:20151108T123000
DTEND;TZID=Europe/London:20151108T150000
DTSTAMP:20260422T120620
CREATED:20150708T151244Z
LAST-MODIFIED:20150708T151244Z
UID:10000654-1446985800-1446994800@theathenaeum.org.uk
SUMMARY:Remembrance Sunday Lunch
DESCRIPTION:Remembrance Sunday Lunch \nSunday 8th November \n12:30-1:00pm \n£25.00 per person \n  \nTraditional Sunday lunch following the Civic Remembrance Service at St George’s Plateau. \n  \nCream of Vegetable Soup (V) served w. a Warm Bread Roll. \n~~ \nRoast Beef & Yorkshire Pudding\, Seasonal Vegetables and Roast Potatoes \n~~ \nApple Pie & Custard \n 
URL:https://theathenaeum.org.uk/event/remembrance-sunday-lunch-3/
LOCATION:The Athenaeum Liverpool\, Church Alley\, Liverpool\, L1 3DD\, United Kingdom
CATEGORIES:Members Only Event
END:VEVENT
BEGIN:VEVENT
DTSTART;TZID=Europe/London:20151104T190000
DTEND;TZID=Europe/London:20151104T230000
DTSTAMP:20260422T120620
CREATED:20150708T150941Z
LAST-MODIFIED:20150708T150941Z
UID:10000753-1446663600-1446678000@theathenaeum.org.uk
SUMMARY:'Call My Bluff' - Wine Tasting
DESCRIPTION:‘Call My Bluff’ Wine Tasting \nWednesday 4th November \n7:00-7:30pm \nPrice to be confirmed \n  \nExpect\, on 4th November\, lies\, exaggeration\, funny voices and sheer mayhem as people who should know better misbehave about wine in the Call My Bluff evening\, another of Frank Moran’s mad wheezes. \nMenu to follow \n 
URL:https://theathenaeum.org.uk/event/call-my-bluff-wine-tasting/
LOCATION:The Athenaeum Liverpool\, Church Alley\, Liverpool\, L1 3DD\, United Kingdom
CATEGORIES:Members Only Event
END:VEVENT
BEGIN:VEVENT
DTSTART;TZID=Europe/London:20151029T120000
DTEND;TZID=Europe/London:20151029T150000
DTSTAMP:20260422T120620
CREATED:20150708T150336Z
LAST-MODIFIED:20150708T150532Z
UID:10000752-1446120000-1446130800@theathenaeum.org.uk
SUMMARY:'Della Robbia Pottery'\, with Colin Simpson (Arts Group Lunch)
DESCRIPTION:Arts Group Lunch—‘Della Robbia Pottery’ \nLunch with Colin Simpson \nThursday 29th October \n12:00-12:30pm \n£14.50 per person \nThis lunch is sponsored by the Arts Interest Group who welcome Colin Simpson\, Curator and Chief Officer of the Williamson Museum of Art Gallery\, Birkenhead\, who will recall the Della Robbia Pottery. \nBeef Bourguignon Pot Pie\, Potato Croquette & Green Beans \n~~ \nLemon Syllabub with Forest Fruits \n 
URL:https://theathenaeum.org.uk/event/della-robbia-pottery-with-colin-simpson-arts-group-lunch/
LOCATION:The Athenaeum Liverpool\, Church Alley\, Liverpool\, L1 3DD\, United Kingdom
CATEGORIES:Members Only Event
END:VEVENT
BEGIN:VEVENT
DTSTART;TZID=Europe/London:20151022T140000
DTEND;TZID=Europe/London:20151022T153000
DTSTAMP:20260422T120620
CREATED:20150910T091730Z
LAST-MODIFIED:20150910T091730Z
UID:10000757-1445522400-1445527800@theathenaeum.org.uk
SUMMARY:History Group
DESCRIPTION:Thursday 22nd October — 2pm Library \nTom Iley \n“Meet Mr Parker” \nCome and listen to the story of our mystery man. \n 
URL:https://theathenaeum.org.uk/event/history-group-4/
LOCATION:The Athenaeum Liverpool\, Church Alley\, Liverpool\, L1 3DD\, United Kingdom
CATEGORIES:Members Only Event
END:VEVENT
BEGIN:VEVENT
DTSTART;TZID=Europe/London:20151021T140000
DTEND;TZID=Europe/London:20151021T153000
DTSTAMP:20260422T120620
CREATED:20150910T090501Z
LAST-MODIFIED:20150910T090501Z
UID:10000660-1445436000-1445441400@theathenaeum.org.uk
SUMMARY:Architecture Group
DESCRIPTION:THE NEW ROYAL LIVERPOOL HOSPITAL \nTHE LARGEST CONSTRUCTION PROJECT CURRENTLY UNDER \nCONSTRUCTION IN LIVERPOOL \nMr Aidan Kehoe\, Chief Executive on what are the needs of a large new hospital today \, construction & planning behind this very important project \nWEDNESDAY 21ST OCTOBER – THE LIBRARY 2PM \n 
URL:https://theathenaeum.org.uk/event/architecture-group-11/
LOCATION:The Athenaeum Liverpool\, Church Alley\, Liverpool\, L1 3DD\, United Kingdom
CATEGORIES:Members Only Event
END:VEVENT
BEGIN:VEVENT
DTSTART;TZID=Europe/London:20151020T123000
DTEND;TZID=Europe/London:20151020T150000
DTSTAMP:20260422T120620
CREATED:20150708T150234Z
LAST-MODIFIED:20150708T150234Z
UID:10000751-1445344200-1445353200@theathenaeum.org.uk
SUMMARY:'Challenging Terror'\, Lunch with Paul Boateng
DESCRIPTION:‘Challenging Terror’\, Lunch with Paul Boateng \nTuesday 20th October \n12:30-1:00pm \n£20.00 per person \n  \nPaul will advise us about “Challenging Terror”\, the role of public diplomacy and the promotion of dialogue in a multi-polar world. A former minister in a Labour Government\, Paul will outline his involvement in international security this lunch. \n  \nStilton & Watercress Soup \nW. a Warm Bread Roll \n~~ \nBraised Beef Olive Stuffed with Mushrooms served with a    Bordelaise Sauce\, Cauliflower Cheese & New Potatoes \n~~ \nLemon Tart \n 
URL:https://theathenaeum.org.uk/event/challenging-terror-lunch-with-paul-boateng/
LOCATION:The Athenaeum Liverpool\, Church Alley\, Liverpool\, L1 3DD\, United Kingdom
CATEGORIES:Members Only Event
END:VEVENT
BEGIN:VEVENT
DTSTART;TZID=Europe/London:20151009T183000
DTEND;TZID=Europe/London:20151009T220000
DTSTAMP:20260422T120620
CREATED:20150708T150111Z
LAST-MODIFIED:20150708T150111Z
UID:10000750-1444415400-1444428000@theathenaeum.org.uk
SUMMARY:Cheap & Cheerful Supper
DESCRIPTION:Cheap & Cheerful Supper \nFriday 9th October \n6:30-7:00pm \nOnly £10.00 per person! \nAn Athenaeum Classic\, book early to avoid disappointment. \n  \nMenu to follow. \n 
URL:https://theathenaeum.org.uk/event/cheap-cheerful-supper-6/
LOCATION:The Athenaeum Liverpool\, Church Alley\, Liverpool\, L1 3DD\, United Kingdom
CATEGORIES:Members Only Event
END:VEVENT
END:VCALENDAR