BEGIN:VCALENDAR
VERSION:2.0
PRODID:-//The Athenaeum Liverpool - ECPv6.7.1//NONSGML v1.0//EN
CALSCALE:GREGORIAN
METHOD:PUBLISH
X-WR-CALNAME:The Athenaeum Liverpool
X-ORIGINAL-URL:https://theathenaeum.org.uk
X-WR-CALDESC:Events for The Athenaeum Liverpool
REFRESH-INTERVAL;VALUE=DURATION:PT1H
X-Robots-Tag:noindex
X-PUBLISHED-TTL:PT1H
BEGIN:VTIMEZONE
TZID:Europe/London
BEGIN:DAYLIGHT
TZOFFSETFROM:+0000
TZOFFSETTO:+0100
TZNAME:BST
DTSTART:20160327T010000
END:DAYLIGHT
BEGIN:STANDARD
TZOFFSETFROM:+0100
TZOFFSETTO:+0000
TZNAME:GMT
DTSTART:20161030T010000
END:STANDARD
END:VTIMEZONE
BEGIN:VEVENT
DTSTART;TZID=Europe/London:20161210T183000
DTEND;TZID=Europe/London:20161210T230000
DTSTAMP:20260423T113352
CREATED:20160916T132455Z
LAST-MODIFIED:20161130T121748Z
UID:10000828-1481394600-1481410800@theathenaeum.org.uk
SUMMARY:Athenaeum Christmas Ball
DESCRIPTION:Saturday 10th December\, 6:30-7:00pm \nAthenaeum Christmas Ball. \nCome and join our festive extravaganza! Arrival Drinks\, Christmas Carvery buffet\, table wine\, live entertainment and a raffle on the evening with special prizes – all proceeds to the upkeep of the Library. Dress code; Black Tie (Full festive finery also an option!) Maximum of 10 attendees per booking. Bookings to be made via main reception or the Proprietor’s Area of the Website.
URL:https://theathenaeum.org.uk/event/athenaeum-christmas-ball/
LOCATION:The Athenaeum Liverpool\, Church Alley\, Liverpool\, L1 3DD\, United Kingdom
CATEGORIES:Members Only Event
END:VEVENT
BEGIN:VEVENT
DTSTART;TZID=Europe/London:20161209T173000
DTEND;TZID=Europe/London:20161209T193000
DTSTAMP:20260423T113352
CREATED:20161205T122951Z
LAST-MODIFIED:20161205T133714Z
UID:10000725-1481304600-1481311800@theathenaeum.org.uk
SUMMARY:The Athenaeum Christmas Debates
DESCRIPTION:The Athenaeum Christmas Debate is taking place on the 9th December 2016 at 5:30pm in the Athenaeum Library. The event is a collaboration between the Athenaeum and The University of Liverpool. \nThe motion is “The UK’s choice to leave the European Union causes a detriment to Higher Education” and is being proposed by Dr Louise Reynolds of the University of Liverpool. \nThe motion will be opposed by His Honour Nigel Gilmour. The structure follows the traditional competition debate format\, comprising two teams of two members. The debate opens with four speeches alternating between proposition and opposition\, each of seven minutes’ duration. The floor will be opened for 25 minutes of moderated questions. The debate will draw to a close with a five-minute summary speech on each side. The event is an opportunity to enjoy good debate and rhetoric in an atmosphere of mutual respect\, intellectual curiosity\, and warm\, cordial hospitality. We will of course be ‘de-briefing’ in the Newsroom bar afterward! The event is open to proprietors and guests and is bookable through the Athenaeum on-line booking system. We look forward to seeing and hearing you\, on the 9th December.
URL:https://theathenaeum.org.uk/event/athenaeum-christmas-debates/
LOCATION:The Athenaeum Liverpool\, Church Alley\, Liverpool\, L1 3DD\, United Kingdom
END:VEVENT
BEGIN:VEVENT
DTSTART;TZID=Europe/London:20161207T140000
DTEND;TZID=Europe/London:20161207T153000
DTSTAMP:20260423T113352
CREATED:20160714T105843Z
LAST-MODIFIED:20160714T105843Z
UID:10000804-1481119200-1481124600@theathenaeum.org.uk
SUMMARY:Literature Group Meeting
DESCRIPTION:The December Literature Group Meeting will consist of Christmas Readings. \n  \n 
URL:https://theathenaeum.org.uk/event/literature-group-meeting-3/
LOCATION:The Athenaeum Liverpool\, Church Alley\, Liverpool\, L1 3DD\, United Kingdom
CATEGORIES:Members Only Event
END:VEVENT
BEGIN:VEVENT
DTSTART;TZID=Europe/London:20161201T123000
DTEND;TZID=Europe/London:20161201T150000
DTSTAMP:20260423T113352
CREATED:20160916T132319Z
LAST-MODIFIED:20160916T132319Z
UID:10000827-1480595400-1480604400@theathenaeum.org.uk
SUMMARY:Athenaeum Christmas Lunch
DESCRIPTION:Thursday 1st December\, 12:30-1:00pm \nAthenaeum Christmas Lunch\, £25.00 per person \nWe begin the festive period early at the Club with our Annual Christmas Lunch\, always a popular addition to the calendar. Please book early to avoid disappointment. \n 
URL:https://theathenaeum.org.uk/event/athenaeum-christmas-lunch/
LOCATION:The Athenaeum Liverpool\, Church Alley\, Liverpool\, L1 3DD\, United Kingdom
CATEGORIES:Members Only Event
END:VEVENT
BEGIN:VEVENT
DTSTART;TZID=Europe/London:20161125T190000
DTEND;TZID=Europe/London:20161125T230000
DTSTAMP:20260423T113352
CREATED:20160707T141929Z
LAST-MODIFIED:20161124T135717Z
UID:10000796-1480100400-1480114800@theathenaeum.org.uk
SUMMARY:'Joseph Banks - Australia's First Botanist'
DESCRIPTION:Andrew Sankey will tell us the fascinating story of Sir Joseph Banks\, a Lincolnshire man\, has become known as the Father of Australia for his connections with the country. After travelling around the world with Captain Cook he set up a scientific garden at Kew that became the greatest botanical garden in the world and introduced some 7\,000 new plants to Britain. He transferred bread fruit to the West Indies\, became President of the Royal Society\, was a founder member of the Horticultural Society\, and even sent plant hunters to China. Joseph Banks was an explorer\, botanist and a great man of science who has the Australia family of plants Banksia named after him. It is a remarkable tale of ingenuity\, fortitude and new plants\, and not without links to our own library collection. \nAndrew Sankey went into secondary school teaching and became Head of Graphics before starting a garden design and landscaping business in Lincolnshire. He created a cottage garden open under the NGS and became Chairman of the Lincolnshire branch of the Cottage Garden Society. He also ran a small nursery specialising in plants for dry sun/shade positions. He was asked to give a talk on the history of the cottage garden and since then has lectured widely on a range of gardening subjects\, both throughout Britain and the USA \n  \nMenu  \nMain Course \nSteamed fillet of Plaice\, salmon and tomato mousse\, courgette flowers and tarragon cream \nDessert  \nTiramisu
URL:https://theathenaeum.org.uk/event/joseph-banks-australias-first-botanist/
LOCATION:The Athenaeum Liverpool\, Church Alley\, Liverpool\, L1 3DD\, United Kingdom
CATEGORIES:Members Only Event
END:VEVENT
BEGIN:VEVENT
DTSTART;TZID=Europe/London:20161123T140000
DTEND;TZID=Europe/London:20161123T153000
DTSTAMP:20260423T113352
CREATED:20160707T143058Z
LAST-MODIFIED:20160707T143058Z
UID:10000799-1479909600-1479915000@theathenaeum.org.uk
SUMMARY:History Group Meeting
DESCRIPTION:John Pinfold on the founder of Aintree racecourse.
URL:https://theathenaeum.org.uk/event/history-group-meeting-3/
LOCATION:The Athenaeum Liverpool\, Church Alley\, Liverpool\, L1 3DD\, United Kingdom
END:VEVENT
BEGIN:VEVENT
DTSTART;TZID=Europe/London:20161113T123000
DTEND;TZID=Europe/London:20161113T130000
DTSTAMP:20260423T113352
CREATED:20160915T135419Z
LAST-MODIFIED:20161103T151925Z
UID:10000812-1479040200-1479042000@theathenaeum.org.uk
SUMMARY:Remembrance Sunday Lunch
DESCRIPTION:Sunday 13th November\, 12:30-1:00pm \nRemembrance Sunday Lunch. £25.00. \nTraditional Sunday lunch following the Civic Remembrance Service at St George’s Plateau. \n  \nMenu \nStarter \nCream of Vegetable Soup (v) served with a warm bread roll \nMain \nRoast Beef & Yorkshire Pudding. Seasonal Vegetables & Roast Potatoes \nDessert \nApple Pie & Custard \nTea & Coffee \n 
URL:https://theathenaeum.org.uk/event/remembrance-sunday-lunch-4/
LOCATION:The Athenaeum Liverpool\, Church Alley\, Liverpool\, L1 3DD\, United Kingdom
CATEGORIES:Members Only Event
END:VEVENT
BEGIN:VEVENT
DTSTART;TZID=Europe/London:20161111T190000
DTEND;TZID=Europe/London:20161111T223000
DTSTAMP:20260423T113352
CREATED:20160915T134912Z
LAST-MODIFIED:20160915T134912Z
UID:10000811-1478890800-1478903400@theathenaeum.org.uk
SUMMARY:Winter Wine Tasting - Call my Bluff
DESCRIPTION:Friday 11th November\, 7:00-7:30pm \nWinter Wine Tasting – Call my Bluff £39.00 per person. \nIf you have yet to attend one of the Club’s ‘Call My Bluff’ evenings\, they come highly recommended! A top class 4 course menu accompanied by 4 wines and a barrel of laughs. A most enjoyable evening.
URL:https://theathenaeum.org.uk/event/winter-wine-tasting-call-bluff/
LOCATION:The Athenaeum Liverpool\, Church Alley\, Liverpool\, L1 3DD\, United Kingdom
CATEGORIES:Members Only Event
END:VEVENT
BEGIN:VEVENT
DTSTART;TZID=Europe/London:20161109T180000
DTEND;TZID=Europe/London:20161109T213000
DTSTAMP:20260423T113352
CREATED:20160915T134137Z
LAST-MODIFIED:20160915T134137Z
UID:10000810-1478714400-1478727000@theathenaeum.org.uk
SUMMARY:Athenaeum Film Night - Great Expectations
DESCRIPTION:Wednesday 9th November\, 6:00-6:30pm \nAthenaeum Film Night Presents – Great Expectations. £10.00 per person\, includes a one course supper and refreshments served during the interval. \nJohn Mills is the orphan who enters high society in David Lean’s Oscar-winning 1946 adaptation of the great Dickens novel. \n 
URL:https://theathenaeum.org.uk/event/athenaeum-film-night-great-expectations/
LOCATION:The Athenaeum Liverpool\, Church Alley\, Liverpool\, L1 3DD\, United Kingdom
CATEGORIES:Members Only Event
END:VEVENT
BEGIN:VEVENT
DTSTART;TZID=Europe/London:20161109T140000
DTEND;TZID=Europe/London:20161109T153000
DTSTAMP:20260423T113352
CREATED:20160902T120704Z
LAST-MODIFIED:20160902T121128Z
UID:10000806-1478700000-1478705400@theathenaeum.org.uk
SUMMARY:Film Group Meeting
DESCRIPTION:9th November\, 2016 – “Bad Day at Black Rock”: A “modern” western\, with an exceptional cast\, director John Sturges received his only Oscar nomination for this film. At the end of World War II a disabled soldier (Spencer Tracy) visits a small western town to give a medal to the parents of the man who was killed saving his life\, but does not expect the hostile reception he receives. The cast includes Robert Ryan\, Dean Jagger and Walter Brennan\, but look out for a young Lee Marvin and a youngish Ernest Borgnine. \n 
URL:https://theathenaeum.org.uk/event/film-group-meeting-2/
LOCATION:The Athenaeum Liverpool\, Church Alley\, Liverpool\, L1 3DD\, United Kingdom
CATEGORIES:Members Only Event
END:VEVENT
BEGIN:VEVENT
DTSTART;TZID=Europe/London:20161102T140000
DTEND;TZID=Europe/London:20161102T153000
DTSTAMP:20260423T113352
CREATED:20160714T105659Z
LAST-MODIFIED:20160714T105659Z
UID:10000803-1478095200-1478100600@theathenaeum.org.uk
SUMMARY:Literature Group Meeting
DESCRIPTION:“George Gissing” by Alan Andrews
URL:https://theathenaeum.org.uk/event/literature-group-meeting-2/
LOCATION:The Athenaeum Liverpool\, Church Alley\, Liverpool\, L1 3DD\, United Kingdom
CATEGORIES:Members Only Event
END:VEVENT
BEGIN:VEVENT
DTSTART;TZID=Europe/London:20161027T190000
DTEND;TZID=Europe/London:20161027T220000
DTSTAMP:20260423T113352
CREATED:20160707T134136Z
LAST-MODIFIED:20160707T134136Z
UID:10000791-1477594800-1477605600@theathenaeum.org.uk
SUMMARY:New Members Informal Dining
DESCRIPTION:Informal Dining evenings are what they say – informal! A perfect opportunity to sign the share register. There are no speakers – just good food\, company and wine. You may wish to bring along family and friends with you or join one of our larger club tables\, please specify this on booking with Caitlin at reception. \nService between 19:00 – 20:00 \nThree Course A La Carte Menu.
URL:https://theathenaeum.org.uk/event/new-members-informal-dining-8/
LOCATION:The Athenaeum Liverpool\, Church Alley\, Liverpool\, L1 3DD\, United Kingdom
END:VEVENT
BEGIN:VEVENT
DTSTART;TZID=Europe/London:20161026T140000
DTEND;TZID=Europe/London:20161026T153000
DTSTAMP:20260423T113352
CREATED:20160707T142538Z
LAST-MODIFIED:20160707T142538Z
UID:10000798-1477490400-1477495800@theathenaeum.org.uk
SUMMARY:History Group Meeting
DESCRIPTION:John Edmondson on “The Chesney Expedition.”
URL:https://theathenaeum.org.uk/event/history-group-meeting-2/
LOCATION:The Athenaeum Liverpool\, Church Alley\, Liverpool\, L1 3DD\, United Kingdom
CATEGORIES:Members Only Event
END:VEVENT
BEGIN:VEVENT
DTSTART;TZID=Europe/London:20161013T190000
DTEND;TZID=Europe/London:20161013T220000
DTSTAMP:20260423T113352
CREATED:20160707T141606Z
LAST-MODIFIED:20160719T103820Z
UID:10000795-1476385200-1476396000@theathenaeum.org.uk
SUMMARY:'A Letter from America: The US Electoral System from Washington to Trump.'
DESCRIPTION:‘A Letter from America: The US Electoral System from Washington to Trump.’ with Professor Terry Schultz from the University of Tennessee\, Knoxville\, USA.\nProfessor Terry Schultz will provide an entertaining and enlightened insight into the seeming impenetrable subject of the upcoming US election. From the Primaries and Electoral College to the White House and Senate\, and can Donald Trump really succeed? All will be revealed…. \n£30.00 per person. \nMenu  \nStarter \nClam and sweetcorn chowder \nMain Course \nFillet of beef\, bordelaise sauce and buttered spinach  \n(served with seasonal vegetables and potatoes) \nDessert  \nWarm chocolate brownie with toffee sauce\, fudge chunks\, whipped cream \n\n£30.00 per person.  \n 
URL:https://theathenaeum.org.uk/event/letter-america-us-electoral-system-washington-trump/
LOCATION:The Athenaeum Liverpool\, Church Alley\, Liverpool\, L1 3DD\, United Kingdom
CATEGORIES:Members Only Event
END:VEVENT
BEGIN:VEVENT
DTSTART;TZID=Europe/London:20161012T140000
DTEND;TZID=Europe/London:20161012T153000
DTSTAMP:20260423T113352
CREATED:20160902T120438Z
LAST-MODIFIED:20160902T120438Z
UID:10000805-1476280800-1476286200@theathenaeum.org.uk
SUMMARY:Film Group Meeting
DESCRIPTION:12th October\, 2016 – “Hobson’s Choice”: this wonderful tale is of an oafish father (Charles Laughton) whose boot-making business is run by his eldest daughter (Brenda de Banzie) and depends on the skill of his shy boot maker (John Mills). Hobson’s life is thrown into chaos when his daughter decides she has other plans. Made in 1954 by director David Lean and based on Harold Brigstock’s play\, the film\, remains a delight and a masterpiece. It won the British Academy Award for that year and the outside scenes were shot mainly in Salford. They are a reminder of how stark the industrial landscape of the North West was. (Oh and look out for a very young Prunella Scales.)
URL:https://theathenaeum.org.uk/event/film-group-meeting/
LOCATION:The Athenaeum Liverpool\, Church Alley\, Liverpool\, L1 3DD\, United Kingdom
CATEGORIES:Members Only Event
END:VEVENT
BEGIN:VEVENT
DTSTART;TZID=Europe/London:20161006T180000
DTEND;TZID=Europe/London:20161006T213000
DTSTAMP:20260423T113352
CREATED:20160915T133937Z
LAST-MODIFIED:20160915T133937Z
UID:10000809-1475776800-1475789400@theathenaeum.org.uk
SUMMARY:Athenaeum Film Night - Passport to Pimlico
DESCRIPTION:Thursday 6th October\, 6:00-6:30pm \nAthenaeum Film Nights Present – Passport to Pimlico. £10.00 per person\, includes a one course supper and refreshments during the interval. \nA charming Ealing comedy with turns from dozens of beloved character actors hilariously sending up English stereotypes when Pimlico declares itself independent to escape dour post-war life.
URL:https://theathenaeum.org.uk/event/athenaeum-film-night-passport-pimlico/
LOCATION:The Athenaeum Liverpool\, Church Alley\, Liverpool\, L1 3DD\, United Kingdom
CATEGORIES:Members Only Event
END:VEVENT
BEGIN:VEVENT
DTSTART;TZID=Europe/London:20161005T140000
DTEND;TZID=Europe/London:20161005T153000
DTSTAMP:20260423T113352
CREATED:20160714T105428Z
LAST-MODIFIED:20160714T105429Z
UID:10000802-1475676000-1475681400@theathenaeum.org.uk
SUMMARY:Literature Group Meeting
DESCRIPTION:“A Melodramatic Murder Writer”\, Wilkie Collins by Michael Byrne.
URL:https://theathenaeum.org.uk/event/literature-group-2-2/
LOCATION:The Athenaeum Liverpool\, Church Alley\, Liverpool\, L1 3DD\, United Kingdom
CATEGORIES:Members Only Event
END:VEVENT
BEGIN:VEVENT
DTSTART;TZID=Europe/London:20160929T193000
DTEND;TZID=Europe/London:20160929T210000
DTSTAMP:20260423T113352
CREATED:20160707T140218Z
LAST-MODIFIED:20160719T104001Z
UID:10000794-1475177400-1475182800@theathenaeum.org.uk
SUMMARY:Founding of the Athenaeum's Library
DESCRIPTION:Dr Mark Towsey from the University of Liverpool will describe the social\, political and economic background of the 18th Century that inspired our Institution’s founders to create a new library in Liverpool. \nWe will hear about the subscription libraries that came to Britain from the east coast of the USA\, as well as the desire to educate and disseminate. Drawing on our own library collection\, Dr Towsey’s talk will help us to understand what made it so important for initial Proprietors of the Athenaeum to create a legacy that has lasted over 200 years. \n  \nMenu  \nStarter \nPressed chicken liver and game terrine\, pickled mushrooms\, beetroot glaze \nMain Course \nRoast Loin of cod\, sun blushed tomato tapenade\, herb crumb and lemon butter sauce \n(served with a selection of seasonal vegetables and potatoes) \nDessert  \nPoached red wine and vanilla pear\, winter berry compote and Pannacotta
URL:https://theathenaeum.org.uk/event/founding-athenaeums-library/
LOCATION:The Athenaeum Liverpool\, Church Alley\, Liverpool\, L1 3DD\, United Kingdom
CATEGORIES:Members Only Event
END:VEVENT
BEGIN:VEVENT
DTSTART;TZID=Europe/London:20160928T140000
DTEND;TZID=Europe/London:20160928T173000
DTSTAMP:20260423T113352
CREATED:20160707T142408Z
LAST-MODIFIED:20160707T142408Z
UID:10000797-1475071200-1475083800@theathenaeum.org.uk
SUMMARY:History Group Meeting
DESCRIPTION:Dr Chris Evans on “The History of the Postbox.”
URL:https://theathenaeum.org.uk/event/history-group-meeting/
LOCATION:The Athenaeum Liverpool\, Church Alley\, Liverpool\, L1 3DD\, United Kingdom
CATEGORIES:Members Only Event
END:VEVENT
BEGIN:VEVENT
DTSTART;TZID=Europe/London:20160920T130000
DTEND;TZID=Europe/London:20160920T170000
DTSTAMP:20260423T113352
CREATED:20160707T135502Z
LAST-MODIFIED:20160707T135502Z
UID:10000793-1474376400-1474390800@theathenaeum.org.uk
SUMMARY:Bluecoat Artist Talk - Alan Phillips
DESCRIPTION:As part of Bluecoat Display Centre’s ongoing programme of exciting artist’s talks\, the next event will feature jeweller Alan Phillips. Alan will speak about his artistic career.\nDuring his career as a University lecturer in Design\, teaching here and in the USA\, Alan has been exposed to many disciplines within the subject area of Art and Design. He therefore has a wide range of influences. Alan uses precious materials but has also incorporated others in past work eg. wood\, plastics and glass \n  \n£12.50 price includes Afternoon Tea
URL:https://theathenaeum.org.uk/event/bluecoat-artist-talk-alan-phillips/
LOCATION:The Athenaeum Liverpool\, Church Alley\, Liverpool\, L1 3DD\, United Kingdom
END:VEVENT
BEGIN:VEVENT
DTSTART;TZID=Europe/London:20160916T070000
DTEND;TZID=Europe/London:20160916T210000
DTSTAMP:20260423T113352
CREATED:20160916T134004Z
LAST-MODIFIED:20160916T134004Z
UID:10000830-1474009200-1474059600@theathenaeum.org.uk
SUMMARY:Christmas Informal Dining
DESCRIPTION:Thursday 22nd December\, Service between 19:00 – 20:00 \nChristmas Informal Dining\, £25.00 per person \nWe finish 2016 in relaxing fashion with an ever popular informal dining occasion. There are no speakers – just good food\, company and wine. You may wish to bring along family and friends with you or join one of our larger club tables. Please specify this on booking with Caitlin at reception.
URL:https://theathenaeum.org.uk/event/christmas-informal-dining/
LOCATION:The Athenaeum Liverpool\, Church Alley\, Liverpool\, L1 3DD\, United Kingdom
CATEGORIES:Members Only Event
END:VEVENT
BEGIN:VEVENT
DTSTART;TZID=Europe/London:20160914T183000
DTEND;TZID=Europe/London:20160914T220000
DTSTAMP:20260423T113352
CREATED:20160707T134544Z
LAST-MODIFIED:20160719T104056Z
UID:10000792-1473877800-1473890400@theathenaeum.org.uk
SUMMARY:Cheap & Cheerful Supper
DESCRIPTION:Join us for our ever-popular Cheap & Cheerful get together. A fabulous evening of good food and good company! A two course menu for £10 and great offers on wine. Bring friends and family but be sure to book early. \nMenu  \n\nMain Course \nSelection of artisan sausages\, creamed Potato\, onion ring and red wine sauce \nDessert  \nPear and Almond tart\, vanilla custard
URL:https://theathenaeum.org.uk/event/cheap-cheerful-supper-8/
LOCATION:The Athenaeum Liverpool\, Church Alley\, Liverpool\, L1 3DD\, United Kingdom
CATEGORIES:Members Only Event
END:VEVENT
BEGIN:VEVENT
DTSTART;TZID=Europe/London:20160907T140000
DTEND;TZID=Europe/London:20160907T153000
DTSTAMP:20260423T113352
CREATED:20160707T143459Z
LAST-MODIFIED:20160707T143459Z
UID:10000801-1473256800-1473262200@theathenaeum.org.uk
SUMMARY:Literature Group Meeting
DESCRIPTION:“Scandi Crime” by John Morgan
URL:https://theathenaeum.org.uk/event/literature-group-meeting/
LOCATION:The Athenaeum Liverpool\, Church Alley\, Liverpool\, L1 3DD\, United Kingdom
CATEGORIES:Members Only Event
END:VEVENT
BEGIN:VEVENT
DTSTART;VALUE=DATE:20160902
DTEND;VALUE=DATE:20160903
DTSTAMP:20260423T113352
CREATED:20160902T121523Z
LAST-MODIFIED:20160902T121555Z
UID:10000808-1472774400-1472860799@theathenaeum.org.uk
SUMMARY:Film Group Meeting
DESCRIPTION:Date TBC January\, 2017 – “Tokyo Story”:  Made in 1953\, this film is considered to be one of the greatest ever made. Elderly parents come to visit their children and grandchildren in Tokyo\, but the children are busy and the old people upset their routine. The visit goes badly and a few days after the old people return home\, the grandmother dies and it is now the turn of the children to make the journey. Directed by Ozu Tasojiro\, prepare to have your emotions torn by a simple but very familiar theme.
URL:https://theathenaeum.org.uk/event/film-group-meeting-4/
LOCATION:The Athenaeum Liverpool\, Church Alley\, Liverpool\, L1 3DD\, United Kingdom
CATEGORIES:Members Only Event
END:VEVENT
BEGIN:VEVENT
DTSTART;TZID=Europe/London:20160804T190000
DTEND;TZID=Europe/London:20160804T220000
DTSTAMP:20260423T113352
CREATED:20160608T134549Z
LAST-MODIFIED:20160608T134549Z
UID:10000789-1470337200-1470348000@theathenaeum.org.uk
SUMMARY:New Members Informal Dining
DESCRIPTION:Informal Dining evenings are what they say – informal! A perfect opportunity to sign the share register. There are no speakers – just good food\, company and wine. You may wish to bring along family and friends with you or join one of our larger club tables\, please specify this on booking with Caitlin at reception. \nService between 19:00 – 20:00 \nThree Course A La Carte Menu.
URL:https://theathenaeum.org.uk/event/new-members-informal-dining-7/
LOCATION:The Athenaeum Liverpool\, Church Alley\, Liverpool\, L1 3DD\, United Kingdom
CATEGORIES:Members Only Event
END:VEVENT
BEGIN:VEVENT
DTSTART;TZID=Europe/London:20160727T114500
DTEND;TZID=Europe/London:20160727T150000
DTSTAMP:20260423T113352
CREATED:20160707T133046Z
LAST-MODIFIED:20160707T133320Z
UID:10000790-1469619900-1469631600@theathenaeum.org.uk
SUMMARY:Tour of the Old Dock
DESCRIPTION:Take a tour of Liverpool’s revolutionary Old dock – the world’s first commercial enclosed wet dock. The internationally-important Old Dock has been carefully preserved under Liverpool One\, and for the first time in centuries the bed of the Pool – the creek that gave Liverpool its name – can be seen. \nThe Old Dock was discovered during excavations in 2001 after being buried since 1826. Developers Grosvenor preserved the dock and have made it publicly accessible as an important reminder of Liverpool’s historic status. \nFollowing the tour attendees will head back to the Club for Afternoon tea in the Newsroom.
URL:https://theathenaeum.org.uk/event/tour-old-dock/
END:VEVENT
BEGIN:VEVENT
DTSTART;TZID=Europe/London:20160722T183000
DTEND;TZID=Europe/London:20160722T220000
DTSTAMP:20260423T113352
CREATED:20160608T134029Z
LAST-MODIFIED:20160707T131410Z
UID:10000788-1469212200-1469224800@theathenaeum.org.uk
SUMMARY:Summer Concert
DESCRIPTION:Liverpool Chamber Choir return for their regular summer concert\, with arrangments of popular songs\, including Gershwin\, Cole Porter and The Beatles. \n  \nBuffet Menu  \nSpanish style chicken casserole with chorizo and white beans. \nMini salmon en croute’s. \nNew potatoes. \nSliced York Ham. Egg Mayonnaise. \nOrzo & roasted vegetable salad. \nMixed leaf salad. \nColeslaw \nTomato & mozzarella salad \nWarm Bread Rolls \nLemon Tart \nStrawberry & vanilla Cheesecake. \nIndividual trifles.
URL:https://theathenaeum.org.uk/event/summer-concert/
LOCATION:The Athenaeum Liverpool\, Church Alley\, Liverpool\, L1 3DD\, United Kingdom
CATEGORIES:Members Only Event
END:VEVENT
BEGIN:VEVENT
DTSTART;TZID=Europe/London:20160719T104500
DTEND;TZID=Europe/London:20160719T123000
DTSTAMP:20260423T113352
CREATED:20160513T131758Z
LAST-MODIFIED:20160513T131758Z
UID:10000786-1468925100-1468931400@theathenaeum.org.uk
SUMMARY:Francis Bacon Exhibition
DESCRIPTION:A visit to the Tate Gallery to view the Francis Bacon exhibition\, this will be lead by a curator. \n  \nFurther details to follow – please book with Caitlin at reception. \n  \n 
URL:https://theathenaeum.org.uk/event/francis-bacon-exhibition/
LOCATION:The Tate\, Liverpool\, United Kingdom
CATEGORIES:Members Only Event
GEO:53.4083714;-2.9915726
END:VEVENT
BEGIN:VEVENT
DTSTART;TZID=Europe/London:20160708T193000
DTEND;TZID=Europe/London:20160708T220000
DTSTAMP:20260423T113352
CREATED:20160608T133244Z
LAST-MODIFIED:20160608T133244Z
UID:10000787-1468006200-1468015200@theathenaeum.org.uk
SUMMARY:Gala Gourmet Dinner
DESCRIPTION:You are cordially invited to a special Gala Gourmet Dinner at the Club\, at what will be President Elect Mark Cronin’s first\, and outgoing President Michael Shankland’s final\, function. \nGuests will be treated to a top gourmet menu spanning eight courses\, for a fraction of the price you would be expected to pay anywhere else. Also included in the price is a Crémant Reception Wine on arrival & a glass of Madeira with dessert. \nSpecial wine offers\, selected by catering stalwart Mr Frank Moran\, will be available during the evening. \nPlease book your place early to avoid disappointment\, there are limited spaces available. \nYour full Eight Course Menu will be unveiled soon!
URL:https://theathenaeum.org.uk/event/gala-gourmet-dinner/
LOCATION:The Athenaeum Liverpool\, Church Alley\, Liverpool\, L1 3DD\, United Kingdom
CATEGORIES:Members Only Event
END:VEVENT
BEGIN:VEVENT
DTSTART;TZID=Europe/London:20160701T123000
DTEND;TZID=Europe/London:20160701T150000
DTSTAMP:20260423T113352
CREATED:20160215T194901Z
LAST-MODIFIED:20160513T131213Z
UID:10000765-1467376200-1467385200@theathenaeum.org.uk
SUMMARY:Anniversary Lunch - The Battle of The Somme\, 100 Years On
DESCRIPTION:Anniversary of the Somme Lunch \nFriday 1st July 12:30-1:00pm \nMenu \nStarter \nHam Hock & Apple Salad\nEnglish mustard & honey dressing \nMain \nLemon Sole with a spinach mousse\nfresh peas\, jersey royal potatoes & butter sauce \nDessert \nEnglish Cheese Board\nwith biscuits & hand made chutney \nTea\, coffee & petit fours \n 
URL:https://theathenaeum.org.uk/event/anniversary-lunch-the-battle-of-the-somme-100-years-on/
LOCATION:The Athenaeum Liverpool\, Church Alley\, Liverpool\, L1 3DD\, United Kingdom
CATEGORIES:Members Only Event
END:VEVENT
END:VCALENDAR