BEGIN:VCALENDAR
VERSION:2.0
PRODID:-//The Athenaeum Liverpool - ECPv6.7.1//NONSGML v1.0//EN
CALSCALE:GREGORIAN
METHOD:PUBLISH
X-WR-CALNAME:The Athenaeum Liverpool
X-ORIGINAL-URL:https://theathenaeum.org.uk
X-WR-CALDESC:Events for The Athenaeum Liverpool
REFRESH-INTERVAL;VALUE=DURATION:PT1H
X-Robots-Tag:noindex
X-PUBLISHED-TTL:PT1H
BEGIN:VTIMEZONE
TZID:Europe/London
BEGIN:DAYLIGHT
TZOFFSETFROM:+0000
TZOFFSETTO:+0100
TZNAME:BST
DTSTART:20150329T010000
END:DAYLIGHT
BEGIN:STANDARD
TZOFFSETFROM:+0100
TZOFFSETTO:+0000
TZNAME:GMT
DTSTART:20151025T010000
END:STANDARD
END:VTIMEZONE
BEGIN:VEVENT
DTSTART;TZID=Europe/London:20151007T140000
DTEND;TZID=Europe/London:20151007T153000
DTSTAMP:20260423T223609
CREATED:20150910T091033Z
LAST-MODIFIED:20150910T091033Z
UID:10000662-1444226400-1444231800@theathenaeum.org.uk
SUMMARY:Literature Group
DESCRIPTION:Wednesday 7th October — 2pm Library \nDr Tony Gilbertson \n“The Many Sides of Neville Shute” \n 
URL:https://theathenaeum.org.uk/event/literature-group-4/
LOCATION:The Athenaeum Liverpool\, Church Alley\, Liverpool\, L1 3DD\, United Kingdom
CATEGORIES:Members Only Event
END:VEVENT
BEGIN:VEVENT
DTSTART;TZID=Europe/London:20151006T100000
DTEND;TZID=Europe/London:20151006T130000
DTSTAMP:20260423T223609
CREATED:20150905T191841Z
LAST-MODIFIED:20150905T192006Z
UID:10000658-1444125600-1444136400@theathenaeum.org.uk
SUMMARY:Athenaeum Debates
DESCRIPTION:This will be the first in the fourth season of Athenaeum debates where six schools will come to the Athenaeum to join in debate on current social issues. \nThree current topics will be debated.  The subjects will be published here nearer the time. \nAll Proprietors are welcome to attend and are invited to join in the Debates.
URL:https://theathenaeum.org.uk/event/athenaeum-debates-5/
LOCATION:The Athenaeum Liverpool\, Church Alley\, Liverpool\, L1 3DD\, United Kingdom
CATEGORIES:Members Only Event
ORGANIZER;CN="Dave Roscoe":MAILTO:innovation@theathenaeum.org.uk
END:VEVENT
BEGIN:VEVENT
DTSTART;TZID=Europe/London:20151002T183000
DTEND;TZID=Europe/London:20151002T220000
DTSTAMP:20260423T223609
CREATED:20150708T150017Z
LAST-MODIFIED:20150708T150027Z
UID:10000749-1443810600-1443823200@theathenaeum.org.uk
SUMMARY:'Talking to the City' with Sue Owen
DESCRIPTION:‘Talking to the City’ \, \nSupper with Sue Owen \nFriday 2nd October \n6:30-7:00pm \n£20.00 per person \nSue Owen\, Station Director of Radio Merseyside presents\, on 2nd October\, “Talking to the City” an irreverent look at the working of local radio. \n  \nGame Pot Pie\, Chantenay Carrots & Sautéed Potatoes \n~~ \nBread & Butter Pudding served with Custard \n 
URL:https://theathenaeum.org.uk/event/5243/
LOCATION:The Athenaeum Liverpool\, Church Alley\, Liverpool\, L1 3DD\, United Kingdom
CATEGORIES:Members Only Event
END:VEVENT
BEGIN:VEVENT
DTSTART;TZID=Europe/London:20150930T140000
DTEND;TZID=Europe/London:20150930T153000
DTSTAMP:20260423T223609
CREATED:20150910T091652Z
LAST-MODIFIED:20150910T091652Z
UID:10000756-1443621600-1443627000@theathenaeum.org.uk
SUMMARY:History Group
DESCRIPTION:Wednesday 30th September — 2pm Wine Servery \nNigel Gilmour \n“Tussling and Drawing Blood—Justice in C17th Prescot” \n 
URL:https://theathenaeum.org.uk/event/history-group-3/
LOCATION:The Athenaeum Liverpool\, Church Alley\, Liverpool\, L1 3DD\, United Kingdom
CATEGORIES:Members Only Event
END:VEVENT
BEGIN:VEVENT
DTSTART;TZID=Europe/London:20150925T173000
DTEND;TZID=Europe/London:20150925T200000
DTSTAMP:20260423T223609
CREATED:20150708T145735Z
LAST-MODIFIED:20150708T145735Z
UID:10000747-1443202200-1443211200@theathenaeum.org.uk
SUMMARY:Fashion Show with Phase 8
DESCRIPTION:Fashion Show with Phase 8 \nFriday 25th September \n5:30-6:00pm \n£15.50 per person \n  \nFashion show hosted by Phase 8. \n6:00pm—Reception Drink (Bubbly) \n6:30pm—First Half—Day Wear \n7:00pm—Canapés Served \n7:30– Second Half—Evening Wear \n8:00pm—Fin \n 
URL:https://theathenaeum.org.uk/event/fashion-show-with-phase-8/
LOCATION:The Athenaeum Liverpool\, Church Alley\, Liverpool\, L1 3DD\, United Kingdom
CATEGORIES:Members Only Event
END:VEVENT
BEGIN:VEVENT
DTSTART;TZID=Europe/London:20150922T130000
DTEND;TZID=Europe/London:20150922T160000
DTSTAMP:20260423T223609
CREATED:20150708T145628Z
LAST-MODIFIED:20150708T145628Z
UID:10000746-1442926800-1442937600@theathenaeum.org.uk
SUMMARY:Artists Talk with Mike Badger (Bluecoat Display Centre)
DESCRIPTION:Artists Talk with Mike Badger \nAfternoon Tea w. the Bluecoat Display Centre \nTuesday 22nd September \n1:00-1:30pm \n£12.50 per person \nMike will speak about his career creating sculptures from recycled\, brightly-coloured tin containers and other found objects\, raising  issues dealing with mass production\, Western consumerism and greed. Afternoon Tea will follow in the Newsroom. \n 
URL:https://theathenaeum.org.uk/event/artists-talk-with-mike-badger-bluecoat-display-centre/
LOCATION:The Athenaeum Liverpool\, Church Alley\, Liverpool\, L1 3DD\, United Kingdom
CATEGORIES:Members Only Event
END:VEVENT
BEGIN:VEVENT
DTSTART;TZID=Europe/London:20150921T104500
DTEND;TZID=Europe/London:20150921T140000
DTSTAMP:20260423T223609
CREATED:20150910T093356Z
LAST-MODIFIED:20150910T093356Z
UID:10000759-1442832300-1442844000@theathenaeum.org.uk
SUMMARY:Arts Group Outing
DESCRIPTION:Monday 21st September — 10:45am  Outing \n“Picturing Venice” \n10:45am Lady Lever Art Gallery\, Port Sunlight. Followed by lunch at the Port Sunlight Museum. Booking essential\, menu details distributed upon booking. \n 
URL:https://theathenaeum.org.uk/event/arts-group-outing/
LOCATION:The Athenaeum Liverpool\, Church Alley\, Liverpool\, L1 3DD\, United Kingdom
CATEGORIES:Members Only Event
END:VEVENT
BEGIN:VEVENT
DTSTART;TZID=Europe/London:20150917T183000
DTEND;TZID=Europe/London:20150917T230000
DTSTAMP:20260423T223609
CREATED:20150708T145512Z
LAST-MODIFIED:20150708T145512Z
UID:10000745-1442514600-1442530800@theathenaeum.org.uk
SUMMARY:Troika Presents\, with Wallace Fields
DESCRIPTION:Troika Presents\, with Wallace Fields \nThursday 17th September \n6:30-7:00pm \n£25.00 per person \n  \nA Russian Banquet & Concert. \n7:00pm—2 Course Dinner \n8:15pm— Concert begins in Newsroom \n10:15pm—Fin \n11:00pm—Carriages \n  \nChicken Kiev\, Kartoshka  Potatoes & Green Beans \n~~ \nApple & Almond Cake \n 
URL:https://theathenaeum.org.uk/event/troika-presents-with-wallace-fields/
LOCATION:The Athenaeum Liverpool\, Church Alley\, Liverpool\, L1 3DD\, United Kingdom
CATEGORIES:Members Only Event
END:VEVENT
BEGIN:VEVENT
DTSTART;TZID=Europe/London:20150916T140000
DTEND;TZID=Europe/London:20150916T153000
DTSTAMP:20260423T223609
CREATED:20150910T090417Z
LAST-MODIFIED:20150910T090417Z
UID:10000659-1442412000-1442417400@theathenaeum.org.uk
SUMMARY:Architecture Group
DESCRIPTION:THE MERSEY GATEWAY (RUNCORN BRIDGE) \nA NEW ICONIC STRUCTURE \nThe largest construction project in Europe! £1.6Billion! And on your doorstep! \nThe new bridge is an essential link for the Airport  & extension to the Liverpool Dock system. \nDr Brian Carr will explain the scope/benefits/design and plans for the old bridge. \nA fantastic exciting project on our doorstep with huge implications for Liverpool \nWEDNESDAY 16TH SEPTEMBER – THE LIBRARY 2PM \n 
URL:https://theathenaeum.org.uk/event/architecture-group-10/
LOCATION:The Athenaeum Liverpool\, Church Alley\, Liverpool\, L1 3DD\, United Kingdom
CATEGORIES:Members Only Event
END:VEVENT
BEGIN:VEVENT
DTSTART;TZID=Europe/London:20150911T140000
DTEND;TZID=Europe/London:20150911T160000
DTSTAMP:20260423T223609
CREATED:20150910T093847Z
LAST-MODIFIED:20150910T093847Z
UID:10000760-1441980000-1441987200@theathenaeum.org.uk
SUMMARY:Film Group - The Classic British Comedy
DESCRIPTION:Friday 11th September; at 2.00 p.m.                            The classic British Comedy \nGENEVIEVE. (GB 1953) \nDirected by Henry Cornelius. \nGenevieve is a vintage motor car\, and of course is driven to Brighton in the Old Crocks Race.  But on the return its owner (John Gregson) bets another driver (Kenneth More) he can get back to   London first.  There are no holds barred in this battle\, to the disgust of their womenfolk (Dinah Sheridan\, Kay Kendall).  Larry Adler wrote the famous theme tune.  In colour. \n 
URL:https://theathenaeum.org.uk/event/film-group-the-classic-british-comedy/
LOCATION:The Athenaeum Liverpool\, Church Alley\, Liverpool\, L1 3DD\, United Kingdom
CATEGORIES:Members Only Event
END:VEVENT
BEGIN:VEVENT
DTSTART;TZID=Europe/London:20150805T173000
DTEND;TZID=Europe/London:20150805T200000
DTSTAMP:20260423T223609
CREATED:20150708T145410Z
LAST-MODIFIED:20150708T145410Z
UID:10000744-1438795800-1438804800@theathenaeum.org.uk
SUMMARY:Garden Party at the Bluecoat
DESCRIPTION:Garden Party at the Bluecoat \nWednesday 5th August \n5:30pm—8:00pm \n£22.00 per person \n  \nA glass of fizz on arrival at the Bluecoat and a choice of 4 canapés per person\, our own Wallace Fields will be tickling the              ivories throughout. Following the party vegetable sushi will be available in the Newsroom. \n 
URL:https://theathenaeum.org.uk/event/garden-party-at-the-bluecoat-2/
LOCATION:The Athenaeum Liverpool\, Church Alley\, Liverpool\, L1 3DD\, United Kingdom
CATEGORIES:Members Only Event
END:VEVENT
BEGIN:VEVENT
DTSTART;TZID=Europe/London:20150724T183000
DTEND;TZID=Europe/London:20150724T220000
DTSTAMP:20260423T223609
CREATED:20150708T145246Z
LAST-MODIFIED:20150708T145325Z
UID:10000653-1437762600-1437775200@theathenaeum.org.uk
SUMMARY:Late Summer Songs - Summer Concert
DESCRIPTION:‘Late Summer Songs’ \nSummer Concert \nFriday 24th July \n6:30—7:00pm \n£20.00 per person \n  \n  \nA summer performance from the Liverpool Chamber Choir. \n6:30pm Arrival\n7:00pm Supper Served\n8:30pm Concert Commences \n  \n  \nSalmon Wellington with Spinach\, Summer Salad with Oranges & Raddish served w. New Potatoes (Family Service) \n~~~ \nStrawberry Tart served with Honey Mascarpone \n 
URL:https://theathenaeum.org.uk/event/5236/
LOCATION:The Athenaeum Liverpool\, Church Alley\, Liverpool\, L1 3DD\, United Kingdom
CATEGORIES:Members Only Event
END:VEVENT
BEGIN:VEVENT
DTSTART;TZID=Europe/London:20150716T140000
DTEND;TZID=Europe/London:20150716T160000
DTSTAMP:20260423T223609
CREATED:20150317T124628Z
LAST-MODIFIED:20150317T124628Z
UID:10000743-1437055200-1437062400@theathenaeum.org.uk
SUMMARY:Arts & Architecture Group
DESCRIPTION:Thursday 16th July \nArts & Architecture Group Joint Meeting \nA tour commencing at St George’s Hall at 2pm with Hugh Hollinghurst. \n‘The Inspirational Beauty of St George’s Hall and William Brown Street’ \, its Sculpture and Statuary with a break for Tea at the Walker Art Gallery \n 
URL:https://theathenaeum.org.uk/event/arts-architecture-group/
LOCATION:The Athenaeum Liverpool\, Church Alley\, Liverpool\, L1 3DD\, United Kingdom
CATEGORIES:Members Only Event
END:VEVENT
BEGIN:VEVENT
DTSTART;TZID=Europe/London:20150716T140000
DTEND;TZID=Europe/London:20150716T160000
DTSTAMP:20260423T223609
CREATED:20150317T123902Z
LAST-MODIFIED:20150317T123902Z
UID:10000740-1437055200-1437062400@theathenaeum.org.uk
SUMMARY:Arts Group
DESCRIPTION:16th July 2015 \nJoint meeting with the Architecture Group \n2pm at St George’s Hall \n‘The Inspirational Beauty of St George’s Hall and William Brown Street’ its sculpture and statuary with a break for tea at the Walker Art Gallery. \n 
URL:https://theathenaeum.org.uk/event/arts-group-4/
LOCATION:The Athenaeum Liverpool\, Church Alley\, Liverpool\, L1 3DD\, United Kingdom
CATEGORIES:Members Only Event
END:VEVENT
BEGIN:VEVENT
DTSTART;TZID=Europe/London:20150714T143000
DTEND;TZID=Europe/London:20150714T163000
DTSTAMP:20260423T223609
CREATED:20150708T144711Z
LAST-MODIFIED:20150708T144711Z
UID:10000652-1436884200-1436891400@theathenaeum.org.uk
SUMMARY:Presidential Outing - Knowsley Hall
DESCRIPTION:Presidential Outing to Knowsley Hall \nThursday 14th July \n2:30pm until 4:30pm \n£16.50 per person \nLimited availability \n  \nA special guided tour of Knowsley Hall by our very own Dr Stephen Lloyd. \nPlease make your own way to the Hall\,  directions are available at Reception if  required. \n 
URL:https://theathenaeum.org.uk/event/presidential-outing-knowsley-hall/
LOCATION:The Athenaeum Liverpool\, Church Alley\, Liverpool\, L1 3DD\, United Kingdom
CATEGORIES:Members Only Event
END:VEVENT
BEGIN:VEVENT
DTSTART;TZID=Europe/London:20150629T140000
DTEND;TZID=Europe/London:20150629T160000
DTSTAMP:20260423T223609
CREATED:20150317T123329Z
LAST-MODIFIED:20150317T123329Z
UID:10000739-1435586400-1435593600@theathenaeum.org.uk
SUMMARY:Arts Group
DESCRIPTION:Monday 29th June \n2pm in the Wine Servery \n‘Italian Renaissance Courts’ \nAn Illustrated talk by Bernadette Hamilton (Guest Speaker) \n 
URL:https://theathenaeum.org.uk/event/arts-group-3/
LOCATION:The Athenaeum Liverpool\, Church Alley\, Liverpool\, L1 3DD\, United Kingdom
CATEGORIES:Members Only Event
END:VEVENT
BEGIN:VEVENT
DTSTART;TZID=Europe/London:20150629T140000
DTEND;TZID=Europe/London:20150629T160000
DTSTAMP:20260423T223609
CREATED:20150127T151136Z
LAST-MODIFIED:20150205T113717Z
UID:10000732-1435586400-1435593600@theathenaeum.org.uk
SUMMARY:Arts Group
DESCRIPTION:Monday 29th June 2015 – 2pm – Wine Servery \nItalian Renaissance Courts \nAn Illustrated Talk by Bernadette Hamilton
URL:https://theathenaeum.org.uk/event/5101/
LOCATION:The Athenaeum Liverpool\, Church Alley\, Liverpool\, L1 3DD\, United Kingdom
CATEGORIES:Members Only Event
END:VEVENT
BEGIN:VEVENT
DTSTART;TZID=Europe/London:20150617T140000
DTEND;TZID=Europe/London:20150617T160000
DTSTAMP:20260423T223609
CREATED:20150317T123139Z
LAST-MODIFIED:20150317T123139Z
UID:10000738-1434549600-1434556800@theathenaeum.org.uk
SUMMARY:Joint meeting of the Arts & History Interest Groups
DESCRIPTION:Wednesday 17th June – 2pm Wine servery \nJoint meeting of the History & Arts Group \n‘London\, its growth from 54BC to C18th’ \nAn Illustrated talk by Jutta Hesketh \n(Proprietor) \n 
URL:https://theathenaeum.org.uk/event/joint-meeting-of-the-arts-history-interest-groups/
LOCATION:The Athenaeum Liverpool\, Church Alley\, Liverpool\, L1 3DD\, United Kingdom
CATEGORIES:Members Only Event
END:VEVENT
BEGIN:VEVENT
DTSTART;TZID=Europe/London:20150616T190000
DTEND;TZID=Europe/London:20150616T220000
DTSTAMP:20260423T223609
CREATED:20150317T121211Z
LAST-MODIFIED:20150317T121211Z
UID:10000736-1434481200-1434492000@theathenaeum.org.uk
SUMMARY:The Battle of Quatre Bras - Bi-Centenary Dinner
DESCRIPTION:The Battle of Quatre Bras \nBi-Centenary Dinner \nTuesday 16th June \n7:00-7:30pm \n£30.00 per person \n  \nFresh Pea Soup \n~~~ \n6oz Beef Wellington\, Panache of Vegetables served with Roast Potatoes baked in Marmite \n~or~ \n(V) Lancashire Butter Pie served with Vegetables (V) \n~~ \nBread & Butter Pudding served with Marmalade Custard \n~~ \nCheese Board \n 
URL:https://theathenaeum.org.uk/event/the-battle-of-quatre-bras-bi-centenary-dinner/
LOCATION:The Athenaeum Liverpool\, Church Alley\, Liverpool\, L1 3DD\, United Kingdom
CATEGORIES:Members Only Event
END:VEVENT
BEGIN:VEVENT
DTSTART;TZID=Europe/London:20150611T190000
DTEND;TZID=Europe/London:20150611T220000
DTSTAMP:20260423T223609
CREATED:20150421T111532Z
LAST-MODIFIED:20150421T111538Z
UID:10000651-1434049200-1434060000@theathenaeum.org.uk
SUMMARY:Antiques Evening with Jeremy Lamond
DESCRIPTION:Library  Event \nAntiques \nSupper Evening \n11th June 7pm \n Bring your small antiques and collectables for appraisal & evaluation. No jewellery or furniture please \nWith Jeremy Lamond \nof Bargain Hunt and many other TV programmes \nDirector Hall’s Shrewsbury \n£28.50
URL:https://theathenaeum.org.uk/event/antiques-evening-with-jeremy-lamont/
LOCATION:The Athenaeum Liverpool\, Church Alley\, Liverpool\, L1 3DD\, United Kingdom
CATEGORIES:Members Only Event
END:VEVENT
BEGIN:VEVENT
DTSTART;TZID=Europe/London:20150610T180000
DTEND;TZID=Europe/London:20150610T220000
DTSTAMP:20260423T223609
CREATED:20150317T131313Z
LAST-MODIFIED:20150317T131313Z
UID:10000646-1433959200-1433973600@theathenaeum.org.uk
SUMMARY:Music Group - Summer Concert
DESCRIPTION:The Bentley Operatic Society have agreed to play a concert for the Music Group on the evening of Wednesday 10th June – further details are to follow. \nNegotiations are in place for a second concert to take place in November
URL:https://theathenaeum.org.uk/event/music-group-summer-concert/
LOCATION:The Athenaeum Liverpool\, Church Alley\, Liverpool\, L1 3DD\, United Kingdom
CATEGORIES:Members Only Event
END:VEVENT
BEGIN:VEVENT
DTSTART;TZID=Europe/London:20150604T090000
DTEND;TZID=Europe/London:20150606T160000
DTSTAMP:20260423T223609
CREATED:20150409T093313Z
LAST-MODIFIED:20150409T093313Z
UID:10000648-1433408400-1433606400@theathenaeum.org.uk
SUMMARY:Coffee\, Tea and Chocolate: Fuelling Modernity
DESCRIPTION:Coffee\, Tea and Chocolate: Fuelling Modernity \nPostgraduate and Early Career Researcher Workshop \nLiverpool Athenaeum \n4th – 6th June 2015 \nTimings to be confirmed\, further details to follow. \n  \nThe annual joint workshop of the Athenaeum and 18th Century Worlds Study Group if to take place on 4 – 6 June 2015.  Proprietors and members of the Friends of the Library will be very welcome at the inaugural lecture by Professor Ellis and also to join the workshops. \nIf you wish to participate please inform Prof Rosenhaft on dan85@liverpool.ac.uk \n\nThis two day workshop will be hosted in the Library of the Liverpool Athenaeum\, founded in 1797 to provide ‘the conveniences and accommodation for the acquisition of knowledge…in a town of such commercial and national importance as Liverpool’. \nThis year’s topic is ‘Coffee\, tea and chocolate: Fuelling modernity’.  The workshop will be introduced by a public lecture delivered by Professor Markman Ellis\, entitled     ‘A Most Civilizing Juice’: Tea between China and Britain in the eighteenth century. \n\nGiven the centrality of these new commodities to the structuring of everyday life\, commercial relations and sensory economies in the long eighteenth century\, we anticipate and want to encourage a decidedly interdisciplinary conversation. Topics for discussion might include; \n\n\nThe social and cultural manifestations of the consumption of new luxury food products\nTheir legal regulation\nDiscourses about danger (physical and moral) and pleasure\nThe global contexts and impacts of their production\, carriage\, refinement and marketing\nSweetness and slavery\nMaterial cultures: furniture\, ceramics\, metal ware\nVisual and literary representations\nSociability\, conversation and their loci: the coffee house and the tea-table\n\nCase studies are invited from all periods within the long eighteenth century\, all disciplines and all national contexts\, and papers that offer a global view of a global process will be welcome. \n\nThe workshop will include an opportunity to examine the material cultures of consumption in a visit to the Decorative Arts Collection of the National Museums Merseyside\, led by Dr Pauline Rushton\, as well as chances to explore the built heritage of a premier merchant city of the eighteenth century. \n\nThis workshop has been generously funded by the School of Histories\, Languages and Cultures at the University of Liverpool\, the Social History Society and the Economic History Society. As a result\, \nWE ARE ABLE TO OFFER FIVE BURSARIES OF £50 EACH TO POSTGRADUATE SPEAKERS. \n\nFor further information\, or to submit a proposal\, please contact Helga Müllneritschhelgamue@liv.ac.uk. Proposals (accompanied as appropriate by a bursary request in the form of a letter that includes the contact details of your supervisor) should be submitted by 1st MAY 2015.
URL:https://theathenaeum.org.uk/event/coffee-tea-and-chocolate-fuelling-modernity/
LOCATION:The Athenaeum Liverpool\, Church Alley\, Liverpool\, L1 3DD\, United Kingdom
CATEGORIES:Public Event
END:VEVENT
BEGIN:VEVENT
DTSTART;TZID=Europe/London:20150603T140000
DTEND;TZID=Europe/London:20150603T160000
DTSTAMP:20260423T223609
CREATED:20150317T124201Z
LAST-MODIFIED:20150317T124431Z
UID:10000742-1433340000-1433347200@theathenaeum.org.uk
SUMMARY:Architecture Group
DESCRIPTION:Wednesday 3rd June \n2pm in the Library \n‘Mosques from Brougham Terrace (Liverpool) to the Silk Route’ – An Illustrated talk by Jim Bellew \n  \n 
URL:https://theathenaeum.org.uk/event/architecture-group-9/
LOCATION:The Athenaeum Liverpool\, Church Alley\, Liverpool\, L1 3DD\, United Kingdom
CATEGORIES:Members Only Event
END:VEVENT
BEGIN:VEVENT
DTSTART;TZID=Europe/London:20150518T140000
DTEND;TZID=Europe/London:20150518T160000
DTSTAMP:20260423T223609
CREATED:20150317T122817Z
LAST-MODIFIED:20150317T122817Z
UID:10000737-1431957600-1431964800@theathenaeum.org.uk
SUMMARY:Arts Group - Tate Gallery Outing
DESCRIPTION:Monday 18th May \nVisit to the Tate Gallery—2pm at the Gallery \n‘Leonora Carrington (1917-2011)’ \nA Lancashire artist who  settled in Mexico in 1941. \nThis will be a presentation by a Tate Curator \nThe tour costs £10.00 per person \nAfternoon Tea is available at £3.50 per person. \nBookings limited to 20 people\, please book in advance to avoid disappointment. \n 
URL:https://theathenaeum.org.uk/event/arts-group-tate-gallery-outing/
LOCATION:The Athenaeum Liverpool\, Church Alley\, Liverpool\, L1 3DD\, United Kingdom
CATEGORIES:Members Only Event
END:VEVENT
BEGIN:VEVENT
DTSTART;TZID=Europe/London:20150515T190000
DTEND;TZID=Europe/London:20150515T220000
DTSTAMP:20260423T223609
CREATED:20150421T111000Z
LAST-MODIFIED:20150512T134543Z
UID:10000650-1431716400-1431727200@theathenaeum.org.uk
SUMMARY:Light Night
DESCRIPTION:A rare chance to step inside this hidden gem\, containing 60\,000 unique volumes including medieval manuscripts and early printed books alongside maps\, pictures and artefacts reflecting Liverpool’s rich heritage. \nTours are scheduled every half hour beginning at 7:00pm\, last tour scheduled for 9:00pm. \nTickets can be bought at the Athenaeum\, by phone (0151 709 7770)\, or reserved by email ( reception@theathenaeum.org.uk ). Tickets cost £5.00 per person and payment must be made in advance. \nThis tour is suitable for 14 years and over.
URL:https://theathenaeum.org.uk/event/light-night/
LOCATION:The Athenaeum Liverpool\, Church Alley\, Liverpool\, L1 3DD\, United Kingdom
CATEGORIES:Members Only Event
END:VEVENT
BEGIN:VEVENT
DTSTART;TZID=Europe/London:20150513T183000
DTEND;TZID=Europe/London:20150513T210000
DTSTAMP:20260423T223609
CREATED:20150317T113601Z
LAST-MODIFIED:20150317T113601Z
UID:10000734-1431541800-1431550800@theathenaeum.org.uk
SUMMARY:Cheap & Cheerful Supper
DESCRIPTION:Cheap & Cheerful Supper \nWednesday 13th May \n6:30-7:00pm \n£10.00 per person \n  \nFishcake\, Chips & Peas \n~~~ \nSticky Toffee Pudding \n 
URL:https://theathenaeum.org.uk/event/cheap-cheerful-supper-5/
LOCATION:The Athenaeum Liverpool\, Church Alley\, Liverpool\, L1 3DD\, United Kingdom
CATEGORIES:Members Only Event
END:VEVENT
BEGIN:VEVENT
DTSTART;TZID=Europe/London:20150508T180000
DTEND;TZID=Europe/London:20150508T180000
DTSTAMP:20260423T223609
CREATED:20150317T132450Z
LAST-MODIFIED:20150508T134522Z
UID:10000647-1431108000-1431108000@theathenaeum.org.uk
SUMMARY:Music Group - Palm Court Tea Concert
DESCRIPTION:Timings to follow \n  \nFriday 8th May \nPalm Court Tea Concert \nFeaturing \nPORT SUNLIGHT ORCHESTRA STRING QUARTET \nVicky Roberts (violin)/Rod Tann (violin)/Clive Hunt (viola)/Rosie Jones (cello) \nMC Mr David Straughan. Conductor The Port Sunlight Orchestra \n  \n‘CHAMBER MUSIC FROM TWO CENTURIES’ \nGigue from Concerto Grosso in F\, Op.6/9                                                                                Handel \nRomanza\, Minuet & Trio from Serenade ‘Eine Kleine Nachtmusik’ K525                          Mozart \nSerenade from String Quartet Op.5/3                                                   Hoffsteitter (attrib. Haydn) \nAllegro Vivace from String Quartet in Bb K458                                                                       Mozart \nMoment Musicaux Op.94/3                                                                      Schubert arr. Woodhouse \nINTERVAL \nO Sole Mio                                                                                                                di Capua arr. Thorp \nAndante Cantabile from String Quartet in D Op.11                                                       Tchaikovsky \nFour Madrigals                                                                                                          Sullivan arr. Twinn
URL:https://theathenaeum.org.uk/event/music-group-palm-court-tea-concert/
LOCATION:The Athenaeum Liverpool\, Church Alley\, Liverpool\, L1 3DD\, United Kingdom
CATEGORIES:Members Only Event
END:VEVENT
BEGIN:VEVENT
DTSTART;TZID=Europe/London:20150507T140000
DTEND;TZID=Europe/London:20150507T160000
DTSTAMP:20260423T223609
CREATED:20150317T124130Z
LAST-MODIFIED:20150317T124941Z
UID:10000741-1431007200-1431014400@theathenaeum.org.uk
SUMMARY:Architecture & History Group
DESCRIPTION:Thursday 7th May \n2pm in the Library \nJoint meeting of the Architecture and History Groups \nBrenda Murray (Proprietor) will talk on \n‘Celebrating the Bi-Centenary of the Town of Waterloo’ \n 
URL:https://theathenaeum.org.uk/event/architecture-group-8/
LOCATION:The Athenaeum Liverpool\, Church Alley\, Liverpool\, L1 3DD\, United Kingdom
CATEGORIES:Members Only Event
END:VEVENT
BEGIN:VEVENT
DTSTART;TZID=Europe/London:20150506T133000
DTEND;TZID=Europe/London:20150506T153000
DTSTAMP:20260423T223609
CREATED:20150317T125108Z
LAST-MODIFIED:20150317T125108Z
UID:10000644-1430919000-1430926200@theathenaeum.org.uk
SUMMARY:Literature Group
DESCRIPTION:Wednesday 6th May \n1:30pm in the Library \nMartin Edwards (Proprietor) – The Golden Age of Murder \n 
URL:https://theathenaeum.org.uk/event/literature-group-3/
LOCATION:The Athenaeum Liverpool\, Church Alley\, Liverpool\, L1 3DD\, United Kingdom
CATEGORIES:Members Only Event
END:VEVENT
BEGIN:VEVENT
DTSTART;TZID=Europe/London:20150506T133000
DTEND;TZID=Europe/London:20150506T153000
DTSTAMP:20260423T223609
CREATED:20150127T153502Z
LAST-MODIFIED:20150127T153502Z
UID:10000638-1430919000-1430926200@theathenaeum.org.uk
SUMMARY:Literature Group
DESCRIPTION:Wednesday 6th May – 1:30pm Library \nMartin Edwards  –  The Golden Age of Murder \n 
URL:https://theathenaeum.org.uk/event/literature-group-2/
LOCATION:The Athenaeum Liverpool\, Church Alley\, Liverpool\, L1 3DD\, United Kingdom
CATEGORIES:Members Only Event
END:VEVENT
END:VCALENDAR