BEGIN:VCALENDAR
VERSION:2.0
PRODID:-//The Athenaeum Liverpool - ECPv6.7.1//NONSGML v1.0//EN
CALSCALE:GREGORIAN
METHOD:PUBLISH
X-WR-CALNAME:The Athenaeum Liverpool
X-ORIGINAL-URL:https://theathenaeum.org.uk
X-WR-CALDESC:Events for The Athenaeum Liverpool
REFRESH-INTERVAL;VALUE=DURATION:PT1H
X-Robots-Tag:noindex
X-PUBLISHED-TTL:PT1H
BEGIN:VTIMEZONE
TZID:Europe/London
BEGIN:DAYLIGHT
TZOFFSETFROM:+0000
TZOFFSETTO:+0100
TZNAME:BST
DTSTART:20140330T010000
END:DAYLIGHT
BEGIN:STANDARD
TZOFFSETFROM:+0100
TZOFFSETTO:+0000
TZNAME:GMT
DTSTART:20141026T010000
END:STANDARD
END:VTIMEZONE
BEGIN:VEVENT
DTSTART;TZID=Europe/London:20141001T133000
DTEND;TZID=Europe/London:20141001T150000
DTSTAMP:20260424T123446
CREATED:20140723T110030Z
LAST-MODIFIED:20140922T100516Z
UID:10000678-1412170200-1412175600@theathenaeum.org.uk
SUMMARY:The Athenaeum Literature Group
DESCRIPTION:Wednesday 1st October \n1:30pm in the Library \n  \n‘Murder in the Lake District’ \nBy Martin Edwards \n 
URL:https://theathenaeum.org.uk/event/the-athenaeum-literature-group-5/
LOCATION:The Athenaeum Liverpool\, Church Alley\, Liverpool\, L1 3DD\, United Kingdom
CATEGORIES:Members Only Event
END:VEVENT
END:VCALENDAR