BEGIN:VCALENDAR
VERSION:2.0
PRODID:-//The Athenaeum Liverpool - ECPv6.7.1//NONSGML v1.0//EN
CALSCALE:GREGORIAN
METHOD:PUBLISH
X-WR-CALNAME:The Athenaeum Liverpool
X-ORIGINAL-URL:https://theathenaeum.org.uk
X-WR-CALDESC:Events for The Athenaeum Liverpool
REFRESH-INTERVAL;VALUE=DURATION:PT1H
X-Robots-Tag:noindex
X-PUBLISHED-TTL:PT1H
BEGIN:VTIMEZONE
TZID:Europe/London
BEGIN:DAYLIGHT
TZOFFSETFROM:+0000
TZOFFSETTO:+0100
TZNAME:BST
DTSTART:20220327T010000
END:DAYLIGHT
BEGIN:STANDARD
TZOFFSETFROM:+0100
TZOFFSETTO:+0000
TZNAME:GMT
DTSTART:20221030T010000
END:STANDARD
END:VTIMEZONE
BEGIN:VEVENT
DTSTART;TZID=Europe/London:20220704T140000
DTEND;TZID=Europe/London:20220704T160000
DTSTAMP:20260421T160015
CREATED:20220607T180228Z
LAST-MODIFIED:20220607T180309Z
UID:10001175-1656943200-1656950400@theathenaeum.org.uk
SUMMARY:Ladies' Afternoon Tea
DESCRIPTION:We hope you all managed to enjoy the Platinum Jubilee celebrations over the Bank Holiday weekend. \nWe have been busy making our own marmalade sandwiches and would love it if you could join us for our next gathering which will be Afternoon Tea on Monday 4th July from 2.00 – 4.00 pm. Since it is American Independence Day there will be an American theme but it will mainly be an opportunity to meet with other Athenaeum ladies to catch up. \nWe hope to see you there. Book your places now Via the Members’ Area or through reception. \nOther dates for the diary for our next lunches – Monday 19th September when we can mark UN International Day of Peace Monday 31st October for a bewitching Halloween lunch Monday 16th January when we hope to start the New Year with a ‘Bee Friendly’ theme. \nBest wishes to you all Gaynor (Bresnen) and Hilary (Gatenby) \n  \n 
URL:https://theathenaeum.org.uk/event/ladies-afternoon-tea/
LOCATION:The Athenaeum Liverpool\, Church Alley\, Liverpool\, L1 3DD\, United Kingdom
CATEGORIES:Members & Guests
END:VEVENT
BEGIN:VEVENT
DTSTART;TZID=Europe/London:20220705T120000
DTEND;TZID=Europe/London:20220705T140000
DTSTAMP:20260421T160015
CREATED:20220623T132312Z
LAST-MODIFIED:20220623T132359Z
UID:10001184-1657022400-1657029600@theathenaeum.org.uk
SUMMARY:In Conversation With... Katherine Fairclough and Bronwen Rapley - Women in Property
DESCRIPTION:The below event is organiser by Women In Property\, though is open to all Athenaeum Members/guests and to all sexes. \n  \nWomen in Property are pleased to announce a new event: \nIn Conversation With…Katherine Fairclough and Bronwen Rapley\nTuesday 05 July 2022 12:00 PM\nJoin us to hear from two incredible women\, leading from the front in the public and social housing sectors. \nOur lunch takes place in The Atheneum\, a private members’ club\, founded in 1797 to provide a meeting place where ideas and information could be exchanged in pleasant surroundings – the perfect place to hear about Katherine and Bronwen’s professional journeys and aspirations. \nKatherine Fairclough has been the Chief Executive of the Liverpool City Region Combined Authority since June 2021. She joined from Cumbria County Council\, where she had been Chief Executive since 2017. \nBronwen Rapley is Chief Executive of Onward Homes\, a Housing Association owning and managing over 35\,000 homes across the North West. Bronwen has worked in housing and regeneration for 30 years\, in a wide variety of roles including legal services\, delivery and regulation. \nTicket price includes lunch.* \nBook your place now through the Members’ Area or via Reception \n*please advise of any dietary requirements when booking \nThis event is kindly sponsored by Cowgills and Legal & Contingency
URL:https://theathenaeum.org.uk/event/9702/
LOCATION:The Athenaeum Liverpool\, Church Alley\, Liverpool\, L1 3DD\, United Kingdom
CATEGORIES:Members & Guests,Public Event
END:VEVENT
BEGIN:VEVENT
DTSTART;TZID=Europe/London:20220705T140000
DTEND;TZID=Europe/London:20220705T153000
DTSTAMP:20260421T160015
CREATED:20220616T115528Z
LAST-MODIFIED:20220616T115528Z
UID:10001182-1657029600-1657035000@theathenaeum.org.uk
SUMMARY:Literature Group
DESCRIPTION:The Literature Group meets on the first Tuesday on the month at 2pm in the Library Reading Room\, all members and guests are welcome and there is no requirement to book\, simply turn up on the day and enjoy. \nTuesday 5th July at 2pm in the Library Reading Room. \nShakespeare Light \nCome and join Anne Todd as she shares happy times with her hero William Shakespeare\, as a school girl in Stratford on Avon and later as an adult\, appreciating his sense of humour and love of fun\, as well as his brilliant masterpieces for the stage. \nThere will be no meeting in August but we will resume in September with a talk about Surrealism in Literature. \n  \n  \n 
URL:https://theathenaeum.org.uk/event/literature-group-17/
LOCATION:The Athenaeum Liverpool\, Church Alley\, Liverpool\, L1 3DD\, United Kingdom
CATEGORIES:Members & Guests
END:VEVENT
BEGIN:VEVENT
DTSTART;TZID=Europe/London:20220706T190000
DTEND;TZID=Europe/London:20220706T230000
DTSTAMP:20260421T160015
CREATED:20220520T170632Z
LAST-MODIFIED:20220623T170436Z
UID:10001170-1657134000-1657148400@theathenaeum.org.uk
SUMMARY:Wine Tasting Evening - 1 of 2
DESCRIPTION:Join us on Wednesday 6th July 2022 for the first of two wine tasting evenings to showcase wines from the Club’s new wine list. \nRoger Barlow of our Wine Merchants\, Gerrard Seel\, will host a swift tasting at 7:00pm in the Newsroom giving an overview of the three wines which will accompany each course with Dinner which will be served in the Dining Room at 7:30pm. \nThe wines being showcased this evening are:- \nGros Manseng/Sauvignon Blanc – Domaine Horgelus\, France (12.5%) – Served with starter\nAthenaeum Claret – Ronan by Client\, France (14%) – Served with Main\nCava Brut – Paco Molina\, Spain (11.5%) – Served with Dessert \n  \n  \nMenu – Please stipulate dietary requirements upon booking or in advance of the evening to assist the catering. \nStarters: \nGateau of Crottain du Chèvre\, petite ratatouille\, Olive purées\, basil dressing (V) \nor \nBoudin of poached Scottish Salmon with herbs\, Russian salad\, caviar\, dill creme fraiche \n  \nMain Course: \nConfit duck leg\, grilled venison sausage\, petit sale\, Savoy cabbage \nor \nPeppered Aubergine steak\, Cavolo nero\, feta brandard\, roasted red chilli\, black garlic puree (v) \n  \nDessert: \nVanilla and saffron poached pear\, clotted cream pannacotta \n  \nThe second of these two tastings showcasing wines from the wine list is due to take place on Tuesday 26th July 2022. \n 
URL:https://theathenaeum.org.uk/event/wine-tasting-evening-2-of-2/
LOCATION:The Athenaeum Liverpool\, Church Alley\, Liverpool\, L1 3DD\, United Kingdom
CATEGORIES:Members & Guests
END:VEVENT
BEGIN:VEVENT
DTSTART;TZID=Europe/London:20220708T183000
DTEND;TZID=Europe/London:20220708T230000
DTSTAMP:20260421T160015
CREATED:20220520T143142Z
LAST-MODIFIED:20220520T143142Z
UID:10000992-1657305000-1657321200@theathenaeum.org.uk
SUMMARY:Friday Evening Dining
DESCRIPTION:The Club is open for Dinner on Friday Evenings with service between 6:30pm and 8:00pm. End the week the right way with a delectable meal from our chefs in the surroundings of your Club. \nYou can book a table for Friday Evening Dining through reception – 0151 709 7770 / reception@theathenaeum.org.uk. \n 
URL:https://theathenaeum.org.uk/event/friday-evening-dining-7/
LOCATION:The Athenaeum Liverpool\, Church Alley\, Liverpool\, L1 3DD\, United Kingdom
CATEGORIES:Members & Guests
END:VEVENT
BEGIN:VEVENT
DTSTART;TZID=Europe/London:20220711T113000
DTEND;TZID=Europe/London:20220711T123000
DTSTAMP:20260421T160015
CREATED:20220616T115354Z
LAST-MODIFIED:20220616T115522Z
UID:10001180-1657539000-1657542600@theathenaeum.org.uk
SUMMARY:History of Art Group
DESCRIPTION:The History of Art Group meets on the 2nd Monday in the month at 11:30am in the Wine Servery. All Members and guests are welcome and there is no need to book\, simply turn up and enjoy!
URL:https://theathenaeum.org.uk/event/history-of-art-group/
LOCATION:The Athenaeum Liverpool\, Church Alley\, Liverpool\, L1 3DD\, United Kingdom
CATEGORIES:Members & Guests
END:VEVENT
BEGIN:VEVENT
DTSTART;TZID=Europe/London:20220712T180000
DTEND;TZID=Europe/London:20220712T193000
DTSTAMP:20260421T160015
CREATED:20220616T115656Z
LAST-MODIFIED:20220616T115708Z
UID:10001181-1657648800-1657654200@theathenaeum.org.uk
SUMMARY:Annual General Meeting 2022
DESCRIPTION:The Annual General Meeting of the Proprietors of The Athenaeum will take place on Tuesday 12th July at 6:00pm in the Newsroom. \nThe Dining Room will be open from 12:30pm until 8:00pm for Members to dine before or after the meeting\, and advance booking is recommended. \n  \nThe business of the meeting will be circulated internally to all Proprietors in advance of the meeting.
URL:https://theathenaeum.org.uk/event/annual-general-meeting-2022/
LOCATION:The Athenaeum Liverpool\, Church Alley\, Liverpool\, L1 3DD\, United Kingdom
CATEGORIES:Members & Guests
END:VEVENT
BEGIN:VEVENT
DTSTART;TZID=Europe/London:20220714T190000
DTEND;TZID=Europe/London:20220714T190000
DTSTAMP:20260421T160015
CREATED:20220616T114005Z
LAST-MODIFIED:20220616T114521Z
UID:10001179-1657825200-1657825200@theathenaeum.org.uk
SUMMARY:In Conversation with Professor Lucy Easthope: UK's leading disaster planner
DESCRIPTION:Join us for an evening in conversation with Professor Lucy Easthope\, world-leading authority on recovering from disaster. \n\n\nAbout this event\n\n\n\nProfessor Lucy Easthope lives with disaster every day. When a plane crashes\, a bomb explodes\, a city floods or a pandemic begins\, she’s the one they call. \nLucy has been at the centre of the most seismic events of the last few decades\, advising on everything from the 2004 Boxing Day tsunami to the 7/7 bombings\, the Christchurch earthquake in New Zealand\, the Grenfell fire and the Covid-19 pandemic. In every catastrophe\, Lucy is there to pick up the pieces and prepare for the next one. She holds governments to account\, helps communities rally together\, returns personal possessions to families\, and holds the hands of the survivors. \nIn her moving Sunday Times bestselling memoir “When The Dust Settles Stories of Love\, Loss and Hope from an Expert in Disaster”\, Lucy reveals what happens in the aftermath of a disaster and explores how we pick up and rebuild with strength and perseverance. She takes us behind the police tape to scenes of destruction and chaos\, introducing us to victims and their families\, but also to the government briefing rooms and bunkers\, where confusion and stale biscuits can reign supreme. Telling her own personal story\, Lucy looks back at a life spent on the edges of disaster\, from a Liverpudlian childhood steeped in the Hillsborough tragedy to the many losses and loves of her career. \nLucy’s book will be available for purchase and signing at the event. \nThe Athenaeum’s Dining Room is taking pre-bookings for dinner following the talk. This requires a separate booking and information will be sent with your confirmation email. \n  \nMembers of The Athenaeum can book now through the Members’ Area or through reception. Non-Members are asked to book via https://www.eventbrite.co.uk/e/in-conversation-with-professor-lucy-easthope-uks-leading-disaster-planner-tickets-367623500787  \n\n\nThis event is organised by The Exchange – public conversations about the important issues of our age. We encourage debate and the sharing of opinions and experiences in a welcoming and respectful environment. It is our belief that through the ongoing exchange of ideas we can achieve a greater knowledge and understanding\, and that this benefits both the individual and society as a whole.
URL:https://theathenaeum.org.uk/event/in-conversation-with-professor-lucy-easthope-uks-leading-disaster-planner/
LOCATION:The Athenaeum Liverpool\, Church Alley\, Liverpool\, L1 3DD\, United Kingdom
CATEGORIES:Members & Guests,Public Event
END:VEVENT
BEGIN:VEVENT
DTSTART;TZID=Europe/London:20220721T140000
DTEND;TZID=Europe/London:20220721T160000
DTSTAMP:20260421T160015
CREATED:20220623T161139Z
LAST-MODIFIED:20220623T162722Z
UID:10001185-1658412000-1658419200@theathenaeum.org.uk
SUMMARY:Visit Your Library
DESCRIPTION:Visiting Your Library – Guided Visits \nOver the last few months\, the Library has trialled a series of well-received guided visits of the Library\, including a special session in the Committee Room where Librarian Joan Hanford wowed Members with of the special items held within the collection. These guided visits may become a regular feature in the calendar\, and we’re pleased to announce two further visits available for members to book on. \n  \nThursday 21 July at 2:00pm \n& \nTuesday 9th July at 2:00pm \nThere is very limited availability for both of these visits and tickets will be available on a first come first serve basis. You can book your place now via the Members’ Area or through reception. \n  \nKind regards\, \n  \nThe Library
URL:https://theathenaeum.org.uk/event/visit-your-library/
LOCATION:The Athenaeum Liverpool\, Church Alley\, Liverpool\, L1 3DD\, United Kingdom
CATEGORIES:Members & Guests
END:VEVENT
BEGIN:VEVENT
DTSTART;TZID=Europe/London:20220722T183000
DTEND;TZID=Europe/London:20220722T230000
DTSTAMP:20260421T160015
CREATED:20220520T144805Z
LAST-MODIFIED:20220715T130720Z
UID:10000995-1658514600-1658530800@theathenaeum.org.uk
SUMMARY:Friday Evening Dining - A Taste Of Tex-Mex
DESCRIPTION:The Club is open for Dinner on Friday Evenings with service between 6:30pm and 8:00pm. This edition is the next part of Chef Russell’s ‘Taste of…’ series\, andthis month we’ll be swept across the pond and south of the Rio Grande to enjoy some fine Tex-mex Cuisine! \n  \nStarter \nLoaded Nachos\nChilli Cheese Sauce\, Sour Cream\, Guacamole\, Pickled Jalapenos\, Refried Beans \nMains \nDry Aged Beef Short Rib \nLime\, Cumin Cilantro\, Red Onion Marinade \nThree Bean Chilli Con Carne \nBeef Off Cuts\, Peppers\, BBQ Sauce \nSpiced Vegetable Tacos \nRoasted Tex Mex Flavours Of Peppers Onion\, Spring Onion \nSouthern Fried Chicken \nTexas White Gravy \nTex Mex Rice Bowl \nJalapeno\, Tomatoes\, Lime \nTexas Style Borracho Beans \nBacon\, Peppers\, Mexican Beer \nTexas Cowboy Caviar \nPinto Beans\, Sweetcorn\, Avocado \nChipotle Roast Chicken Wings \nCoriander\, Blue Cheese Dip. \nDesert \nChurros \n  \nEnd the week the right way with a delectable meal from our chefs in the surroundings of your Club. \nYou can book a table for this Friday Evening Dining through the Members’ Area or through reception – 0151 709 7770 / reception@theathenaeum.org.uk. \n 
URL:https://theathenaeum.org.uk/event/friday-evening-dining-a-taste-of/
LOCATION:The Athenaeum Liverpool\, Church Alley\, Liverpool\, L1 3DD\, United Kingdom
CATEGORIES:Members & Guests
END:VEVENT
BEGIN:VEVENT
DTSTART;TZID=Europe/London:20220726T190000
DTEND;TZID=Europe/London:20220726T230000
DTSTAMP:20260421T160015
CREATED:20220623T165030Z
LAST-MODIFIED:20220715T144957Z
UID:10001188-1658862000-1658876400@theathenaeum.org.uk
SUMMARY:Wine Tasting Evening - 2 of 2
DESCRIPTION:Join us on Tuesday 26th July 2022 for the second of two wine tasting evenings to showcase wines from the Club’s new wine list. \nRoger Barlow of our Wine Merchants\, Gerrard Seel\, will host a swift tasting at 7:00pm in the Newsroom giving an overview of the three wines which will accompany each course with Dinner which will be served in the Dining Room at 7:30pm. \nThe wines being showcased this evening are:- \nMacon Peronne – Domaine du Bicheron\, France – 14% – Served with starter\nRioja Crianza – Vina del Oja\, Spain (14.5%) – Served with Main\nCôtes de Gascogne Rosé – Domaine Horgelus\, France  (11.5%) – Served with Dessert \n  \nStarters: \nSalt Cod and Ventreche Ham Croquette\, Butter Poached Mussels \nGoats Cheese Panna Cotta\, Pickled Beets\, Hazelnut Crumb (v) \nMain Course: \nPimento Slow Roasted Old Spot Pork Ribs\, Lomo Chorizo and Morcilla\, Green Beans with Pine Nuts and Lemon Thyme\, Bravas Potatoes \nPeppered Aubergine steak\, Cavolo Nero\, Feta Brandard\, Roasted Red Chilli\, Black Garlic Purée (v) \nDessert:  \nSummer Fruits \n  \n  \nThe first of these two tastings showcasing wines from the wine list took place Wednesday 6th July 2022**. \n  \n*Original scheduled for 21st June though postponed due to rail strike.
URL:https://theathenaeum.org.uk/event/wine-tasting-evening-2-of-2-2/
LOCATION:The Athenaeum Liverpool\, Church Alley\, Liverpool\, L1 3DD\, United Kingdom
CATEGORIES:Members & Guests
END:VEVENT
BEGIN:VEVENT
DTSTART;TZID=Europe/London:20220729T183000
DTEND;TZID=Europe/London:20220729T193000
DTSTAMP:20260421T160015
CREATED:20220623T153928Z
LAST-MODIFIED:20220623T153928Z
UID:10001186-1659119400-1659123000@theathenaeum.org.uk
SUMMARY:New Member Signing Reception
DESCRIPTION:On the last Friday of the Month newly joining Proprietors are invited to attend a special reception in the Library at 6:30pm to sign their share in the historic 1809 share register. \nAll members and guests are welcome to attend these receptions and are encouraged to pre-book for Friday Evening Dining after the reception. \nIf you have not yet signed the register and would like to attend one of these signing receptions please contact reception. \n  \n6:30pm-7:00pm Arrivals\, Drinks & Canapes \n7:00pm- Signing of The Register \n7:30pm – Guests Ascend to The Dining Room \n 
URL:https://theathenaeum.org.uk/event/new-member-signing-reception/
LOCATION:The Athenaeum Liverpool\, Church Alley\, Liverpool\, L1 3DD\, United Kingdom
CATEGORIES:Members & Guests
END:VEVENT
BEGIN:VEVENT
DTSTART;TZID=Europe/London:20220729T183000
DTEND;TZID=Europe/London:20220729T230000
DTSTAMP:20260421T160015
CREATED:20220520T144904Z
LAST-MODIFIED:20220623T153443Z
UID:10000996-1659119400-1659135600@theathenaeum.org.uk
SUMMARY:Friday Evening Dining
DESCRIPTION:The Club is open for Dinner on Friday Evenings with service between 6:30pm and 8:00pm. End the week the right way with a delectable meal from our chefs in the surroundings of your Club. \nYou can book a table for Friday Evening Dining through reception – 0151 709 7770 / reception@theathenaeum.org.uk. \nOn the last Friday of the Month newly joining Proprietors are invited to attend a special reception in the Library at 6:30pm to sign their share in the historic 1809 share register. All members are welcome to attend these receptions and are encouraged to stay for dinner. If you have not yet signed the register and would like to attend one of these signing receptions please contact reception. \n 
URL:https://theathenaeum.org.uk/event/friday-evening-dining-8/
LOCATION:The Athenaeum Liverpool\, Church Alley\, Liverpool\, L1 3DD\, United Kingdom
CATEGORIES:Members & Guests
END:VEVENT
BEGIN:VEVENT
DTSTART;TZID=Europe/London:20220730T103000
DTEND;TZID=Europe/London:20220730T133000
DTSTAMP:20260421T160015
CREATED:20220616T112950Z
LAST-MODIFIED:20220616T112950Z
UID:10001177-1659177000-1659187800@theathenaeum.org.uk
SUMMARY:Liverpool American History Walking Tour
DESCRIPTION:The Athenaeum\, a historic and emblematic city centre venue\, and ArtsGroupie CIC\, a prominent Liverpool arts organisation\, have teamed up to provide monthly walking tours and events starting Summer 2022. \n  \nJoin us at the Liverpool Pier Head\, outside the Cunard Building (the River Mersey side)\, 10.30am 30th July\, as we explore Liverpool’s historic links to America. \nFrom the city’s darkest history\, like its abominable role in the transatlantic slave trade\, to its illustrious music & culture exports; Liverpool’s connections to the United States run deep. \nThe two-hour tour ends with a three-course lunch at the Athenaeum. \n 
URL:https://theathenaeum.org.uk/event/liverpool-american-history-walking-tour/
LOCATION:The Athenaeum Liverpool\, Church Alley\, Liverpool\, L1 3DD\, United Kingdom
CATEGORIES:Members & Guests
END:VEVENT
END:VCALENDAR