BEGIN:VCALENDAR
VERSION:2.0
PRODID:-//The Athenaeum Liverpool - ECPv6.7.1//NONSGML v1.0//EN
CALSCALE:GREGORIAN
METHOD:PUBLISH
X-WR-CALNAME:The Athenaeum Liverpool
X-ORIGINAL-URL:https://theathenaeum.org.uk
X-WR-CALDESC:Events for The Athenaeum Liverpool
REFRESH-INTERVAL;VALUE=DURATION:PT1H
X-Robots-Tag:noindex
X-PUBLISHED-TTL:PT1H
BEGIN:VTIMEZONE
TZID:Europe/London
BEGIN:DAYLIGHT
TZOFFSETFROM:+0000
TZOFFSETTO:+0100
TZNAME:BST
DTSTART:20240331T010000
END:DAYLIGHT
BEGIN:STANDARD
TZOFFSETFROM:+0100
TZOFFSETTO:+0000
TZNAME:GMT
DTSTART:20241027T010000
END:STANDARD
END:VTIMEZONE
BEGIN:VEVENT
DTSTART;TZID=Europe/London:20240507T140000
DTEND;TZID=Europe/London:20240507T170000
DTSTAMP:20260421T113433
CREATED:20240405T095927Z
LAST-MODIFIED:20240405T095927Z
UID:10001365-1715090400-1715101200@theathenaeum.org.uk
SUMMARY:Literature Group: Jane Austen & Everton
DESCRIPTION:Dr Janet Hollinshead will talk about Jane Austen and her unexpected connection to Everton. \nThe novel Godmersham Park\, by Gill Hornby\, appeared in 2022. It is the story of Anne Sharp – the governess to Jane Austen’s niece who lived in Kent. It is surprising where the author’s notes can take a local historian – to the Athenaeum library and even to Everton. \nAttendance of this talk is free of charge to Athenaeum Members.
URL:https://theathenaeum.org.uk/event/literature-group-jane-austen-everton/
LOCATION:The Athenaeum Liverpool\, Church Alley\, Liverpool\, L1 3DD\, United Kingdom
END:VEVENT
BEGIN:VEVENT
DTSTART;TZID=Europe/London:20240510T183000
DTEND;TZID=Europe/London:20240510T233000
DTSTAMP:20260421T113433
CREATED:20240315T150152Z
LAST-MODIFIED:20240417T083302Z
UID:10001364-1715365800-1715383800@theathenaeum.org.uk
SUMMARY:The Sir David Maddison Opera Prize 2024
DESCRIPTION:In association with the Royal Northern College of Music\, we present the 2024 edition of the Sir David Maddison Opera Prize\, where the brightest sopranos and contraltos of tomorrow compete to become The Athenaeum’s Artiste-en-Residence. \nAttendees will enjoy operatic performances of the highest level before being guided to the Dining Room for a luxurious 2-course supper. After the winner is announced\, the Newsroom bar will be open for the remainder of the night. \nBook quickly to avoid missing out on one of the most opulent nights of the year. \nTickets: £50
URL:https://theathenaeum.org.uk/event/the-sir-david-maddison-opera-prize-2024/
LOCATION:The Athenaeum Liverpool\, Church Alley\, Liverpool\, L1 3DD\, United Kingdom
END:VEVENT
BEGIN:VEVENT
DTSTART;TZID=Europe/London:20240515T113000
DTEND;TZID=Europe/London:20240515T123000
DTSTAMP:20260421T113433
CREATED:20240426T110211Z
LAST-MODIFIED:20240426T110211Z
UID:10001378-1715772600-1715776200@theathenaeum.org.uk
SUMMARY:History of Arts Group
DESCRIPTION:The History of Arts group is back with a bang\, returning to regular meetings after a long hiatus. This meeting will be in the Library Reading Room\, Jutta Hesketh will talk about this interesting artist whose paintings can also be appreciated as historical documents of his own country. \nAttendance of this talk is free of charge.
URL:https://theathenaeum.org.uk/event/history-of-arts-group/
LOCATION:The Athenaeum Liverpool\, Church Alley\, Liverpool\, L1 3DD\, United Kingdom
END:VEVENT
BEGIN:VEVENT
DTSTART;TZID=Europe/London:20240521T173000
DTEND;TZID=Europe/London:20240521T193000
DTSTAMP:20260421T113433
CREATED:20240510T082447Z
LAST-MODIFIED:20240510T082752Z
UID:10001384-1716312600-1716319800@theathenaeum.org.uk
SUMMARY:History Group
DESCRIPTION:Join us for another meeting of the History Group. \nAttendance of this talk is free of charge.
URL:https://theathenaeum.org.uk/event/history-group-9/
LOCATION:The Athenaeum Liverpool\, Church Alley\, Liverpool\, L1 3DD\, United Kingdom
END:VEVENT
BEGIN:VEVENT
DTSTART;TZID=Europe/London:20240524T183000
DTEND;TZID=Europe/London:20240524T220000
DTSTAMP:20260421T113433
CREATED:20240502T090331Z
LAST-MODIFIED:20240510T095333Z
UID:10001380-1716575400-1716588000@theathenaeum.org.uk
SUMMARY:Athena Dining Evening
DESCRIPTION:Set to be one of the most glamorous nights of the year\, the Athena Dining Evening is all about elegant service\, and luxury cuisine in the magnificent surroundings of the Committee Room. \nAttendees will enjoy a reception drink in the Library Reading Room before taking their seats in the Committee Room for a 4-course dinner\, complete with tea & coffee (find full menu details below). The Newsroom bar will then be open for the remainder of the evening. \nBook now through the Member’s Area or directly with the Concierge. \nTickets: £100 \n\nStarter\nSeared Scottish Scallop\nCauliflower Parfait\, Keta Caviar \n-ooOoo- \nIntermediate\nVadouvan Spiced Sweetcorn Volute \nPickled Red Onion\, Succotash \nMain Course\nFillet Rossini\nDuck Parfait\, Spinach\, Truffled Wild Mushroom\nCeleriac Puree \n-ooOoo- \nDessert\nPassion Fruit Pannacotta\nMango Salsa \n-ooOoo- \nTea or Coffee \n  \nEvent Schedule \nWelcome Drinks & Canapés – 6:30pm in the Library Reading Room \nGuests guided to Committee Room – 7pm \nDinner Served – 7:05pm \nNewsroom Open after dinner – 10pm to 11pm
URL:https://theathenaeum.org.uk/event/athena-dining-evening/
LOCATION:The Athenaeum Liverpool\, Church Alley\, Liverpool\, L1 3DD\, United Kingdom
END:VEVENT
BEGIN:VEVENT
DTSTART;TZID=Europe/London:20240530T183000
DTEND;TZID=Europe/London:20240530T230000
DTSTAMP:20260421T113433
CREATED:20240220T162305Z
LAST-MODIFIED:20240516T150228Z
UID:10001362-1717093800-1717110000@theathenaeum.org.uk
SUMMARY:Dinner with Spencer Leigh
DESCRIPTION:On Thursday 30th May we welcome local author and journalist Spencer Leigh to the Athenaeum. \nIn his younger days Spencer was an actuary for Royal Life and wrote about music in his spare time. He has written 25 books and hundreds of sleeve notes.  He is proud to have reached No. 1 with the soundtrack album for Heartbeat\, although (he says) of course nobody bought it for his sleeve note. His latest book is on Little Richard. \nSpencer is one of the world‘s leading experts on Merseybeat and the Beatles and has a fund of stories about the time when Liverpool was the centre of the pop music universe\, as well as about musical legends from both Britain and America. In his talk\, entitled In My Anecdotage\, Spencer will tell us about some of the personalities he has interviewed over the years. \nFollowing the talk we will enjoy a three course dinner in the Dining Room\, after which we can relax in the Newsroom until closing time. \nDo not miss the chance to get a unique insight into the world of pop and rock from someone who was there. \nBook your place now via the Members’ Area or through the Concierge. \nTickets: £35 \n  \nMenu \nStarter \nClassic Prawn Cocktail \nMarie Rose Sauce \n-ooOoo- \nBreaded Brie (V) \nOnion Compote \nMain Course \nCoq au Vin \nFrench Beans\, Sauté Potato \n-ooOoo- \nWild Mushroom Crepe Gratin (V) \nTruffled Spinach \nSauté Potato \nDessert \nBlack Forest Cheese Cake \n  \nEvent Schedule \n6:30pm – Arrivals and welcome \n7:00pm – In My Anecdotage: a talk by Spencer Leigh followed by Q & A. \n8:00pm – Dinner \n10:30pm – Last orders
URL:https://theathenaeum.org.uk/event/dinner-with-spencer-leigh-2/
LOCATION:The Athenaeum Liverpool\, Church Alley\, Liverpool\, L1 3DD\, United Kingdom
CATEGORIES:Members & Guests
END:VEVENT
BEGIN:VEVENT
DTSTART;TZID=Europe/London:20240531T180000
DTEND;TZID=Europe/London:20240531T220000
DTSTAMP:20260421T113433
CREATED:20240510T084707Z
LAST-MODIFIED:20240510T084707Z
UID:10001386-1717178400-1717192800@theathenaeum.org.uk
SUMMARY:New Members Welcome Evening & Buffet
DESCRIPTION:It’s once again time to welcome our newest Proprietors in this New Members event\, complete with share register signing ceremony\, reception drinks & a delicious buffet for those who book. \nA great way to meet more of your fellow members\, guests will be gathering from 6:00pm in the Newsroom with a glass of fizz & nibbles on us! \nTickets: £15 \n 
URL:https://theathenaeum.org.uk/event/new-members-welcome-evening-buffet-2/
LOCATION:The Athenaeum Liverpool\, Church Alley\, Liverpool\, L1 3DD\, United Kingdom
END:VEVENT
END:VCALENDAR