BEGIN:VCALENDAR
VERSION:2.0
PRODID:-//The Athenaeum Liverpool - ECPv6.7.1//NONSGML v1.0//EN
CALSCALE:GREGORIAN
METHOD:PUBLISH
X-ORIGINAL-URL:https://theathenaeum.org.uk
X-WR-CALDESC:Events for The Athenaeum Liverpool
REFRESH-INTERVAL;VALUE=DURATION:PT1H
X-Robots-Tag:noindex
X-PUBLISHED-TTL:PT1H
BEGIN:VTIMEZONE
TZID:Europe/London
BEGIN:DAYLIGHT
TZOFFSETFROM:+0000
TZOFFSETTO:+0100
TZNAME:BST
DTSTART:20220327T010000
END:DAYLIGHT
BEGIN:STANDARD
TZOFFSETFROM:+0100
TZOFFSETTO:+0000
TZNAME:GMT
DTSTART:20221030T010000
END:STANDARD
END:VTIMEZONE
BEGIN:VEVENT
DTSTART;TZID=Europe/London:20220216T183000
DTEND;TZID=Europe/London:20220216T220000
DTSTAMP:20260423T121815
CREATED:20220210T103110Z
LAST-MODIFIED:20220606T093718Z
UID:10001166-1645036200-1645048800@theathenaeum.org.uk
SUMMARY:Dinner with Laurence Westgaph
DESCRIPTION:On Wednesday 16th February\, Proprietor and local historian Laurence Westgaph will be giving an important talk entitled The Athenaeum and the Transatlantic Trade in Enslaved Africans.  \nJoin our President for a reception drink in the Newsroom from 6:30pm ahead of a 7:00pm talk in the Library followed by question before dinner upstairs. Tickets are available for £28.00 per person and are bookable via the Members’ Area or through reception. \nLaurence is well known in the city and further afield for his extensive research and expert knowledge on this subject and we look forward to another informative though convivial evening at the Club. \n  \nThis event is open to non-members by invitation\, to book please contact reception on 0151 709 7770. \nStarter \nTartlet of Crottin Du Chevre (V) \nPear William puree\, confit beets\, candied walnuts  \n  \nMain course \nBeef Daube Bordelaise \nRoast Shallots\, chestnut mushrooms\, Morcilla pont neuf \nServed with green beans\, Hasselback potatoes \n-oo0oo- \nCourgette Frittata (V) \nCassoulet of Borlotti beans\, basil crème fraiche \n  \nDessert \nMandarin and Toffee Trifle
URL:https://theathenaeum.org.uk/event/dinner-with-laurence-westgaph/
LOCATION:The Athenaeum Liverpool\, Church Alley\, Liverpool\, L1 3DD\, United Kingdom
CATEGORIES:Members & Guests,Public Event
END:VEVENT
END:VCALENDAR