BEGIN:VCALENDAR
VERSION:2.0
PRODID:-//The Athenaeum Liverpool - ECPv6.7.1//NONSGML v1.0//EN
CALSCALE:GREGORIAN
METHOD:PUBLISH
X-ORIGINAL-URL:https://theathenaeum.org.uk
X-WR-CALDESC:Events for The Athenaeum Liverpool
REFRESH-INTERVAL;VALUE=DURATION:PT1H
X-Robots-Tag:noindex
X-PUBLISHED-TTL:PT1H
BEGIN:VTIMEZONE
TZID:Europe/London
BEGIN:DAYLIGHT
TZOFFSETFROM:+0000
TZOFFSETTO:+0100
TZNAME:BST
DTSTART:20220327T010000
END:DAYLIGHT
BEGIN:STANDARD
TZOFFSETFROM:+0100
TZOFFSETTO:+0000
TZNAME:GMT
DTSTART:20221030T010000
END:STANDARD
END:VTIMEZONE
BEGIN:VEVENT
DTSTART;TZID=Europe/London:20220630T170000
DTEND;TZID=Europe/London:20220630T200000
DTSTAMP:20260421T174739
CREATED:20220616T112420Z
LAST-MODIFIED:20220616T112420Z
UID:10001176-1656608400-1656619200@theathenaeum.org.uk
SUMMARY:William Roscoe Esquire Walking Tour
DESCRIPTION:The Atheneum\, a historic and emblematic city centre venue\, and ArtsGroupie CIC\, a prominent Liverpool arts organisation\, have teamed up to provide monthly walking tours and events starting Summer 2022. \nThis partnership is in lead up to founding an annual William Roscoe Day starting in 2023. \n  \nFriday 30th June\, 6pm – William Roscoe Esquire Walking Tour \n June 30th 2022 at 6pm\, ArtsGroupie\, and The Atheneum will celebrate the life of Liverpudlian icon and Athenaeum co-founder\, William Roscoe\, with a heritage walking tour around the city centre on the anniversary of his death. \nRoscoe\, one of England’s first abolitionists\, was a celebrated writer\, historian\, botanist\, lawyer\, art collector\, and a cultural pioneer of Liverpool. \nThe two-hour tour begins at The Athenaeum\, and ends at the Nelson Monument\, Exchange Flags. \nJoin us in the Newsroom for supper (hearty Lasagne and garlic bread) from 5:00pm ahead of the tour commencing at 6:00pm at The Athenaeum’s gates. The tour is expected to last 2 hours. \n  \nFriends of Roscoe Gardens \nWould you like to help make Roscoe Gardens (Mount Pleasant\, Liverpool L3 5UZ) a little green oasis? \nAre you passionate about Heritage? Community Gardens? \nWe are forming a Friends of Roscoe Gardens and need your help to restore and revive this small park. \nCome along to discuss how you can help\, \nbecome a Friend of Roscoe Gardens. \n  \nThursday 30th June 2022 – at the gardens \n2-3pm \nfriendsofroscoegardens@gmail.com
URL:https://theathenaeum.org.uk/event/william-roscoe-esquire-walking-tour/
LOCATION:The Athenaeum Liverpool\, Church Alley\, Liverpool\, L1 3DD\, United Kingdom
CATEGORIES:Members & Guests
END:VEVENT
END:VCALENDAR