BEGIN:VCALENDAR
VERSION:2.0
PRODID:-//The Athenaeum Liverpool - ECPv6.7.1//NONSGML v1.0//EN
CALSCALE:GREGORIAN
METHOD:PUBLISH
X-ORIGINAL-URL:https://theathenaeum.org.uk
X-WR-CALDESC:Events for The Athenaeum Liverpool
REFRESH-INTERVAL;VALUE=DURATION:PT1H
X-Robots-Tag:noindex
X-PUBLISHED-TTL:PT1H
BEGIN:VTIMEZONE
TZID:Europe/London
BEGIN:DAYLIGHT
TZOFFSETFROM:+0000
TZOFFSETTO:+0100
TZNAME:BST
DTSTART:20220327T010000
END:DAYLIGHT
BEGIN:STANDARD
TZOFFSETFROM:+0100
TZOFFSETTO:+0000
TZNAME:GMT
DTSTART:20221030T010000
END:STANDARD
END:VTIMEZONE
BEGIN:VEVENT
DTSTART;TZID=Europe/London:20220927T120000
DTEND;TZID=Europe/London:20220927T153000
DTSTAMP:20260421T141834
CREATED:20220830T144846Z
LAST-MODIFIED:20220926T195952Z
UID:10001195-1664280000-1664292600@theathenaeum.org.uk
SUMMARY:Remembering Frank Doran MBE
DESCRIPTION:We remember Proprietor and former Lord Mayor of the city Frank Doran MBE\, at a memorial lunch to celebrate his life and contribution to the Liverpool City Region. \nJoin us on Tuesday 27th September from 12:00pm in the Newsroom for a reception drink ahead of the call for lunch at 12:30pm. \nIncluded within the ticket include reception drink\, two glasses of wine\, a three course lunch and a £10.00 donation to the Beacon Counselling Trust\, a charity dear to Frank’s heart. During the occasion we will also be running a raffle in aid of the Beacon Counselling Trust\, and we hope to raise as much as possible in Frank’s name for this important cause. \nBook your place now through the Members’ Area or with the Concierge – 0151 709 7770/concierge@theathenaeum.org.uk. \nThe menu for the event can be found below\, please advise of any dietary requirements upon booking. \nStarter\nSmoked Haddock Fishcake\nPea Puree\, mustard butter emulsion \nMain course\nRoast Pork Loin\nKauffman cabbage\, baked apple\, cider and sage cream sauce\, roast new potatoes \nBaked Broccoli and stilton crepe(v)\nButtered Spinach\, roast new potatoes \nDessert\nChocolate Torte\nCherry compote\, white chocolate sauce
URL:https://theathenaeum.org.uk/event/remembering-frank-doran-mbe/
LOCATION:The Athenaeum Liverpool\, Church Alley\, Liverpool\, L1 3DD\, United Kingdom
CATEGORIES:Members & Guests
END:VEVENT
BEGIN:VEVENT
DTSTART;TZID=Europe/London:20220927T190000
DTEND;TZID=Europe/London:20220927T210000
DTSTAMP:20260421T141834
CREATED:20220926T201149Z
LAST-MODIFIED:20220926T202656Z
UID:10001039-1664305200-1664312400@theathenaeum.org.uk
SUMMARY:Moneytools Presents
DESCRIPTION:
URL:https://theathenaeum.org.uk/event/moneytools-presents/
LOCATION:The Athenaeum Liverpool\, Church Alley\, Liverpool\, L1 3DD\, United Kingdom
CATEGORIES:Members & Guests
END:VEVENT
BEGIN:VEVENT
DTSTART;TZID=Europe/London:20220928T170000
DTEND;TZID=Europe/London:20220928T230000
DTSTAMP:20260421T141834
CREATED:20220830T145049Z
LAST-MODIFIED:20220830T145049Z
UID:10001196-1664384400-1664406000@theathenaeum.org.uk
SUMMARY:Designing for Intentional Inclusion
DESCRIPTION:We invite you to join us this September as Ai Change Management hosts a special event to share their latest research findings and experience of putting these into practice with their clients.
URL:https://theathenaeum.org.uk/event/designing-for-intentional-inclusion/
LOCATION:The Athenaeum Liverpool\, Church Alley\, Liverpool\, L1 3DD\, United Kingdom
END:VEVENT
BEGIN:VEVENT
DTSTART;TZID=Europe/London:20220930T100000
DTEND;TZID=Europe/London:20220930T180000
DTSTAMP:20260421T141834
CREATED:20220929T115856Z
LAST-MODIFIED:20220929T130554Z
UID:10001040-1664532000-1664560800@theathenaeum.org.uk
SUMMARY:Saturday Openings Start This Week!
DESCRIPTION:Saturday Opening’s Start This Week \nWith Fizz All Round – 2 Days To go!!! \nRelaxing the dress code on Saturday’s \nThis Saturday\, 1st October\, the Club enters into the ‘new normal’\, opening every Saturday between 10:00am and 6:00pm with food and beverage available in the Newsroom throughout (last orders for food\, 5:30pm). \nAs announced earlier this week we’ll be marking this exciting occasion with a complimentary glass of fizz for everyone. \nOn Saturdays the dress code will be relaxed and smart jeans (non-ripped) are permitted. If you find yourself in town on a Saturday whilst shopping or whatever else pop on in and have a drink or bite to eat. \nIf that wasn’t all there is a few more things taking place on Saturday.. \nThe New Newsroom Menu Launches  \nWe can’t wait to unveil the next Newsroom Menu this Saturday\, bringing back favourites such as buck rarebit and fish and chips\, whilst introducing what we hope will become new favourites like beef bourguignon\, sticky toffee pudding\, and a delectable range of bruschetta. \nJoin us for Afternoon Tea – Why Not? \nWhy not book yourself an Afternoon Tea and treat yourself? Book now via the Concierge or through the Members’ Area\, any time between 12:00pm and 3:00pm for just £25.00 per person\, including a second glass of fizz! \nThe first Saturday grand draw!  \nDuring the afternoon every Proprietor will be entered into a complimentary draw to win £50.00. If a share number is drawn AND the owner of that share is in the Club they will win the prize which will be credited to their monthly account for use on Food & Beverage. If a member’s number is drawn and they are not in the Club\, the winnings roll over to the following week! \nThere’s even a concert in the Evening! \nTypically the Club will close at 6pm on a Saturday\, but not if there’s an event for you to attend. Join us in the Newsroom from 7:00pm for (another) glass a fizz ahead of a concert in memory of Past President HH John Morgan.\nThe Bentley Operatic Society will be performing selections from the works of Gilbert and Sullivan and popular operettas. Tickets for the concert are available from the Concierge or through the Members’ Area for just £10.00!
URL:https://theathenaeum.org.uk/event/saturday-openings-start-this-week/
LOCATION:The Athenaeum Liverpool\, Church Alley\, Liverpool\, L1 3DD\, United Kingdom
END:VEVENT
BEGIN:VEVENT
DTSTART;TZID=Europe/London:20220930T183000
DTEND;TZID=Europe/London:20220930T230000
DTSTAMP:20260421T141834
CREATED:20220830T145205Z
LAST-MODIFIED:20220830T145233Z
UID:10001197-1664562600-1664578800@theathenaeum.org.uk
SUMMARY:New Member Welcome Dinner
DESCRIPTION:Join us and your fellow members for complimentary fizz and nibbles and welcome our latest Proprietors as they sign the Share Register before dinner in the Dining Room.
URL:https://theathenaeum.org.uk/event/new-member-welcome-dinner/
LOCATION:The Athenaeum Liverpool\, Church Alley\, Liverpool\, L1 3DD\, United Kingdom
END:VEVENT
BEGIN:VEVENT
DTSTART;TZID=Europe/London:20221001T120000
DTEND;TZID=Europe/London:20221001T143000
DTSTAMP:20260421T141834
CREATED:20220830T145544Z
LAST-MODIFIED:20220830T145544Z
UID:10001198-1664625600-1664634600@theathenaeum.org.uk
SUMMARY:Athenaeum Afternoon Tea
DESCRIPTION:Book a scrumptious Afternoon Tea and enjoy it in the palatial surroundings of the Newsroom.
URL:https://theathenaeum.org.uk/event/athenaeum-afternoon-tea/
LOCATION:The Athenaeum Liverpool\, Church Alley\, Liverpool\, L1 3DD\, United Kingdom
END:VEVENT
BEGIN:VEVENT
DTSTART;TZID=Europe/London:20221001T193000
DTEND;TZID=Europe/London:20221001T220000
DTSTAMP:20260421T141834
CREATED:20220830T145724Z
LAST-MODIFIED:20220929T120541Z
UID:10001199-1664652600-1664661600@theathenaeum.org.uk
SUMMARY:HH John Morgan Memorial Concert\, with the Bentley Operatic Society
DESCRIPTION:Join us in the Newsroom from 7:00pm on Saturday 1st October for glass a fizz ahead of a concert in memory of Past President HH John Morgan.\nThe Bentley Operatic Society will be performing selections from the works of Gilbert and Sullivan and popular operettas. Tickets for the concert are available from the Concierge or through the Members’ Area for just £10.00! \nJohn was President of the Athenaeum in 2009 and was a great supporter and friend of the Institution for many years\, we hope that his friends and fellow members will join us for this special occasion to celebrate his life with one of his passions – opera. \nWe are grateful to John’s life long friend and fellow Athenaeum member\, Richard McCullagh\, for providing the below obituary. \nJohn was born in September 1934 (in the same month as Sophia Loren and Brigitte Bardot!). \nHe went to St Edward’s College in Liverpool and\, on leaving school\, to Liverpool University where he read Law\, following which he became articled to the Town Clerk of Bootle. \nHe subsequently undertook his National Service in the RAF\, where he spent 6 months learning Mandarin Chinese\, before being posted to Hong Kong to eavesdrop on Chinese MIG pilots’ communications. \nOn completion of National Service he took up a position as an Assistant Solicitor with Liverpool Corporation\, as it then was\, and achieved renown in the 1963 freeze-up\, when all football was cancelled\, by being party to the application by the Pools companies to establish the Pools Panel. He helped ensure that the Panel was set up in a manner which would not contravene gambling legislation. \nHe then joined J Frodsham and Sons\, solicitors\, in Prescot as a partner. \nHe was called to the Bar in his late 30s\, serving pupillage with his great friend\, Bert Andrew. John developed a wide practice and was much respected. In the early 80s\, he was appointed a Deputy Stipendiary Magistrate in which capacity\, in 1984\, he was sent to South Yorkshire to hear cases arising from the Miners’ Strike. He described himself at the time as\, ‘a flying ‘stipe’ for flying pickets!’. \nIn due course he was appointed to the Circuit Bench as a Circuit Judge\, gaining a reputation as a safe pair of hands and becoming an expert on civil jury trials. \nAs a sportsman\, John joined Liverpool Rugby Club in the 50s and played eleven games for the First Team as a scrum-half. He then turned his talents to refereeing with the Liverpool Society\, rising to being placed on the First-Class Panel. He became President of Liverpool Football Club Rugby Union in its 12th year in 1980 and thereafter\, with his great pal Ron Roby\, took to broadcasting on local games for Radio Merseyside. As a cricketer he played for Sefton as a wicket-keeper\, mostly in the Second Team and later became President of Sefton Park CC where\, while President\, he established an annual golf competition which became known as ‘The John Morgan Classic’. As a golfer John was a member of Woolton Golf Club as well as the Bar and Judges’ Clubs. \nAway from the Law and sport John had a great love of music and literature. He joined the Bentley Operatic Society. Starting in the society’s chorus he graduated to principal roles\, most notably as the judge in\, ‘Trial by Jury’\, when he was\, in effect\, simply playing himself! He eventually became a long-serving President of ‘the Bentley’ coping\, with aplomb\, with its various artistic and operational foibles. \nFollowing the closure of the Lyceum Club John became a member of The Athenaeum and\, in 2009\, became its President. He was an assiduous President and his year in office was notable for the number of functions held. \nOne included a comedy sketch performance by John\, together with two other former judges\, Richard McCullagh and Elizabeth Christie\, in which he lampooned the institution’s then stultifying dress-code which led directly to its early\, and welcomed\, relaxation. More recently he was Chairman of the institution’s Literature Group\, giving occasional talks on his great love of ‘Scandi-crime’. \nJohn was a Governor of St Edward’s College and served for many years as Chairman of its Governing body. \nUtilising his advocacy skills\, John became a most accomplished after-dinner speaker and was much in demand. He had a style which was light\, amusing and greatly enjoyed by audiences of all types who would have been unaware that the smooth\, relaxed delivery was the result of meticulous preparation. \nIn 1970 John married Rosalie and they have two sons\, Matthew and Benedict.
URL:https://theathenaeum.org.uk/event/hhh-john-morgan-memorial-concert-with-the-bentley-operatic-society/
LOCATION:The Athenaeum Liverpool\, Church Alley\, Liverpool\, L1 3DD\, United Kingdom
END:VEVENT
END:VCALENDAR