BEGIN:VCALENDAR
VERSION:2.0
PRODID:-//The Athenaeum Liverpool - ECPv6.7.1//NONSGML v1.0//EN
CALSCALE:GREGORIAN
METHOD:PUBLISH
X-ORIGINAL-URL:https://theathenaeum.org.uk
X-WR-CALDESC:Events for The Athenaeum Liverpool
REFRESH-INTERVAL;VALUE=DURATION:PT1H
X-Robots-Tag:noindex
X-PUBLISHED-TTL:PT1H
BEGIN:VTIMEZONE
TZID:Europe/London
BEGIN:DAYLIGHT
TZOFFSETFROM:+0000
TZOFFSETTO:+0100
TZNAME:BST
DTSTART:20220327T010000
END:DAYLIGHT
BEGIN:STANDARD
TZOFFSETFROM:+0100
TZOFFSETTO:+0000
TZNAME:GMT
DTSTART:20221030T010000
END:STANDARD
END:VTIMEZONE
BEGIN:VEVENT
DTSTART;TZID=Europe/London:20221004T110000
DTEND;TZID=Europe/London:20221004T190000
DTSTAMP:20260421T125237
CREATED:20220830T145952Z
LAST-MODIFIED:20220929T130408Z
UID:10001200-1664881200-1664910000@theathenaeum.org.uk
SUMMARY:Tour of the Athenaeum
DESCRIPTION:How well do you know your club house and the history of the club housed within? We’re blessed with such amazing heritage\, let’s not keep it a secret! \nTours will be taking place at 11:00am (followed by lunch in the Dining Room)\, 1:00pm (followed by afternoon tea in the Newsroom) and 6:00pm (followed by supper in the Newsroom)\, and are available to book for £25.00\, including a donation to the Library. \n 
URL:https://theathenaeum.org.uk/event/tour-of-the-athenaeum/
LOCATION:The Athenaeum Liverpool\, Church Alley\, Liverpool\, L1 3DD\, United Kingdom
END:VEVENT
BEGIN:VEVENT
DTSTART;TZID=Europe/London:20221004T140000
DTEND;TZID=Europe/London:20221004T150000
DTSTAMP:20260421T125237
CREATED:20220901T132646Z
LAST-MODIFIED:20220929T144719Z
UID:10001210-1664892000-1664895600@theathenaeum.org.uk
SUMMARY:Literature Group: What's My Line?
DESCRIPTION:What’s My Line? \nFor the October meeting we are asking members to come armed with a favourite quotation or two. Many thanks for the idea to Mike Shankland\, who explains the concept: \nI love the quote from Act 3 of The Merchant of Venice: \n  \n“Here are a few of the unpleasantest words \nThat ever blotted paper.” \n  \nNevertheless\, we all have lines which chime with our lives\, growing in significance as the years pass. A chat up line I first used at 18 still works for me! \n  \n“Hade we but world enough and time\, \nThis coyness\, lady\, were no crime.” \n  \nAnd when I was a kid Horatio got my attention: \n  \n“Lars Porsena of Clusium\, \nBy the Nine Gods he swore \nThat the great house of Tarquin \nShould suffer wrong no more.” \n  \nI didn’t know a Tarquin from a penguin but I was caught up in the drama\, and we all agree with Jane Austen: ‘The sooner every party breaks off the better’\, and with Saul Bellow: ‘If I am out of my mind it’s all right with me.’ \nNow I won’t quote any more ( and these aren’t necessarily my favourite quotes) but would you like to bring a ‘mighty line’ or two and explain briefly what they mean to you? \nIf you are very brave you could write the quote on a piece of paper and the group could try to guess who chose that example. \nJust a bit of autumnal fun!
URL:https://theathenaeum.org.uk/event/literature-group-whats-my-line/
LOCATION:The Athenaeum Liverpool\, Church Alley\, Liverpool\, L1 3DD\, United Kingdom
CATEGORIES:Members & Guests
END:VEVENT
BEGIN:VEVENT
DTSTART;TZID=Europe/London:20221005T180000
DTEND;TZID=Europe/London:20221005T180000
DTSTAMP:20260421T125237
CREATED:20220830T150248Z
LAST-MODIFIED:20220929T143659Z
UID:10001201-1664992800-1664992800@theathenaeum.org.uk
SUMMARY:Dinner & Discussion
DESCRIPTION:An opportunity to dine with the Chair and President to discuss the Institution and its future. \n 
URL:https://theathenaeum.org.uk/event/dinner-discussion/
LOCATION:The Athenaeum Liverpool\, Church Alley\, Liverpool\, L1 3DD\, United Kingdom
CATEGORIES:Members Only Event
END:VEVENT
BEGIN:VEVENT
DTSTART;TZID=Europe/London:20221006T180000
DTEND;TZID=Europe/London:20221006T200000
DTSTAMP:20260421T125237
CREATED:20220921T144710Z
LAST-MODIFIED:20220929T105909Z
UID:10001036-1665079200-1665086400@theathenaeum.org.uk
SUMMARY:Stoicism Interest Group
DESCRIPTION:Join Proprietor Paul Clarke on a new adventure at the wonderful Athenaeum\, Liverpool. It’s an evening of debate and discussion around all things stoic\, where Paul will introduce the power of stoicism and critical thinking through a group that allows curious minds to challenge\, debate\, and reflect upon the practical application of philosophy in our daily lives. \nThe topics covered will be: \nThe origins of stoic philosophy \nFrom Zeno to Marcus Aurelius’ onwards. \nThe power of stoic philosophy \nUnderstanding the importance of knowing what is and what is not under your control\, both as on individual or within a team. \nThe application of stoic philosophy in your day-to-day life. \nUnearthing your potential. Understanding everything you are and everything you could be. \n  \nBook on our website or directly through the Concierge. Attendance is free. \n 
URL:https://theathenaeum.org.uk/event/stoicism-interest-group/
LOCATION:The Athenaeum Liverpool\, Church Alley\, Liverpool\, L1 3DD\, United Kingdom
END:VEVENT
END:VCALENDAR