BEGIN:VCALENDAR
VERSION:2.0
PRODID:-//The Athenaeum Liverpool - ECPv6.7.1//NONSGML v1.0//EN
CALSCALE:GREGORIAN
METHOD:PUBLISH
X-ORIGINAL-URL:https://theathenaeum.org.uk
X-WR-CALDESC:Events for The Athenaeum Liverpool
REFRESH-INTERVAL;VALUE=DURATION:PT1H
X-Robots-Tag:noindex
X-PUBLISHED-TTL:PT1H
BEGIN:VTIMEZONE
TZID:Europe/London
BEGIN:DAYLIGHT
TZOFFSETFROM:+0000
TZOFFSETTO:+0100
TZNAME:BST
DTSTART:20240331T010000
END:DAYLIGHT
BEGIN:STANDARD
TZOFFSETFROM:+0100
TZOFFSETTO:+0000
TZNAME:GMT
DTSTART:20241027T010000
END:STANDARD
END:VTIMEZONE
BEGIN:VEVENT
DTSTART;TZID=Europe/London:20240206T140000
DTEND;TZID=Europe/London:20240206T160000
DTSTAMP:20260421T160036
CREATED:20240118T113840Z
LAST-MODIFIED:20240118T113840Z
UID:10001356-1707228000-1707235200@theathenaeum.org.uk
SUMMARY:Sydney Gibbes: Tutor the Tsarevich
DESCRIPTION:Proprietor Ann Bates will be talking about her relative Charles Sydney Gibbes (1876-1963). An English teacher from Yorkshire\, Gibbes was hired by the Tsarina Alexandrova to improve her children’s English. He stayed with the imperial family through the Russian Revolution\, returning to England after their murder. His fascinating life has been the subject of several books including J C Trewin’s Tutor to the Tsarevich. Ann will draw ion this and other sources to shed an unusual light on one of the most written-about episodes in history. \nTicket price TBC.
URL:https://theathenaeum.org.uk/event/sydney-gibbes-tutor-the-tsarevich/
LOCATION:The Athenaeum Liverpool\, Church Alley\, Liverpool\, L1 3DD\, United Kingdom
END:VEVENT
BEGIN:VEVENT
DTSTART;TZID=Europe/London:20240209T180000
DTEND;TZID=Europe/London:20240209T223000
DTSTAMP:20260421T160036
CREATED:20231107T190326Z
LAST-MODIFIED:20240119T121304Z
UID:10001335-1707501600-1707517800@theathenaeum.org.uk
SUMMARY:'I Type\, I Die'\, Murder Mystery Evening
DESCRIPTION:It is 1987 and in the splendid surroundings of Liverpool’s Athenaeum Club\, a group of crime writers and their guests gather for an evening of celebration. Unfortunately\, at their last convention\, one of their number died in mysterious circumstances. Your mission\, if you choose to take it\, is to uncover the events leading to his demise and name his murderer. \nWe are pleased to welcome Wirral-based company The Assassin’s Breed to present this intriguing and entertaining event at the Athenaeum as part of this year’s Presidential programme. \nThe entertainment will begin with a short presentation describing the grisly events. Guests can then help themselves to the delicious buffet provided by our chefs and settle down to enjoy it in groups of 4-6 around the Newsroom. Members of the company (suspects) will join you to discuss the murder. This is your chance to quiz them and work out ‘whodunit’. If your table gets it right\, you can win a prize. \nLater\, the suspects will be gathered together and the murderer revealed. \nJoin us to while away a winter evening in the warm and friendly atmosphere of your club\, enjoying good food and company while you exercise your ‘little grey cells.’ \n6.00:  Arrivals in the Newsroom \n6.30:  Welcome and presentation \n7.00:  Buffet and your chance to meet the suspects \nCirca 9.30: The denouement \n10.30: Last orders at the bar \nDress Code: ‘Dress to Impress’ in the spirit of the 1980s. Although this is not strictly a formal event\, we encourage black tie for the gentlemen. \nPrice £35.  \nBook via the website or at reception.
URL:https://theathenaeum.org.uk/event/i-type-i-die-murder-mystery-evening/
LOCATION:The Athenaeum Liverpool\, Church Alley\, Liverpool\, L1 3DD\, United Kingdom
CATEGORIES:Members & Guests
END:VEVENT
END:VCALENDAR