BEGIN:VCALENDAR
VERSION:2.0
PRODID:-//The Athenaeum Liverpool - ECPv6.7.1//NONSGML v1.0//EN
CALSCALE:GREGORIAN
METHOD:PUBLISH
X-WR-CALNAME:The Athenaeum Liverpool
X-ORIGINAL-URL:https://theathenaeum.org.uk
X-WR-CALDESC:Events for The Athenaeum Liverpool
REFRESH-INTERVAL;VALUE=DURATION:PT1H
X-Robots-Tag:noindex
X-PUBLISHED-TTL:PT1H
BEGIN:VTIMEZONE
TZID:Europe/London
BEGIN:DAYLIGHT
TZOFFSETFROM:+0000
TZOFFSETTO:+0100
TZNAME:BST
DTSTART:20240331T010000
END:DAYLIGHT
BEGIN:STANDARD
TZOFFSETFROM:+0100
TZOFFSETTO:+0000
TZNAME:GMT
DTSTART:20241027T010000
END:STANDARD
END:VTIMEZONE
BEGIN:VEVENT
DTSTART;TZID=Europe/London:20240423T123000
DTEND;TZID=Europe/London:20240423T150000
DTSTAMP:20260421T155927
CREATED:20240315T145655Z
LAST-MODIFIED:20240418T202215Z
UID:10001363-1713875400-1713884400@theathenaeum.org.uk
SUMMARY:St George's Day Lunch 2024
DESCRIPTION:We celebrate St George’s Day with a delicious banquet in the Dining Room. Join us in the Newsroom from 12:30pm for reception drinks before a 4-course lunch including a selection of English cheeses and biscuits. White and red dress encouraged! \n£35 per person \nMenu \nStarter\nCream of Mushroom & Thyme Soup \nMain Course\nRoast Beef Sirloin\, Yorkshire Pudding\nTraditional trimmings \nDessert\nStrawberry Trifle
URL:https://theathenaeum.org.uk/event/10833/
LOCATION:The Athenaeum Liverpool\, Church Alley\, Liverpool\, L1 3DD\, United Kingdom
CATEGORIES:Members & Guests
END:VEVENT
BEGIN:VEVENT
DTSTART;TZID=Europe/London:20240423T183000
DTEND;TZID=Europe/London:20240423T223000
DTSTAMP:20260421T155927
CREATED:20230918T114124Z
LAST-MODIFIED:20240418T202441Z
UID:10001294-1713897000-1713911400@theathenaeum.org.uk
SUMMARY:Athenaeum Film Nights Presents: The Gay Divorcee
DESCRIPTION:The next in the series of classic films takes place on Tuesday 23rd April. The programme is being finalised by facilitator Dr Ian Cubbin and will be published shortly\, though the dates for this seasons film nights can be found below.   Guests gather in the Newsroom from 6:30pm ahead of supper at 7:00pm. The cinema will then open in the Wine Servery at 8:00pm. Sweets and treats will of course be served in the interval! \nBook your place now via the Members’ Area or through the Concierge. \nWednesday evening’s at 6:30pm \n11th October – Laughter in Paradise (1951) \n15th November – Major Barbara (1941) \n13th December – It Happened on 5th Avenue (1947) \n17th January – Murder She Said (1961) \n21st February – Hobson’s Choice (1954) \n20th March – Irish Film Night! (Audience choice of three) \nTuesday 23rd April – The Gay Divorcee ( 1934)*** originally wed 17th April
URL:https://theathenaeum.org.uk/event/athenaeum-film-nights-presents-7/
LOCATION:The Athenaeum Liverpool\, Church Alley\, Liverpool\, L1 3DD\, United Kingdom
CATEGORIES:Members & Guests
END:VEVENT
BEGIN:VEVENT
DTSTART;TZID=Europe/London:20240426T150000
DTEND;TZID=Europe/London:20240426T170000
DTSTAMP:20260421T155927
CREATED:20240417T113429Z
LAST-MODIFIED:20240417T113429Z
UID:10001377-1714143600-1714150800@theathenaeum.org.uk
SUMMARY:Reciprocal Celebration
DESCRIPTION:Calling all Athenaeum members! \nYou are cordially invited to attend a celebration in the Library Reading Room on Friday 26th April\, starting at 3:00pm. The occasion? Celebrating and learning more about the expansion of our reciprocal clubs list in recent months. \nJoin us for a glass of fizz before Proprietors Phillip Speakman and Philip Merry explain the who\, what\, where\, why and how of this important expansion that has taken place and the work that they have undertaken on behalf of the Athenaeum. They will then take us on a whistle stop tour of the world\, giving an introduction to these fantastic new clubs which are now accessible for our membership to enjoy! \nThis event is free of charge to Athenaeum members
URL:https://theathenaeum.org.uk/event/reciprocal-celebration/
LOCATION:The Athenaeum Liverpool\, Church Alley\, Liverpool\, L1 3DD\, United Kingdom
END:VEVENT
END:VCALENDAR