BEGIN:VCALENDAR
VERSION:2.0
PRODID:-//The Athenaeum Liverpool - ECPv6.7.1//NONSGML v1.0//EN
CALSCALE:GREGORIAN
METHOD:PUBLISH
X-WR-CALNAME:The Athenaeum Liverpool
X-ORIGINAL-URL:https://theathenaeum.org.uk
X-WR-CALDESC:Events for The Athenaeum Liverpool
REFRESH-INTERVAL;VALUE=DURATION:PT1H
X-Robots-Tag:noindex
X-PUBLISHED-TTL:PT1H
BEGIN:VTIMEZONE
TZID:Europe/London
BEGIN:DAYLIGHT
TZOFFSETFROM:+0000
TZOFFSETTO:+0100
TZNAME:BST
DTSTART:20240331T010000
END:DAYLIGHT
BEGIN:STANDARD
TZOFFSETFROM:+0100
TZOFFSETTO:+0000
TZNAME:GMT
DTSTART:20241027T010000
END:STANDARD
END:VTIMEZONE
BEGIN:VEVENT
DTSTART;TZID=Europe/London:20240521T173000
DTEND;TZID=Europe/London:20240521T193000
DTSTAMP:20260421T194116
CREATED:20240510T082447Z
LAST-MODIFIED:20240510T082752Z
UID:10001384-1716312600-1716319800@theathenaeum.org.uk
SUMMARY:History Group
DESCRIPTION:Join us for another meeting of the History Group. \nAttendance of this talk is free of charge.
URL:https://theathenaeum.org.uk/event/history-group-9/
LOCATION:The Athenaeum Liverpool\, Church Alley\, Liverpool\, L1 3DD\, United Kingdom
END:VEVENT
BEGIN:VEVENT
DTSTART;TZID=Europe/London:20240524T183000
DTEND;TZID=Europe/London:20240524T220000
DTSTAMP:20260421T194116
CREATED:20240502T090331Z
LAST-MODIFIED:20240510T095333Z
UID:10001380-1716575400-1716588000@theathenaeum.org.uk
SUMMARY:Athena Dining Evening
DESCRIPTION:Set to be one of the most glamorous nights of the year\, the Athena Dining Evening is all about elegant service\, and luxury cuisine in the magnificent surroundings of the Committee Room. \nAttendees will enjoy a reception drink in the Library Reading Room before taking their seats in the Committee Room for a 4-course dinner\, complete with tea & coffee (find full menu details below). The Newsroom bar will then be open for the remainder of the evening. \nBook now through the Member’s Area or directly with the Concierge. \nTickets: £100 \n\nStarter\nSeared Scottish Scallop\nCauliflower Parfait\, Keta Caviar \n-ooOoo- \nIntermediate\nVadouvan Spiced Sweetcorn Volute \nPickled Red Onion\, Succotash \nMain Course\nFillet Rossini\nDuck Parfait\, Spinach\, Truffled Wild Mushroom\nCeleriac Puree \n-ooOoo- \nDessert\nPassion Fruit Pannacotta\nMango Salsa \n-ooOoo- \nTea or Coffee \n  \nEvent Schedule \nWelcome Drinks & Canapés – 6:30pm in the Library Reading Room \nGuests guided to Committee Room – 7pm \nDinner Served – 7:05pm \nNewsroom Open after dinner – 10pm to 11pm
URL:https://theathenaeum.org.uk/event/athena-dining-evening/
LOCATION:The Athenaeum Liverpool\, Church Alley\, Liverpool\, L1 3DD\, United Kingdom
END:VEVENT
END:VCALENDAR