BEGIN:VCALENDAR
VERSION:2.0
PRODID:-//The Athenaeum Liverpool - ECPv6.7.1//NONSGML v1.0//EN
CALSCALE:GREGORIAN
METHOD:PUBLISH
X-ORIGINAL-URL:https://theathenaeum.org.uk
X-WR-CALDESC:Events for The Athenaeum Liverpool
REFRESH-INTERVAL;VALUE=DURATION:PT1H
X-Robots-Tag:noindex
X-PUBLISHED-TTL:PT1H
BEGIN:VTIMEZONE
TZID:Europe/London
BEGIN:DAYLIGHT
TZOFFSETFROM:+0000
TZOFFSETTO:+0100
TZNAME:BST
DTSTART:20240331T010000
END:DAYLIGHT
BEGIN:STANDARD
TZOFFSETFROM:+0100
TZOFFSETTO:+0000
TZNAME:GMT
DTSTART:20241027T010000
END:STANDARD
END:VTIMEZONE
BEGIN:VEVENT
DTSTART;TZID=Europe/London:20240912T080000
DTEND;TZID=Europe/London:20241130T170000
DTSTAMP:20260419T160107
CREATED:20240708T120151Z
LAST-MODIFIED:20240708T120231Z
UID:10001401-1726128000-1732986000@theathenaeum.org.uk
SUMMARY:Smithdown Social Arts Hub Exhibition
DESCRIPTION:We are delighted to announce the Institution will be collaborating with Smithdown Social Arts Hub in hosting a unique exhibition here at the Club between 12th September and 30th November. \nFeaturing approximately 60 pieces from local artists\, the exhibition will be launched at a Private Viewing for Proprietors on 12th September\, ahead of a public launch on Friday 13th September. We will then offer ticketed viewings to the public on Thursday and Friday evenings (subject to events taking place). \nThe exhibition will take place in Dining Room on the third floor and will be available for Proprietors to view throughout\, save for when events are taking place. \nFrom September 2nd until November 30th\, we are pleased to be able to offer Dining Room services in the Newsroom\, and we’re thrilled to expand our offering and service times throughout the exhibition. Between 12:00pm and 7:30pm members and guests will be able to dine off a specially curated menu which will change weekly. This will be in place each day we’re open\, including Saturdays! \nMembers are encouraged to book tables in advance to help the team\, though walk ins are of course accepted subject to availability. Tables booked before 12pm on the day of the booking can be booked for as late as 7:30pm\, with the final opening for walk-ins being 7:00pm. \nAt the moment\, Dining Room services as standard operate between 12:30pm and 2:00pm Tuesday-Friday\, but we’re really excited to widen this offering in the Newsroom whilst the exhibition takes place. \nAhead of September\, the popular summer buffet returns from Tuesday 6th August and will operate throughout August in the Newsroom. This will allow for much needed maintenance to take place on the dining room ceiling\, which needs to be stripped back and replastered in placed following water ingress. \nIf you have any questions about this\, please address them to the General Manager or the Club Secretary.
URL:https://theathenaeum.org.uk/event/smithdown-social-arts-hub/
LOCATION:The Athenaeum Liverpool\, Church Alley\, Liverpool\, L1 3DD\, United Kingdom
END:VEVENT
BEGIN:VEVENT
DTSTART;TZID=Europe/London:20241009T143000
DTEND;TZID=Europe/London:20241009T160000
DTSTAMP:20260419T160107
CREATED:20240925T163654Z
LAST-MODIFIED:20241004T143551Z
UID:10001414-1728484200-1728489600@theathenaeum.org.uk
SUMMARY:History Group with Christina Clarke
DESCRIPTION:Mrs Christina Clarke who will give us an illustrated talk on Charkes Renee Macintosh\, Scottish architect\, designer\, writer\, artist and colourist. Members will remember Christina’s engrossing talk on the History of the Walker Art Gallery last March. \nThis talk may be of interest also to the members of the History of Art group\, but is free of charge to all Members and their guests. \nThis is a joint meeting of the History Group & The History of Arts Group and will take place in the Reading Room. \n  \n 
URL:https://theathenaeum.org.uk/event/history-group-with-christina-clarke/
LOCATION:The Athenaeum Liverpool\, Church Alley\, Liverpool\, L1 3DD\, United Kingdom
CATEGORIES:Members & Guests
END:VEVENT
BEGIN:VEVENT
DTSTART;TZID=Europe/London:20241010T183000
DTEND;TZID=Europe/London:20241010T230000
DTSTAMP:20260419T160107
CREATED:20240821T180352Z
LAST-MODIFIED:20241008T145151Z
UID:10001411-1728585000-1728601200@theathenaeum.org.uk
SUMMARY:Meet the President: Welcoming Professor George King
DESCRIPTION:Join us on Thursday 10th October to welcome Professor George King at his inaugural event as President of the Athenaeum. \nExpect an enjoyable evening with fizz\, food\, music and perhaps a short speech or two. \nItinerary: \n18:00-19:00 Drinks Reception \n19:00 Food served \n20:00 Entertainment \n22:45 Last Orders at the Bar \nBook your place now with via the Concierge Desk or through the Members’ Area. \n 
URL:https://theathenaeum.org.uk/event/meet-the-president-welcoming-professor-george-king/
LOCATION:The Athenaeum Liverpool\, Church Alley\, Liverpool\, L1 3DD\, United Kingdom
CATEGORIES:Members & Guests
END:VEVENT
END:VCALENDAR